BEGIN:VCALENDAR
VERSION:2.0
PRODID:-//Manzanita Oregon Visitor Center - ECPv6.15.20//NONSGML v1.0//EN
CALSCALE:GREGORIAN
METHOD:PUBLISH
X-WR-CALNAME:Manzanita Oregon Visitor Center
X-ORIGINAL-URL:https://visitmanzanita.org
X-WR-CALDESC:Events for Manzanita Oregon Visitor Center
REFRESH-INTERVAL;VALUE=DURATION:PT1H
X-Robots-Tag:noindex
X-PUBLISHED-TTL:PT1H
BEGIN:VTIMEZONE
TZID:America/Los_Angeles
BEGIN:DAYLIGHT
TZOFFSETFROM:-0800
TZOFFSETTO:-0700
TZNAME:PDT
DTSTART:20220313T100000
END:DAYLIGHT
BEGIN:STANDARD
TZOFFSETFROM:-0700
TZOFFSETTO:-0800
TZNAME:PST
DTSTART:20221106T090000
END:STANDARD
BEGIN:DAYLIGHT
TZOFFSETFROM:-0800
TZOFFSETTO:-0700
TZNAME:PDT
DTSTART:20230312T100000
END:DAYLIGHT
BEGIN:STANDARD
TZOFFSETFROM:-0700
TZOFFSETTO:-0800
TZNAME:PST
DTSTART:20231105T090000
END:STANDARD
BEGIN:DAYLIGHT
TZOFFSETFROM:-0800
TZOFFSETTO:-0700
TZNAME:PDT
DTSTART:20240310T100000
END:DAYLIGHT
BEGIN:STANDARD
TZOFFSETFROM:-0700
TZOFFSETTO:-0800
TZNAME:PST
DTSTART:20241103T090000
END:STANDARD
END:VTIMEZONE
BEGIN:VEVENT
DTSTART;TZID=America/Los_Angeles:20230318T104500
DTEND;TZID=America/Los_Angeles:20230318T114500
DTSTAMP:20260421T122614
CREATED:20230307T170145Z
LAST-MODIFIED:20230318T200554Z
UID:10000019-1679136300-1679139900@visitmanzanita.org
SUMMARY:Dying To Know
DESCRIPTION:A new Health & Wellness class designed to prepare people who are planning to take a loved one home on either Hospice or Palliative care; or for people who are currently caring for someone in this end of life stage\, and are feeling overwhelmed\, seeking more guidance and support. \nThis is not a gloom and doom class! Much to the contrary\, this 5-week class is about love\, bonding and empowerment! \nMarch 4-April 1 \nSaturdays\, 10:45-11:45 a.m. \nTillamook YMCA \n 
URL:https://visitmanzanita.org/event/dying-to-know-2/
LOCATION:Tillamook County Family YMCA\, 610 Stillwell Ave\, Tillamook\, OR\, 97141\, United States
CATEGORIES:Classes and Workshops,Community,Education
END:VEVENT
BEGIN:VEVENT
DTSTART;TZID=America/Los_Angeles:20230317T100000
DTEND;TZID=America/Los_Angeles:20230317T110000
DTSTAMP:20260421T122614
CREATED:20230307T170154Z
LAST-MODIFIED:20230317T195701Z
UID:10000056-1679047200-1679050800@visitmanzanita.org
SUMMARY:Tillamook Main Library Storytime: Mother Goose on the Loose
DESCRIPTION:Mother Goose on the Loose (MGOL) on Fri @ 10am; developmentally appropriate for birth to 24mos; rhythm\, rhymes\, instruments\, scarves and puppets! There is no expectation that your children will sit still or be quiet. It’s not developmentally appropriate to ask them to.
URL:https://visitmanzanita.org/event/tillamook-main-library-storytime-mother-goose-on-the-loose-2/
LOCATION:Tillamook Main Library\, Tillamook\, 1716 3rd St\, Tillamook\, OR\, 97141\, United States
CATEGORIES:Education,Family Fun
ATTACH;FMTTYPE=image/png:https://visitmanzanita.org/wp-content/uploads/2023/03/TCL-transparent-logo-1-BY46kX.tmp_.png
ORGANIZER;CN="Melanie Hetrick":MAILTO:mhetrick@co.tillamook.or.us
END:VEVENT
BEGIN:VEVENT
DTSTART;TZID=America/Los_Angeles:20230315T150000
DTEND;TZID=America/Los_Angeles:20230315T160000
DTSTAMP:20260421T122614
CREATED:20230309T171928Z
LAST-MODIFIED:20230314T192034Z
UID:10000076-1678892400-1678896000@visitmanzanita.org
SUMMARY:Garibaldi Branch Library Book Club
DESCRIPTION:Join us for a fun conversation about all things BOOKS! \nWe’ll meet in the library immediately following the TCL Community Listening Session.
URL:https://visitmanzanita.org/event/garibaldi-branch-library-book-club/
LOCATION:Garibaldi Branch Library\, 107 6th St\, Garibaldi
CATEGORIES:Classes and Workshops,Community,Education
ATTACH;FMTTYPE=image/jpeg:https://visitmanzanita.org/wp-content/uploads/2023/03/Garibaldi-Branch-Book-Club-PeSMM3.tmp_.jpg
END:VEVENT
BEGIN:VEVENT
DTSTART;TZID=America/Los_Angeles:20230315T100000
DTEND;TZID=America/Los_Angeles:20230315T110000
DTSTAMP:20260421T122614
CREATED:20230307T170154Z
LAST-MODIFIED:20230314T192034Z
UID:10000055-1678874400-1678878000@visitmanzanita.org
SUMMARY:Tillamook Main Library Storytime: Preschool
DESCRIPTION:Preschool storytime (PS) on Wed @ 10; developmentally appropriate for 3-5 yos; music\, stories\, interactive play and lots of laughs! In this class little begin to learn about a leader at the front of the room\, how to hold their wiggles\, listening and sitting still. When a child is transitioning from TT to PS my expectation is that they will sit for 5-10 minutes and then they might go play. I do not force them to sit still if they are not ready to. \nA couple of things about the children’s room that might set you at ease: \n\nThere is no expectation that it will be a quiet zone; kids are kids and they are allowed to act like themselves in the children’s room.\nOnly 2 hard and fast rules: No Running & No Screaming.\nIf your child needs a snack\, feed them!
URL:https://visitmanzanita.org/event/tillamook-main-library-storytime-preschool-2/
LOCATION:Tillamook Main Library\, Tillamook\, 1716 3rd St\, Tillamook\, OR\, 97141\, United States
CATEGORIES:Education,Family Fun
ATTACH;FMTTYPE=image/png:https://visitmanzanita.org/wp-content/uploads/2023/03/TCL-transparent-logo-F9b5JZ.tmp_.png
ORGANIZER;CN="Melanie Hetrick":MAILTO:mhetrick@co.tillamook.or.us
END:VEVENT
BEGIN:VEVENT
DTSTART;TZID=America/Los_Angeles:20230314T100000
DTEND;TZID=America/Los_Angeles:20230314T110000
DTSTAMP:20260421T122614
CREATED:20230307T170145Z
LAST-MODIFIED:20230314T192034Z
UID:10000016-1678788000-1678791600@visitmanzanita.org
SUMMARY:Tillamook Main Library Storytime: Terrific Twos
DESCRIPTION:Terrific Twos (TT) on Tues @ 10am; developmentally appropriate for 24-36mos; bubbles\, balls\, parachute & instruments! There is no expectation that your children will sit still or be quiet. It’s not developmentally appropriate to ask them to. \nA couple of things about the children’s room that might set you at ease: \n\nThere is no expectation that it will be a quiet zone; kids are kids and they are allowed to act themselves in the children’s room.\nOnly 2 hard and fast rules: No Running & No Screaming.\nIf your child needs a snack\, feed them!
URL:https://visitmanzanita.org/event/tillamook-main-library-storytime-terrific-twos-2/
LOCATION:Tillamook Main Library\, Tillamook\, 1716 3rd St\, Tillamook\, OR\, 97141\, United States
CATEGORIES:Education,Family Fun
ATTACH;FMTTYPE=image/jpeg:https://visitmanzanita.org/wp-content/uploads/2023/03/TCL-white-cpy9Kc.tmp_.jpg
ORGANIZER;CN="Melanie Hetrick":MAILTO:mhetrick@co.tillamook.or.us
END:VEVENT
BEGIN:VEVENT
DTSTART;TZID=America/Los_Angeles:20230311T150000
DTEND;TZID=America/Los_Angeles:20230311T170000
DTSTAMP:20260421T122614
CREATED:20230307T170153Z
LAST-MODIFIED:20230311T175141Z
UID:10000054-1678546800-1678554000@visitmanzanita.org
SUMMARY:Oregon Humanities Discussion Project: Housing and Belonging
DESCRIPTION:Housing and Belonging is a free conversation with Paul Susi on Saturday March 11th\, 2023 at 3:00 PM. This event is hosted by Tillamook County Library and sponsored by Oregon Humanities. RSVP to attend by calling 503-842-4792 and speaking to a library staff person. \n  \nHousing and homelessness is a visible and divisive issue in local media\, in politics\, and across different communities within our state. Many of us were experiencing housing instability and economic uncertainty even during the “boom” times before the current crisis. This conversation will explore common assumptions and perspectives about the experience of houselessness/homelessness and seek to answer the question: how do we decide who “belongs” in our community?
URL:https://visitmanzanita.org/event/oregon-humanities-discussion-project-housing-and-belonging/
LOCATION:OR
CATEGORIES:Community,Education
ATTACH;FMTTYPE=image/jpeg:https://visitmanzanita.org/wp-content/uploads/2023/03/OHM-Housing-Belonging-031123-83IDAs.tmp_.jpg
ORGANIZER;CN="Tillamook County Library":MAILTO:dallgeie@co.tillamook.or.us
END:VEVENT
BEGIN:VEVENT
DTSTART;TZID=America/Los_Angeles:20230311T104500
DTEND;TZID=America/Los_Angeles:20230311T114500
DTSTAMP:20260421T122614
CREATED:20230307T170140Z
LAST-MODIFIED:20230311T175141Z
UID:10000011-1678531500-1678535100@visitmanzanita.org
SUMMARY:Dying To Know
DESCRIPTION:A new Health & Wellness class designed to prepare people who are planning to take a loved one home on either Hospice or Palliative care; or for people who are currently caring for someone in this end of life stage\, and are feeling overwhelmed\, seeking more guidance and support. \nThis is not a gloom and doom class! Much to the contrary\, this 5-week class is about love\, bonding and empowerment! \nMarch 4-April 1 \nSaturdays\, 10:45-11:45 a.m. \nTillamook YMCA \n 
URL:https://visitmanzanita.org/event/dying-to-know/
LOCATION:Tillamook County Family YMCA\, 610 Stillwell Ave\, Tillamook\, OR\, 97141\, United States
CATEGORIES:Classes and Workshops,Community,Education
END:VEVENT
BEGIN:VEVENT
DTSTART;TZID=America/Los_Angeles:20230310T100000
DTEND;TZID=America/Los_Angeles:20230310T110000
DTSTAMP:20260421T122614
CREATED:20230307T170135Z
LAST-MODIFIED:20230310T175008Z
UID:10000008-1678442400-1678446000@visitmanzanita.org
SUMMARY:Tillamook Main Library Storytime: Mother Goose on the Loose
DESCRIPTION:Mother Goose on the Loose (MGOL) on Fri @ 10am; developmentally appropriate for birth to 24mos; rhythm\, rhymes\, instruments\, scarves and puppets! There is no expectation that your children will sit still or be quiet. It’s not developmentally appropriate to ask them to.
URL:https://visitmanzanita.org/event/tillamook-main-library-storytime-mother-goose-on-the-loose/
LOCATION:Tillamook Main Library\, Tillamook\, 1716 3rd St\, Tillamook\, OR\, 97141\, United States
CATEGORIES:Education,Family Fun
ATTACH;FMTTYPE=image/png:https://visitmanzanita.org/wp-content/uploads/2023/03/TCL-transparent-logo-1-BY46kX.tmp_.png
ORGANIZER;CN="Melanie Hetrick":MAILTO:mhetrick@co.tillamook.or.us
END:VEVENT
BEGIN:VEVENT
DTSTART;TZID=America/Los_Angeles:20230310T080000
DTEND;TZID=America/Los_Angeles:20230310T170000
DTSTAMP:20260421T122614
CREATED:20230307T170153Z
LAST-MODIFIED:20230310T175008Z
UID:10000053-1678435200-1678467600@visitmanzanita.org
SUMMARY:Public Notice-PHA Plan
DESCRIPTION:The Board of Commissioners for the Northwest Oregon Housing Authority is seeking public comments on its proposed FY 2023 Annual Plan. \nWritten comments must be received no later than 2:00 pm PST on March 29\, 2023. \nThe Board will convene a Public Meeting on Thursday\, March 30\, 2023 at 9:00 am\, where the written comments will be introduced as well as verbal comments accepted. \nThe public meeting will be held virtually.  A copy of the plan and a link to the meeting are posted at www.nwoha.org. \nTo receive a printed copy of the plan\, please contact us at (503)861-0119\, (800) 927-9275 (TTD) or receptionist@nwoha.org. \nCopies of the plan have also been provided to all public library branches in Clatsop\, Columbia and Tillamook Counties. \n  \n 
URL:https://visitmanzanita.org/event/public-notice-pha-plan/
LOCATION:OR
CATEGORIES:Community,Education
ATTACH;FMTTYPE=image/png:https://visitmanzanita.org/wp-content/uploads/2023/03/NOHA-Logo-R6vn0e.tmp_.png
ORGANIZER;CN="Northwest Oregon Housing Authority":MAILTO:receptionist@nwoha.org
END:VEVENT
BEGIN:VEVENT
DTSTART;TZID=America/Los_Angeles:20230308T190000
DTEND;TZID=America/Los_Angeles:20230308T200000
DTSTAMP:20260421T122614
CREATED:20230307T170131Z
LAST-MODIFIED:20230308T170533Z
UID:10000006-1678302000-1678305600@visitmanzanita.org
SUMMARY:Tillamook County Library Strategic Plan Virtual Listening Sessions
DESCRIPTION:Three virtual listening sessions will be held through Zoom to allow community members to provide feedback for the library’s strategic planning process. These sessions are limited to 14 attendees and can spots can be reserved by calling the library at 503-842-4792
URL:https://visitmanzanita.org/event/tillamook-county-library-strategic-plan-virtual-listening-sessions/
LOCATION:OR
CATEGORIES:Business,Community,Education
ATTACH;FMTTYPE=image/png:https://visitmanzanita.org/wp-content/uploads/2023/03/Community-Listening-Virtual-D2FWb9.tmp_.png
ORGANIZER;CN="Tillamook County Library":MAILTO:dallgeie@co.tillamook.or.us
END:VEVENT
BEGIN:VEVENT
DTSTART;TZID=America/Los_Angeles:20230308T100000
DTEND;TZID=America/Los_Angeles:20230308T110000
DTSTAMP:20260421T122614
CREATED:20230307T170129Z
LAST-MODIFIED:20230308T170533Z
UID:10000005-1678269600-1678273200@visitmanzanita.org
SUMMARY:Tillamook Main Library Storytime: Preschool
DESCRIPTION:Preschool storytime (PS) on Wed @ 10; developmentally appropriate for 3-5 yos; music\, stories\, interactive play and lots of laughs! In this class little begin to learn about a leader at the front of the room\, how to hold their wiggles\, listening and sitting still. When a child is transitioning from TT to PS my expectation is that they will sit for 5-10 minutes and then they might go play. I do not force them to sit still if they are not ready to. \nA couple of things about the children’s room that might set you at ease: \n\nThere is no expectation that it will be a quiet zone; kids are kids and they are allowed to act like themselves in the children’s room.\nOnly 2 hard and fast rules: No Running & No Screaming.\nIf your child needs a snack\, feed them!
URL:https://visitmanzanita.org/event/tillamook-main-library-storytime-preschool/
LOCATION:Tillamook Main Library\, Tillamook\, 1716 3rd St\, Tillamook\, OR\, 97141\, United States
CATEGORIES:Education,Family Fun
ATTACH;FMTTYPE=image/png:https://visitmanzanita.org/wp-content/uploads/2023/03/TCL-transparent-logo-F9b5JZ.tmp_.png
ORGANIZER;CN="Melanie Hetrick":MAILTO:mhetrick@co.tillamook.or.us
END:VEVENT
BEGIN:VEVENT
DTSTART;TZID=America/Los_Angeles:20230307T180000
DTEND;TZID=America/Los_Angeles:20230307T200000
DTSTAMP:20260421T122614
CREATED:20230307T170128Z
LAST-MODIFIED:20230307T170128Z
UID:10000004-1678212000-1678219200@visitmanzanita.org
SUMMARY:Science Pub:  “Trees\, Water and Family”
DESCRIPTION:Nestucca\, Neskowin\, and Sand Lake Watersheds Council (NNSLWC)\, Pelican Brewing Company\, and Hebo Stewardship Group are hosting a Science Pub event on March 7th titled: “Trees\, Water and Family” presented by Dave Wells of Oregon Natural Forestry.\n\nDave Wells holds a Bachelor of Science in Forestry from the University of Washington. After graduation\, he moved to Tillamook County in 1978 and began his work for the Oregon Department of Forestry. Currently\, he is teaching credit and community education classes at Tillamook Bay Community College and is helping non-industrial private forest landowners through his business\, Oregon Natural Forestry.\n\nDuring the Science Pub event\, Dave Wells will answer the question\, what does the family have to do with the connection between water\, trees\, and fish? He will explain how the power of the story can help us explore those connections and how they can be observed through the changes to the Oregon Forest Practices Act as a result of the Private Forest Accord. He will show us how the water\, tree\, and fish connection is going to be changing as a result of the cooperative work of the forest family community.\n\nThe event is free and open to the public. Beverages and food will be available for purchase at Pelican Brewing Company. Please come join us for the evening!
URL:https://visitmanzanita.org/event/science-pub-trees-water-and-family/
LOCATION:Pelican Brewing – Pacific City\, 33180 Cape Kiwanda Dr\, Pacific City\, 97135
CATEGORIES:Community,Education,Festivals and Events
ATTACH;FMTTYPE=image/jpeg:https://visitmanzanita.org/wp-content/uploads/2023/03/Science-Pub-March-7th-Flyer-Cx5Aa6.tmp_.jpg
ORGANIZER;CN="Nestucca%2C Neskowin%2C and Sand Lake Watersheds Council (NNSLWC)":MAILTO:nnwc2@nestuccawaters.org
END:VEVENT
BEGIN:VEVENT
DTSTART;TZID=America/Los_Angeles:20230307T180000
DTEND;TZID=America/Los_Angeles:20230307T190000
DTSTAMP:20260421T122614
CREATED:20230307T170127Z
LAST-MODIFIED:20230307T170127Z
UID:10000003-1678212000-1678215600@visitmanzanita.org
SUMMARY:Tillamook County Library Strategic Plan Listening Sessions @ North Tillamook Branch
DESCRIPTION:The library is hosting a strategic plan listening session at the North Tillamook Branch Library in Manzanita. This event will include a short presentation about the library’s strategic planning effort followed by a facilitated conversation about community needs and how the library can play a part in supporting the community.
URL:https://visitmanzanita.org/event/tillamook-county-library-strategic-plan-listening-sessions-north-tillamook-branch/
LOCATION:North Tillamook Branch Library\, 571 Laneda Ave.\, Manzanita\, OR\, 97130\, United States
CATEGORIES:Community,Education
ATTACH;FMTTYPE=image/jpeg:https://visitmanzanita.org/wp-content/uploads/2023/03/Community-Listening-TZ-vzA4jv.tmp_.jpg
ORGANIZER;CN="Tillamook County Library":MAILTO:dallgeie@co.tillamook.or.us
END:VEVENT
BEGIN:VEVENT
DTSTART;TZID=America/Los_Angeles:20230307T100000
DTEND;TZID=America/Los_Angeles:20230307T110000
DTSTAMP:20260421T122614
CREATED:20230307T170124Z
LAST-MODIFIED:20230307T170124Z
UID:10000001-1678183200-1678186800@visitmanzanita.org
SUMMARY:Tillamook Main Library Storytime: Terrific Twos
DESCRIPTION:Terrific Twos (TT) on Tues @ 10am; developmentally appropriate for 24-36mos; bubbles\, balls\, parachute & instruments! There is no expectation that your children will sit still or be quiet. It’s not developmentally appropriate to ask them to. \nA couple of things about the children’s room that might set you at ease: \n\nThere is no expectation that it will be a quiet zone; kids are kids and they are allowed to act themselves in the children’s room.\nOnly 2 hard and fast rules: No Running & No Screaming.\nIf your child needs a snack\, feed them!
URL:https://visitmanzanita.org/event/tillamook-main-library-storytime-terrific-twos/
LOCATION:Tillamook Main Library\, Tillamook\, 1716 3rd St\, Tillamook\, OR\, 97141\, United States
CATEGORIES:Education,Family Fun
ATTACH;FMTTYPE=image/jpeg:https://visitmanzanita.org/wp-content/uploads/2023/03/TCL-white-cpy9Kc.tmp_.jpg
ORGANIZER;CN="Melanie Hetrick":MAILTO:mhetrick@co.tillamook.or.us
END:VEVENT
END:VCALENDAR