BEGIN:VCALENDAR
VERSION:2.0
PRODID:-//Manzanita Oregon Visitor Center - ECPv6.15.20//NONSGML v1.0//EN
CALSCALE:GREGORIAN
METHOD:PUBLISH
X-WR-CALNAME:Manzanita Oregon Visitor Center
X-ORIGINAL-URL:https://visitmanzanita.org
X-WR-CALDESC:Events for Manzanita Oregon Visitor Center
REFRESH-INTERVAL;VALUE=DURATION:PT1H
X-Robots-Tag:noindex
X-PUBLISHED-TTL:PT1H
BEGIN:VTIMEZONE
TZID:America/Los_Angeles
BEGIN:DAYLIGHT
TZOFFSETFROM:-0800
TZOFFSETTO:-0700
TZNAME:PDT
DTSTART:20220313T100000
END:DAYLIGHT
BEGIN:STANDARD
TZOFFSETFROM:-0700
TZOFFSETTO:-0800
TZNAME:PST
DTSTART:20221106T090000
END:STANDARD
BEGIN:DAYLIGHT
TZOFFSETFROM:-0800
TZOFFSETTO:-0700
TZNAME:PDT
DTSTART:20230312T100000
END:DAYLIGHT
BEGIN:STANDARD
TZOFFSETFROM:-0700
TZOFFSETTO:-0800
TZNAME:PST
DTSTART:20231105T090000
END:STANDARD
BEGIN:DAYLIGHT
TZOFFSETFROM:-0800
TZOFFSETTO:-0700
TZNAME:PDT
DTSTART:20240310T100000
END:DAYLIGHT
BEGIN:STANDARD
TZOFFSETFROM:-0700
TZOFFSETTO:-0800
TZNAME:PST
DTSTART:20241103T090000
END:STANDARD
END:VTIMEZONE
BEGIN:VEVENT
DTSTART;TZID=America/Los_Angeles:20230403T190000
DTEND;TZID=America/Los_Angeles:20230403T210000
DTSTAMP:20260419T100252
CREATED:20230307T170150Z
LAST-MODIFIED:20230320T202319Z
UID:10000034-1680548400-1680555600@visitmanzanita.org
SUMMARY:Tillamook City Council meeting
DESCRIPTION:The City Council meets on the first and third Monday of each month at the City Hall. In the event of a holiday\, the meeting shall take place the day following or on a day agreed upon by the Council at the meeting prior to the holiday. \nThis is a public meeting per ORS chapter 192. The City Council reserves the right to call an executive session per ORS 192.660. City hall is handicap accessible. Please contact the office of the City Manager should special accommodations be required. Citizens with visual or manual impairments may contact the Oregon Relay Service by phoning 1-800-648-3458 (TDD) or 1-800-848-4442 (voice). The city of Tillamook is an equal opportunity provider and employer.
URL:https://visitmanzanita.org/event/tillamook-city-council-meeting-2/
LOCATION:Tillamook City Hall\, 210 Laurel Avenue\, Tillamook\, OR\, 97141\, United States
CATEGORIES:Public Meetings
ATTACH;FMTTYPE=image/jpeg:https://visitmanzanita.org/wp-content/uploads/2023/03/City-Hall-Tillamook-City-scaled-wA4RCh.tmp_.jpg
ORGANIZER;CN="City of Tillamook":MAILTO:ngeorge@tillamookor.gov
END:VEVENT
BEGIN:VEVENT
DTSTART;TZID=America/Los_Angeles:20230417T190000
DTEND;TZID=America/Los_Angeles:20230417T210000
DTSTAMP:20260419T100252
CREATED:20230307T170153Z
LAST-MODIFIED:20230417T053826Z
UID:10000042-1681758000-1681765200@visitmanzanita.org
SUMMARY:Tillamook City Council meeting
DESCRIPTION:The City Council meets on the first and third Monday of each month at the City Hall. In the event of a holiday\, the meeting shall take place the day following or on a day agreed upon by the Council at the meeting prior to the holiday. \nThis is a public meeting per ORS chapter 192. The City Council reserves the right to call an executive session per ORS 192.660. City hall is handicap accessible. Please contact the office of the City Manager should special accommodations be required. Citizens with visual or manual impairments may contact the Oregon Relay Service by phoning 1-800-648-3458 (TDD) or 1-800-848-4442 (voice). The city of Tillamook is an equal opportunity provider and employer.
URL:https://visitmanzanita.org/event/tillamook-city-council-meeting-3/
LOCATION:Tillamook City Hall\, 210 Laurel Avenue\, Tillamook\, OR\, 97141\, United States
CATEGORIES:Public Meetings
ATTACH;FMTTYPE=image/jpeg:https://visitmanzanita.org/wp-content/uploads/2023/03/City-Hall-Tillamook-City-scaled-wA4RCh.tmp_.jpg
ORGANIZER;CN="City of Tillamook":MAILTO:ngeorge@tillamookor.gov
END:VEVENT
BEGIN:VEVENT
DTSTART;TZID=America/Los_Angeles:20230418T080000
DTEND;TZID=America/Los_Angeles:20230418T090000
DTSTAMP:20260419T100252
CREATED:20230307T170153Z
LAST-MODIFIED:20230418T054638Z
UID:10000043-1681804800-1681808400@visitmanzanita.org
SUMMARY:Mornings on Main Street
DESCRIPTION:Join the Chamber for our monthly neighbor chat\, an informal coffee and discussion of things happening around town. Conversations range from events to new business opening and who is looking for help. This is a great opportunity to get in touch with our business and retail community\, as well as many of the non-profits\, government officials\, service groups and community leaders. Conversations are always casual and fun\, and there is always plenty of coffee and some breakfast treats. Doors open at 8 a.m.\, and typically come to an end by 9 a.m. Feel free to swing in at any time within the hour. We would be happy to see you pop in. \n\nMornings on Main Street is proudly sponsored by the Tillamook branch of Columbia Bank.
URL:https://visitmanzanita.org/event/mornings-on-main-street-2/
LOCATION:Tillamook Area Chamber of Commerce\, 208 Main Ave.\, Tillamook\, OR\, 97141\, United States
CATEGORIES:Business,Community,Public Meetings
ATTACH;FMTTYPE=image/png:https://visitmanzanita.org/wp-content/uploads/2023/03/MoMS-1-HJ8n2t.tmp_.png
END:VEVENT
BEGIN:VEVENT
DTSTART;TZID=America/Los_Angeles:20230418T180000
DTEND;TZID=America/Los_Angeles:20230418T193000
DTSTAMP:20260419T100252
CREATED:20230409T043538Z
LAST-MODIFIED:20230418T054638Z
UID:10000103-1681840800-1681846200@visitmanzanita.org
SUMMARY:COMMUNITY CONVERSATION: Let’s Talk about Community Safety
DESCRIPTION:April is Sexual Assault Awareness Month. \nJoin us to learn about \nTides of Change and the local partnerships that help people find the resources they need. \nHOT TOPICS -What safety issues are you concerned about? \nLocal organizations\, including Tillamook Police Department\, Tillamook Sheriff’s Office\, CARE\, Tides of Change\, and Tillamook Family Counseling Center will be available to talk about resources and community programs that are available. \nLet’s Talk …
URL:https://visitmanzanita.org/event/community-conversation-lets-talk-about-community-safety/
LOCATION:Tillamook Bay Community College\, 4301 3rd St\, Tillamook\, OR\, 97141\, United States
CATEGORIES:Community,Education,Public Meetings
ATTACH;FMTTYPE=image/jpeg:https://visitmanzanita.org/wp-content/uploads/2023/04/Community-ConversationLetsTalkaboutCommunitySafety4.18-page-001-scaled-WUNllN.tmp_.jpg
ORGANIZER;CN="Tillamook County Pioneer":MAILTO:editor@tillamookcountypioneer.net
END:VEVENT
BEGIN:VEVENT
DTSTART;TZID=America/Los_Angeles:20230418T180000
DTEND;TZID=America/Los_Angeles:20230418T193000
DTSTAMP:20260419T100252
CREATED:20230413T045234Z
LAST-MODIFIED:20230418T054638Z
UID:10000139-1681840800-1681846200@visitmanzanita.org
SUMMARY:Community Conversations
DESCRIPTION:Let’s talk about community safety.\nTuesday\, April 18\, from 6:00 – 7:30 PM\nTillamook Bay Community College\, Room 214/215\nJoin us to learn about Tides of Change and the local partnerships that help people in our community get the resources they need\, and discuss any safety issues you feel concerned with.
URL:https://visitmanzanita.org/event/community-conversations/
LOCATION:Tillamook Bay Community College\, 4301 3rd St\, Tillamook\, OR\, 97141\, United States
CATEGORIES:Community,Education,Public Meetings
ATTACH;FMTTYPE=image/jpeg:https://visitmanzanita.org/wp-content/uploads/2023/04/Community-ConversationLetsTalkaboutCommunitySafety4.18-page-001-1-scaled-ZwPy9x.tmp_.jpg
ORGANIZER;CN="Tillamook Bay Community College":MAILTO:miagibson@tillamookbaycc.edu
END:VEVENT
END:VCALENDAR