BEGIN:VCALENDAR
VERSION:2.0
PRODID:-//Manzanita Oregon Visitor Center - ECPv6.15.20//NONSGML v1.0//EN
CALSCALE:GREGORIAN
METHOD:PUBLISH
X-ORIGINAL-URL:https://visitmanzanita.org
X-WR-CALDESC:Events for Manzanita Oregon Visitor Center
REFRESH-INTERVAL;VALUE=DURATION:PT1H
X-Robots-Tag:noindex
X-PUBLISHED-TTL:PT1H
BEGIN:VTIMEZONE
TZID:America/Los_Angeles
BEGIN:DAYLIGHT
TZOFFSETFROM:-0800
TZOFFSETTO:-0700
TZNAME:PDT
DTSTART:20220313T100000
END:DAYLIGHT
BEGIN:STANDARD
TZOFFSETFROM:-0700
TZOFFSETTO:-0800
TZNAME:PST
DTSTART:20221106T090000
END:STANDARD
BEGIN:DAYLIGHT
TZOFFSETFROM:-0800
TZOFFSETTO:-0700
TZNAME:PDT
DTSTART:20230312T100000
END:DAYLIGHT
BEGIN:STANDARD
TZOFFSETFROM:-0700
TZOFFSETTO:-0800
TZNAME:PST
DTSTART:20231105T090000
END:STANDARD
BEGIN:DAYLIGHT
TZOFFSETFROM:-0800
TZOFFSETTO:-0700
TZNAME:PDT
DTSTART:20240310T100000
END:DAYLIGHT
BEGIN:STANDARD
TZOFFSETFROM:-0700
TZOFFSETTO:-0800
TZNAME:PST
DTSTART:20241103T090000
END:STANDARD
END:VTIMEZONE
BEGIN:VEVENT
DTSTART;TZID=America/Los_Angeles:20230605T190000
DTEND;TZID=America/Los_Angeles:20230605T210000
DTSTAMP:20260419T071524
CREATED:20230409T043550Z
LAST-MODIFIED:20230605T233624Z
UID:10000118-1685991600-1685998800@visitmanzanita.org
SUMMARY:Tillamook City Council meeting
DESCRIPTION:The City Council meets on the first and third Monday of each month at the City Hall. In the event of a holiday\, the meeting shall take place the day following or on a day agreed upon by the Council at the meeting prior to the holiday. \nThis is a public meeting per ORS chapter 192. The City Council reserves the right to call an executive session per ORS 192.660. City hall is handicap accessible. Please contact the office of the City Manager should special accommodations be required. Citizens with visual or manual impairments may contact the Oregon Relay Service by phoning 1-800-648-3458 (TDD) or 1-800-848-4442 (voice). The city of Tillamook is an equal opportunity provider and employer.
URL:https://visitmanzanita.org/event/tillamook-city-council-meeting-6/
LOCATION:Tillamook City Hall\, 210 Laurel Avenue\, Tillamook\, OR\, 97141\, United States
CATEGORIES:Public Meetings
ATTACH;FMTTYPE=image/jpeg:https://visitmanzanita.org/wp-content/uploads/2023/03/City-Hall-Tillamook-City-scaled-wA4RCh.tmp_.jpg
ORGANIZER;CN="City of Tillamook":MAILTO:ngeorge@tillamookor.gov
END:VEVENT
BEGIN:VEVENT
DTSTART;TZID=America/Los_Angeles:20230619T190000
DTEND;TZID=America/Los_Angeles:20230619T210000
DTSTAMP:20260419T071524
CREATED:20230420T054626Z
LAST-MODIFIED:20230619T000706Z
UID:10000160-1687201200-1687208400@visitmanzanita.org
SUMMARY:Tillamook City Council meeting
DESCRIPTION:The City Council meets on the first and third Monday of each month at the City Hall. In the event of a holiday\, the meeting shall take place the day following or on a day agreed upon by the Council at the meeting prior to the holiday. \nThis is a public meeting per ORS chapter 192. The City Council reserves the right to call an executive session per ORS 192.660. City hall is handicap accessible. Please contact the office of the City Manager should special accommodations be required. Citizens with visual or manual impairments may contact the Oregon Relay Service by phoning 1-800-648-3458 (TDD) or 1-800-848-4442 (voice). The city of Tillamook is an equal opportunity provider and employer.
URL:https://visitmanzanita.org/event/tillamook-city-council-meeting-7/
LOCATION:Tillamook City Hall\, 210 Laurel Avenue\, Tillamook\, OR\, 97141\, United States
CATEGORIES:Public Meetings
ATTACH;FMTTYPE=image/jpeg:https://visitmanzanita.org/wp-content/uploads/2023/03/City-Hall-Tillamook-City-scaled-wA4RCh.tmp_.jpg
ORGANIZER;CN="City of Tillamook":MAILTO:ngeorge@tillamookor.gov
END:VEVENT
BEGIN:VEVENT
DTSTART;TZID=America/Los_Angeles:20230620T080000
DTEND;TZID=America/Los_Angeles:20230620T090000
DTSTAMP:20260419T071524
CREATED:20230421T054618Z
LAST-MODIFIED:20230620T000658Z
UID:10000163-1687248000-1687251600@visitmanzanita.org
SUMMARY:Mornings on Main Street
DESCRIPTION:Join the Chamber for our monthly neighbor chat\, an informal coffee and discussion of things happening around town. Conversations range from events to new business opening and who is looking for help. This is a great opportunity to get in touch with our business and retail community\, as well as many of the non-profits\, government officials\, service groups and community leaders. Conversations are always casual and fun\, and there is always plenty of coffee and some breakfast treats. Doors open at 8 a.m.\, and typically come to an end by 9 a.m. Feel free to swing in at any time within the hour. We would be happy to see you pop in. \n\nMornings on Main Street is proudly sponsored by the Tillamook branch of Columbia Bank.
URL:https://visitmanzanita.org/event/mornings-on-main-street-5/
LOCATION:Tillamook Area Chamber of Commerce\, 208 Main Ave.\, Tillamook\, OR\, 97141\, United States
CATEGORIES:Business,Community,Public Meetings
ATTACH;FMTTYPE=image/png:https://visitmanzanita.org/wp-content/uploads/2023/03/MoMS-1-HJ8n2t.tmp_.png
END:VEVENT
BEGIN:VEVENT
DTSTART;TZID=America/Los_Angeles:20230621T103000
DTEND;TZID=America/Los_Angeles:20230621T130000
DTSTAMP:20260419T071524
CREATED:20230616T000644Z
LAST-MODIFIED:20230621T000623Z
UID:10000320-1687343400-1687352400@visitmanzanita.org
SUMMARY:Sea Otter Open Houses
DESCRIPTION:The U.S. Fish and Wildlife Service invites the public to learn about sea otter recovery efforts\, including consideration of potential reintroduction. Drop in to learn more\, ask questions\, and share your perspectives. Open houses will be held in 16 coastal communities in OR & N. CA. Details at www.fws.gov/project/exploring-potential-sea-otter-reintroduction. \nGaribaldi\, Old Mill RV Resort Meeting Room\, 210 South 3rd Street\, June 21 10:30 am – 1:00 pm \n 
URL:https://visitmanzanita.org/event/sea-otter-open-houses/
LOCATION:Old Mill RV Resort\, 210 South 3rd Street\, OR\, United States
CATEGORIES:Community,Education,Public Meetings
ATTACH;FMTTYPE=image/jpeg:https://visitmanzanita.org/wp-content/uploads/2023/06/seaotterkodiaknwrlisahuppusfws-kDKCmD.tmp_.jpg
ORGANIZER;CN="Michele Zwartjes":MAILTO:michele_zwartjes@fws.gov
END:VEVENT
END:VCALENDAR