BEGIN:VCALENDAR
VERSION:2.0
PRODID:-//Manzanita Oregon Visitor Center - ECPv6.15.20//NONSGML v1.0//EN
CALSCALE:GREGORIAN
METHOD:PUBLISH
X-WR-CALNAME:Manzanita Oregon Visitor Center
X-ORIGINAL-URL:https://visitmanzanita.org
X-WR-CALDESC:Events for Manzanita Oregon Visitor Center
REFRESH-INTERVAL;VALUE=DURATION:PT1H
X-Robots-Tag:noindex
X-PUBLISHED-TTL:PT1H
BEGIN:VTIMEZONE
TZID:America/Los_Angeles
BEGIN:DAYLIGHT
TZOFFSETFROM:-0800
TZOFFSETTO:-0700
TZNAME:PDT
DTSTART:20220313T100000
END:DAYLIGHT
BEGIN:STANDARD
TZOFFSETFROM:-0700
TZOFFSETTO:-0800
TZNAME:PST
DTSTART:20221106T090000
END:STANDARD
BEGIN:DAYLIGHT
TZOFFSETFROM:-0800
TZOFFSETTO:-0700
TZNAME:PDT
DTSTART:20230312T100000
END:DAYLIGHT
BEGIN:STANDARD
TZOFFSETFROM:-0700
TZOFFSETTO:-0800
TZNAME:PST
DTSTART:20231105T090000
END:STANDARD
BEGIN:DAYLIGHT
TZOFFSETFROM:-0800
TZOFFSETTO:-0700
TZNAME:PDT
DTSTART:20240310T100000
END:DAYLIGHT
BEGIN:STANDARD
TZOFFSETFROM:-0700
TZOFFSETTO:-0800
TZNAME:PST
DTSTART:20241103T090000
END:STANDARD
END:VTIMEZONE
BEGIN:VEVENT
DTSTART;TZID=America/Los_Angeles:20231015T130000
DTEND;TZID=America/Los_Angeles:20231015T150000
DTSTAMP:20260421T005513
CREATED:20230914T025458Z
LAST-MODIFIED:20230926T041512Z
UID:10000538-1697374800-1697382000@visitmanzanita.org
SUMMARY:Tillamook County Pioneer Association meeting and lunch on October 15th
DESCRIPTION:Members are invited to attend the Tillamook County Pioneer Association meeting and lunch. It is to be held on Sunday\, October 15\, 2023 in the Rockaway Beach Lion’s Den\, 268 S Anchor St\,. We gather about 1p.m. and enjoy a generous lunch at 1:30 p.m.\, with a meeting and entertainment to follow. Lunch will be provided. A donation would be appreciated to help cover the cost of the lunch. We will honor the Lifetime members of 2023. Please plan to attend and bring a friend. Feel free to call Ruby at 842-4553 with any questions. Please notice the new date. This is the 3rd Sunday in October.
URL:https://visitmanzanita.org/event/tillamook-county-pioneer-association-meeting-and-lunch-on-october-15th/
LOCATION:OR
CATEGORIES:Public Meetings
END:VEVENT
END:VCALENDAR