BEGIN:VCALENDAR
VERSION:2.0
PRODID:-//Manzanita Oregon Visitor Center - ECPv6.15.20//NONSGML v1.0//EN
CALSCALE:GREGORIAN
METHOD:PUBLISH
X-ORIGINAL-URL:https://visitmanzanita.org
X-WR-CALDESC:Events for Manzanita Oregon Visitor Center
REFRESH-INTERVAL;VALUE=DURATION:PT1H
X-Robots-Tag:noindex
X-PUBLISHED-TTL:PT1H
BEGIN:VTIMEZONE
TZID:America/Los_Angeles
BEGIN:DAYLIGHT
TZOFFSETFROM:-0800
TZOFFSETTO:-0700
TZNAME:PDT
DTSTART:20220313T100000
END:DAYLIGHT
BEGIN:STANDARD
TZOFFSETFROM:-0700
TZOFFSETTO:-0800
TZNAME:PST
DTSTART:20221106T090000
END:STANDARD
BEGIN:DAYLIGHT
TZOFFSETFROM:-0800
TZOFFSETTO:-0700
TZNAME:PDT
DTSTART:20230312T100000
END:DAYLIGHT
BEGIN:STANDARD
TZOFFSETFROM:-0700
TZOFFSETTO:-0800
TZNAME:PST
DTSTART:20231105T090000
END:STANDARD
BEGIN:DAYLIGHT
TZOFFSETFROM:-0800
TZOFFSETTO:-0700
TZNAME:PDT
DTSTART:20240310T100000
END:DAYLIGHT
BEGIN:STANDARD
TZOFFSETFROM:-0700
TZOFFSETTO:-0800
TZNAME:PST
DTSTART:20241103T090000
END:STANDARD
END:VTIMEZONE
BEGIN:VEVENT
DTSTART;TZID=America/Los_Angeles:20230708T153000
DTEND;TZID=America/Los_Angeles:20230708T170000
DTSTAMP:20260421T100330
CREATED:20230627T000831Z
LAST-MODIFIED:20230708T010828Z
UID:10000349-1688830200-1688835600@visitmanzanita.org
SUMMARY:Dr. Brian Atwater: The Orphan Tsunami of 1700
DESCRIPTION:A puzzling tsunami entered Japanese history in January\, 1700. Samurai\, merchants and villagers wrote of flooding and damage\, and many said no earthquake had been felt. They had no way of knowing it was spawned by an earthquake along the coast of northwestern North America.\nA fascinating series of discoveries in the 1990sunderpin many of today’s precautions of earthquakes and tsunamis in the Cascadia zone.\nDr. Brian Atwater will share his research on this ancient tsunami and what it means for people in the Northwest\, especially the Oregon Coast.
URL:https://visitmanzanita.org/event/dr-brian-atwater-the-orphan-tsunami-of-1700/
LOCATION:North County Recreation District\, 36155 9th St\, Nehalem\, OR\, 97131\, United States
CATEGORIES:Classes and Workshops,Community
ATTACH;FMTTYPE=image/png:https://visitmanzanita.org/wp-content/uploads/2023/06/Dr.-Brian-Atwater-copy-iVxd6e.tmp_.png
ORGANIZER;CN="Nehalem Valley Historical Society":MAILTO:info@nehalemvalleyhistory.org
END:VEVENT
END:VCALENDAR