BEGIN:VCALENDAR
VERSION:2.0
PRODID:-//Manzanita Oregon Visitor Center - ECPv6.15.20//NONSGML v1.0//EN
CALSCALE:GREGORIAN
METHOD:PUBLISH
X-WR-CALNAME:Manzanita Oregon Visitor Center
X-ORIGINAL-URL:https://visitmanzanita.org
X-WR-CALDESC:Events for Manzanita Oregon Visitor Center
REFRESH-INTERVAL;VALUE=DURATION:PT1H
X-Robots-Tag:noindex
X-PUBLISHED-TTL:PT1H
BEGIN:VTIMEZONE
TZID:America/Los_Angeles
BEGIN:DAYLIGHT
TZOFFSETFROM:-0800
TZOFFSETTO:-0700
TZNAME:PDT
DTSTART:20220313T100000
END:DAYLIGHT
BEGIN:STANDARD
TZOFFSETFROM:-0700
TZOFFSETTO:-0800
TZNAME:PST
DTSTART:20221106T090000
END:STANDARD
BEGIN:DAYLIGHT
TZOFFSETFROM:-0800
TZOFFSETTO:-0700
TZNAME:PDT
DTSTART:20230312T100000
END:DAYLIGHT
BEGIN:STANDARD
TZOFFSETFROM:-0700
TZOFFSETTO:-0800
TZNAME:PST
DTSTART:20231105T090000
END:STANDARD
BEGIN:DAYLIGHT
TZOFFSETFROM:-0800
TZOFFSETTO:-0700
TZNAME:PDT
DTSTART:20240310T100000
END:DAYLIGHT
BEGIN:STANDARD
TZOFFSETFROM:-0700
TZOFFSETTO:-0800
TZNAME:PST
DTSTART:20241103T090000
END:STANDARD
END:VTIMEZONE
BEGIN:VEVENT
DTSTART;TZID=America/Los_Angeles:20230916T100000
DTEND;TZID=America/Los_Angeles:20230916T140000
DTSTAMP:20260425T191938
CREATED:20230718T012337Z
LAST-MODIFIED:20230914T025459Z
UID:10000411-1694858400-1694872800@visitmanzanita.org
SUMMARY:Tillamook Masonic Lodge No. 57 150th anniversary Open House
DESCRIPTION:Tillamook Masonic Lodge No. 57 will be hosting an open house to showcase Masonry to the community. \nAs Tillamook celebrates 150 years of Masonry in Tillamook County\, we have invited multiple parts of the Masonic Family to join us in an informational open house to inform and educate the community in what Masonry is\, what we have done in and for the community and how we continue to support our community. \nWe have invited Tillamook Masonic Lodge No. 57\, Silverwave Chapter of the Order of the Eastern Star\, Knights Templar and York Rite Bodies\, Al Kader Shriners\, Tillamook County Shrine Club\, The Masonic Youth Groups: DeMolay International\, International Order of the Rainbow for Girls and Job’s Daughter’s International; as well as the remaining Masonic Coordinate and Appendant bodies. \nIf you have ever been curious of what Freemasonry is\, are already part of the Masonic Family\, or are interested in joining our organization\, please come out and visit with us and learn about what we do and get a tour of our building .
URL:https://visitmanzanita.org/event/tillamook-masonic-lodge-no-57-150th-anniversary-open-house/
LOCATION:Tillamook Masonic Lodge NO. 57\, 1904 1/2 Second Street\, Tillamook Oregon 97141\, OR\, United States
CATEGORIES:Community,Education
ORGANIZER;CN="Tillamook Masonic Lodge No. 57":MAILTO:kristopher.torrey@gmail.com
END:VEVENT
BEGIN:VEVENT
DTSTART;TZID=America/Los_Angeles:20230915T180000
DTEND;TZID=America/Los_Angeles:20230915T193000
DTSTAMP:20260425T191938
CREATED:20230717T012402Z
LAST-MODIFIED:20230914T025459Z
UID:10000407-1694800800-1694806200@visitmanzanita.org
SUMMARY:Tillamook Masonic Lodge No. 57 150th anniversary rededication
DESCRIPTION:Tillamook Masonic Lodge No. 57 will be hosting a rededication of our lodge in honor of our 150th anniversary of Masonry in Tillamook County. This is a public event. The Grand Master of Masons in Oregon will be coming to perform the “Cornerstone ceremony” in honor of this auspicious event. \nIf you are affiliated with the Masonic Family or just curious about Freemasonry\, come out and help us celebrate.
URL:https://visitmanzanita.org/event/tillamook-masonic-lodge-no-57-150th-anniversary-rededication/
LOCATION:Tillamook Masonic Lodge NO. 57\, 1904 1/2 Second Street\, Tillamook Oregon 97141\, OR\, United States
CATEGORIES:Community,Education
ATTACH;FMTTYPE=image/jpeg:https://visitmanzanita.org/wp-content/uploads/2023/07/Tillamook-Masonic-Lodge-No.-57-l5TdwF.tmp_.jpg
ORGANIZER;CN="Tillamook Masonic Lodge No. 57":MAILTO:kristopher.torrey@gmail.com
END:VEVENT
END:VCALENDAR