BEGIN:VCALENDAR
VERSION:2.0
PRODID:-//Manzanita Oregon Visitor Center - ECPv6.15.20//NONSGML v1.0//EN
CALSCALE:GREGORIAN
METHOD:PUBLISH
X-ORIGINAL-URL:https://visitmanzanita.org
X-WR-CALDESC:Events for Manzanita Oregon Visitor Center
REFRESH-INTERVAL;VALUE=DURATION:PT1H
X-Robots-Tag:noindex
X-PUBLISHED-TTL:PT1H
BEGIN:VTIMEZONE
TZID:America/Los_Angeles
BEGIN:DAYLIGHT
TZOFFSETFROM:-0800
TZOFFSETTO:-0700
TZNAME:PDT
DTSTART:20230312T100000
END:DAYLIGHT
BEGIN:STANDARD
TZOFFSETFROM:-0700
TZOFFSETTO:-0800
TZNAME:PST
DTSTART:20231105T090000
END:STANDARD
BEGIN:DAYLIGHT
TZOFFSETFROM:-0800
TZOFFSETTO:-0700
TZNAME:PDT
DTSTART:20240310T100000
END:DAYLIGHT
BEGIN:STANDARD
TZOFFSETFROM:-0700
TZOFFSETTO:-0800
TZNAME:PST
DTSTART:20241103T090000
END:STANDARD
BEGIN:DAYLIGHT
TZOFFSETFROM:-0800
TZOFFSETTO:-0700
TZNAME:PDT
DTSTART:20250309T100000
END:DAYLIGHT
BEGIN:STANDARD
TZOFFSETFROM:-0700
TZOFFSETTO:-0800
TZNAME:PST
DTSTART:20251102T090000
END:STANDARD
END:VTIMEZONE
BEGIN:VEVENT
DTSTART;TZID=America/Los_Angeles:20240614T110000
DTEND;TZID=America/Los_Angeles:20240614T190000
DTSTAMP:20260419T062336
CREATED:20240428T170920Z
LAST-MODIFIED:20240604T182655Z
UID:10001027-1718362800-1718391600@visitmanzanita.org
SUMMARY:Burger and Bucket at the Bunker Grille
DESCRIPTION:Come to The Mook at Alderbrook golf course every Friday for a burger and large bucket of balls just $20. The Bunker Grille is pleased to give golfers\, and wanna be golfers\, this special offer. Come have lunch or dinner and then hit the driving range! Fun for the whole family.
URL:https://visitmanzanita.org/event/burger-and-bucket-at-the-bunker-grille-21/
LOCATION:Bunker Grille at The Mook at Alderbrook Golf Course\, 7300 Alderbrook Rd. Tillamook
CATEGORIES:Family Fun
ATTACH;FMTTYPE=image/jpeg:https://visitmanzanita.org/wp-content/uploads/2024/01/burger-AXjS40.tmp_.jpg
END:VEVENT
BEGIN:VEVENT
DTSTART;TZID=America/Los_Angeles:20240607T110000
DTEND;TZID=America/Los_Angeles:20240607T190000
DTSTAMP:20260419T062336
CREATED:20240428T170919Z
LAST-MODIFIED:20240604T182654Z
UID:10001008-1717758000-1717786800@visitmanzanita.org
SUMMARY:Burger and Bucket at the Bunker Grille
DESCRIPTION:Come to The Mook at Alderbrook golf course every Friday for a burger and large bucket of balls just $20. The Bunker Grille is pleased to give golfers\, and wanna be golfers\, this special offer. Come have lunch or dinner and then hit the driving range! Fun for the whole family.
URL:https://visitmanzanita.org/event/burger-and-bucket-at-the-bunker-grille-20/
LOCATION:Bunker Grille at The Mook at Alderbrook Golf Course\, 7300 Alderbrook Rd. Tillamook
CATEGORIES:Family Fun
ATTACH;FMTTYPE=image/jpeg:https://visitmanzanita.org/wp-content/uploads/2024/01/burger-AXjS40.tmp_.jpg
END:VEVENT
BEGIN:VEVENT
DTSTART;TZID=America/Los_Angeles:20240531T110000
DTEND;TZID=America/Los_Angeles:20240531T190000
DTSTAMP:20260419T062336
CREATED:20240428T170918Z
LAST-MODIFIED:20240531T181136Z
UID:10000990-1717153200-1717182000@visitmanzanita.org
SUMMARY:Burger and Bucket at the Bunker Grille
DESCRIPTION:Come to The Mook at Alderbrook golf course every Friday for a burger and large bucket of balls just $20. The Bunker Grille is pleased to give golfers\, and wanna be golfers\, this special offer. Come have lunch or dinner and then hit the driving range! Fun for the whole family.
URL:https://visitmanzanita.org/event/burger-and-bucket-at-the-bunker-grille-19/
LOCATION:Bunker Grille at The Mook at Alderbrook Golf Course\, 7300 Alderbrook Rd. Tillamook
CATEGORIES:Family Fun
ATTACH;FMTTYPE=image/jpeg:https://visitmanzanita.org/wp-content/uploads/2024/01/burger-AXjS40.tmp_.jpg
END:VEVENT
BEGIN:VEVENT
DTSTART;TZID=America/Los_Angeles:20240524T110000
DTEND;TZID=America/Los_Angeles:20240524T190000
DTSTAMP:20260419T062336
CREATED:20240428T170916Z
LAST-MODIFIED:20240524T181126Z
UID:10000974-1716548400-1716577200@visitmanzanita.org
SUMMARY:Burger and Bucket at the Bunker Grille
DESCRIPTION:Come to The Mook at Alderbrook golf course every Friday for a burger and large bucket of balls just $20. The Bunker Grille is pleased to give golfers\, and wanna be golfers\, this special offer. Come have lunch or dinner and then hit the driving range! Fun for the whole family.
URL:https://visitmanzanita.org/event/burger-and-bucket-at-the-bunker-grille-18/
LOCATION:Bunker Grille at The Mook at Alderbrook Golf Course\, 7300 Alderbrook Rd. Tillamook
CATEGORIES:Family Fun
ATTACH;FMTTYPE=image/jpeg:https://visitmanzanita.org/wp-content/uploads/2024/01/burger-AXjS40.tmp_.jpg
END:VEVENT
BEGIN:VEVENT
DTSTART;TZID=America/Los_Angeles:20240517T110000
DTEND;TZID=America/Los_Angeles:20240517T190000
DTSTAMP:20260419T062336
CREATED:20240428T170908Z
LAST-MODIFIED:20240517T172627Z
UID:10000951-1715943600-1715972400@visitmanzanita.org
SUMMARY:Burger and Bucket at the Bunker Grille
DESCRIPTION:Come to The Mook at Alderbrook golf course every Friday for a burger and large bucket of balls just $20. The Bunker Grille is pleased to give golfers\, and wanna be golfers\, this special offer. Come have lunch or dinner and then hit the driving range! Fun for the whole family.
URL:https://visitmanzanita.org/event/burger-and-bucket-at-the-bunker-grille-17/
LOCATION:Bunker Grille at The Mook at Alderbrook Golf Course\, 7300 Alderbrook Rd. Tillamook
CATEGORIES:Family Fun
ATTACH;FMTTYPE=image/jpeg:https://visitmanzanita.org/wp-content/uploads/2024/01/burger-AXjS40.tmp_.jpg
END:VEVENT
BEGIN:VEVENT
DTSTART;TZID=America/Los_Angeles:20240510T110000
DTEND;TZID=America/Los_Angeles:20240510T190000
DTSTAMP:20260419T062336
CREATED:20240428T170901Z
LAST-MODIFIED:20240510T171134Z
UID:10000924-1715338800-1715367600@visitmanzanita.org
SUMMARY:Burger and Bucket at the Bunker Grille
DESCRIPTION:Come to The Mook at Alderbrook golf course every Friday for a burger and large bucket of balls just $20. The Bunker Grille is pleased to give golfers\, and wanna be golfers\, this special offer. Come have lunch or dinner and then hit the driving range! Fun for the whole family.
URL:https://visitmanzanita.org/event/burger-and-bucket-at-the-bunker-grille-16/
LOCATION:Bunker Grille at The Mook at Alderbrook Golf Course\, 7300 Alderbrook Rd. Tillamook
CATEGORIES:Family Fun
ATTACH;FMTTYPE=image/jpeg:https://visitmanzanita.org/wp-content/uploads/2024/01/burger-AXjS40.tmp_.jpg
END:VEVENT
BEGIN:VEVENT
DTSTART;TZID=America/Los_Angeles:20240503T110000
DTEND;TZID=America/Los_Angeles:20240503T190000
DTSTAMP:20260419T062336
CREATED:20240428T170848Z
LAST-MODIFIED:20240503T170827Z
UID:10000900-1714734000-1714762800@visitmanzanita.org
SUMMARY:Burger and Bucket at the Bunker Grille
DESCRIPTION:Come to The Mook at Alderbrook golf course every Friday for a burger and large bucket of balls just $20. The Bunker Grille is pleased to give golfers\, and wanna be golfers\, this special offer. Come have lunch or dinner and then hit the driving range! Fun for the whole family.
URL:https://visitmanzanita.org/event/burger-and-bucket-at-the-bunker-grille-15/
LOCATION:Bunker Grille at The Mook at Alderbrook Golf Course\, 7300 Alderbrook Rd. Tillamook
CATEGORIES:Family Fun
ATTACH;FMTTYPE=image/jpeg:https://visitmanzanita.org/wp-content/uploads/2024/01/burger-AXjS40.tmp_.jpg
END:VEVENT
BEGIN:VEVENT
DTSTART;TZID=America/Los_Angeles:20240426T110000
DTEND;TZID=America/Los_Angeles:20240426T190000
DTSTAMP:20260419T062336
CREATED:20240226T021412Z
LAST-MODIFIED:20240226T021414Z
UID:10000878-1714129200-1714158000@visitmanzanita.org
SUMMARY:Burger and Bucket at the Bunker Grille
DESCRIPTION:Come to The Mook at Alderbrook golf course every Friday for a burger and large bucket of balls just $20. The Bunker Grille is pleased to give golfers\, and wanna be golfers\, this special offer. Come have lunch or dinner and then hit the driving range! Fun for the whole family.
URL:https://visitmanzanita.org/event/burger-and-bucket-at-the-bunker-grille-14/
LOCATION:Bunker Grille at The Mook at Alderbrook Golf Course\, 7300 Alderbrook Rd. Tillamook
CATEGORIES:Family Fun
ATTACH;FMTTYPE=image/jpeg:https://visitmanzanita.org/wp-content/uploads/2024/01/burger-AXjS40.tmp_.jpg
END:VEVENT
BEGIN:VEVENT
DTSTART;TZID=America/Los_Angeles:20240419T110000
DTEND;TZID=America/Los_Angeles:20240419T190000
DTSTAMP:20260419T062336
CREATED:20240225T015919Z
LAST-MODIFIED:20240226T021414Z
UID:10000872-1713524400-1713553200@visitmanzanita.org
SUMMARY:Burger and Bucket at the Bunker Grille
DESCRIPTION:Come to The Mook at Alderbrook golf course every Friday for a burger and large bucket of balls just $20. The Bunker Grille is pleased to give golfers\, and wanna be golfers\, this special offer. Come have lunch or dinner and then hit the driving range! Fun for the whole family.
URL:https://visitmanzanita.org/event/burger-and-bucket-at-the-bunker-grille-13/
LOCATION:Bunker Grille at The Mook at Alderbrook Golf Course\, 7300 Alderbrook Rd. Tillamook
CATEGORIES:Family Fun
ATTACH;FMTTYPE=image/jpeg:https://visitmanzanita.org/wp-content/uploads/2024/01/burger-AXjS40.tmp_.jpg
END:VEVENT
BEGIN:VEVENT
DTSTART;TZID=America/Los_Angeles:20240412T110000
DTEND;TZID=America/Los_Angeles:20240412T190000
DTSTAMP:20260419T062336
CREATED:20240225T015918Z
LAST-MODIFIED:20240226T021414Z
UID:10000866-1712919600-1712948400@visitmanzanita.org
SUMMARY:Burger and Bucket at the Bunker Grille
DESCRIPTION:Come to The Mook at Alderbrook golf course every Friday for a burger and large bucket of balls just $20. The Bunker Grille is pleased to give golfers\, and wanna be golfers\, this special offer. Come have lunch or dinner and then hit the driving range! Fun for the whole family.
URL:https://visitmanzanita.org/event/burger-and-bucket-at-the-bunker-grille-12/
LOCATION:Bunker Grille at The Mook at Alderbrook Golf Course\, 7300 Alderbrook Rd. Tillamook
CATEGORIES:Family Fun
ATTACH;FMTTYPE=image/jpeg:https://visitmanzanita.org/wp-content/uploads/2024/01/burger-AXjS40.tmp_.jpg
END:VEVENT
BEGIN:VEVENT
DTSTART;TZID=America/Los_Angeles:20240405T110000
DTEND;TZID=America/Los_Angeles:20240405T190000
DTSTAMP:20260419T062336
CREATED:20240225T015918Z
LAST-MODIFIED:20240226T021414Z
UID:10000862-1712314800-1712343600@visitmanzanita.org
SUMMARY:Burger and Bucket at the Bunker Grille
DESCRIPTION:Come to The Mook at Alderbrook golf course every Friday for a burger and large bucket of balls just $20. The Bunker Grille is pleased to give golfers\, and wanna be golfers\, this special offer. Come have lunch or dinner and then hit the driving range! Fun for the whole family.
URL:https://visitmanzanita.org/event/burger-and-bucket-at-the-bunker-grille-11/
LOCATION:Bunker Grille at The Mook at Alderbrook Golf Course\, 7300 Alderbrook Rd. Tillamook
CATEGORIES:Family Fun
ATTACH;FMTTYPE=image/jpeg:https://visitmanzanita.org/wp-content/uploads/2024/01/burger-AXjS40.tmp_.jpg
END:VEVENT
BEGIN:VEVENT
DTSTART;TZID=America/Los_Angeles:20240329T110000
DTEND;TZID=America/Los_Angeles:20240329T190000
DTSTAMP:20260419T062336
CREATED:20240129T222057Z
LAST-MODIFIED:20240226T021414Z
UID:10000821-1711710000-1711738800@visitmanzanita.org
SUMMARY:Burger and Bucket at the Bunker Grille
DESCRIPTION:Come to The Mook at Alderbrook golf course every Friday for a burger and large bucket of balls just $20. The Bunker Grille is pleased to give golfers\, and wanna be golfers\, this special offer. Come have lunch or dinner and then hit the driving range! Fun for the whole family.
URL:https://visitmanzanita.org/event/burger-and-bucket-at-the-bunker-grille-10/
LOCATION:Bunker Grille at The Mook at Alderbrook Golf Course\, 7300 Alderbrook Rd. Tillamook
CATEGORIES:Family Fun
ATTACH;FMTTYPE=image/jpeg:https://visitmanzanita.org/wp-content/uploads/2024/01/burger-AXjS40.tmp_.jpg
END:VEVENT
BEGIN:VEVENT
DTSTART;TZID=America/Los_Angeles:20240322T110000
DTEND;TZID=America/Los_Angeles:20240322T190000
DTSTAMP:20260419T062336
CREATED:20240126T220613Z
LAST-MODIFIED:20240226T021413Z
UID:10000818-1711105200-1711134000@visitmanzanita.org
SUMMARY:Burger and Bucket at the Bunker Grille
DESCRIPTION:Come to The Mook at Alderbrook golf course every Friday for a burger and large bucket of balls just $20. The Bunker Grille is pleased to give golfers\, and wanna be golfers\, this special offer. Come have lunch or dinner and then hit the driving range! Fun for the whole family.
URL:https://visitmanzanita.org/event/burger-and-bucket-at-the-bunker-grille-9/
LOCATION:Bunker Grille at The Mook at Alderbrook Golf Course\, 7300 Alderbrook Rd. Tillamook
CATEGORIES:Family Fun
ATTACH;FMTTYPE=image/jpeg:https://visitmanzanita.org/wp-content/uploads/2024/01/burger-AXjS40.tmp_.jpg
END:VEVENT
BEGIN:VEVENT
DTSTART;TZID=America/Los_Angeles:20240315T110000
DTEND;TZID=America/Los_Angeles:20240315T190000
DTSTAMP:20260419T062336
CREATED:20240126T220613Z
LAST-MODIFIED:20240226T021413Z
UID:10000817-1710500400-1710529200@visitmanzanita.org
SUMMARY:Burger and Bucket at the Bunker Grille
DESCRIPTION:Come to The Mook at Alderbrook golf course every Friday for a burger and large bucket of balls just $20. The Bunker Grille is pleased to give golfers\, and wanna be golfers\, this special offer. Come have lunch or dinner and then hit the driving range! Fun for the whole family.
URL:https://visitmanzanita.org/event/burger-and-bucket-at-the-bunker-grille-8/
LOCATION:Bunker Grille at The Mook at Alderbrook Golf Course\, 7300 Alderbrook Rd. Tillamook
CATEGORIES:Family Fun
ATTACH;FMTTYPE=image/jpeg:https://visitmanzanita.org/wp-content/uploads/2024/01/burger-AXjS40.tmp_.jpg
END:VEVENT
BEGIN:VEVENT
DTSTART;TZID=America/Los_Angeles:20240308T110000
DTEND;TZID=America/Los_Angeles:20240308T190000
DTSTAMP:20260419T062336
CREATED:20240126T220612Z
LAST-MODIFIED:20240226T021413Z
UID:10000816-1709895600-1709924400@visitmanzanita.org
SUMMARY:Burger and Bucket at the Bunker Grille
DESCRIPTION:Come to The Mook at Alderbrook golf course every Friday for a burger and large bucket of balls just $20. The Bunker Grille is pleased to give golfers\, and wanna be golfers\, this special offer. Come have lunch or dinner and then hit the driving range! Fun for the whole family.
URL:https://visitmanzanita.org/event/burger-and-bucket-at-the-bunker-grille-7/
LOCATION:Bunker Grille at The Mook at Alderbrook Golf Course\, 7300 Alderbrook Rd. Tillamook
CATEGORIES:Family Fun
ATTACH;FMTTYPE=image/jpeg:https://visitmanzanita.org/wp-content/uploads/2024/01/burger-AXjS40.tmp_.jpg
END:VEVENT
BEGIN:VEVENT
DTSTART;TZID=America/Los_Angeles:20240301T110000
DTEND;TZID=America/Los_Angeles:20240301T190000
DTSTAMP:20260419T062336
CREATED:20240126T220612Z
LAST-MODIFIED:20240226T021412Z
UID:10000815-1709290800-1709319600@visitmanzanita.org
SUMMARY:Burger and Bucket at the Bunker Grille
DESCRIPTION:Come to The Mook at Alderbrook golf course every Friday for a burger and large bucket of balls just $20. The Bunker Grille is pleased to give golfers\, and wanna be golfers\, this special offer. Come have lunch or dinner and then hit the driving range! Fun for the whole family.
URL:https://visitmanzanita.org/event/burger-and-bucket-at-the-bunker-grille-6/
LOCATION:Bunker Grille at The Mook at Alderbrook Golf Course\, 7300 Alderbrook Rd. Tillamook
CATEGORIES:Family Fun
ATTACH;FMTTYPE=image/jpeg:https://visitmanzanita.org/wp-content/uploads/2024/01/burger-AXjS40.tmp_.jpg
END:VEVENT
BEGIN:VEVENT
DTSTART;TZID=America/Los_Angeles:20240223T110000
DTEND;TZID=America/Los_Angeles:20240223T190000
DTSTAMP:20260419T062336
CREATED:20240126T220612Z
LAST-MODIFIED:20240201T223559Z
UID:10000814-1708686000-1708714800@visitmanzanita.org
SUMMARY:Burger and Bucket at the Bunker Grille
DESCRIPTION:Come to The Mook at Alderbrook golf course every Friday for a burger and large bucket of balls just $20. The Bunker Grille is pleased to give golfers\, and wanna be golfers\, this special offer. Come have lunch or dinner and then hit the driving range! Fun for the whole family.
URL:https://visitmanzanita.org/event/burger-and-bucket-at-the-bunker-grille-5/
LOCATION:Bunker Grille at The Mook at Alderbrook Golf Course\, 7300 Alderbrook Rd. Tillamook
CATEGORIES:Family Fun
ATTACH;FMTTYPE=image/jpeg:https://visitmanzanita.org/wp-content/uploads/2024/01/burger-AXjS40.tmp_.jpg
END:VEVENT
BEGIN:VEVENT
DTSTART;TZID=America/Los_Angeles:20240216T110000
DTEND;TZID=America/Los_Angeles:20240216T190000
DTSTAMP:20260419T062336
CREATED:20240126T220612Z
LAST-MODIFIED:20240201T223559Z
UID:10000813-1708081200-1708110000@visitmanzanita.org
SUMMARY:Burger and Bucket at the Bunker Grille
DESCRIPTION:Come to The Mook at Alderbrook golf course every Friday for a burger and large bucket of balls just $20. The Bunker Grille is pleased to give golfers\, and wanna be golfers\, this special offer. Come have lunch or dinner and then hit the driving range! Fun for the whole family.
URL:https://visitmanzanita.org/event/burger-and-bucket-at-the-bunker-grille-4/
LOCATION:Bunker Grille at The Mook at Alderbrook Golf Course\, 7300 Alderbrook Rd. Tillamook
CATEGORIES:Family Fun
ATTACH;FMTTYPE=image/jpeg:https://visitmanzanita.org/wp-content/uploads/2024/01/burger-AXjS40.tmp_.jpg
END:VEVENT
BEGIN:VEVENT
DTSTART;TZID=America/Los_Angeles:20240209T110000
DTEND;TZID=America/Los_Angeles:20240209T190000
DTSTAMP:20260419T062336
CREATED:20240126T220612Z
LAST-MODIFIED:20240201T223559Z
UID:10000812-1707476400-1707505200@visitmanzanita.org
SUMMARY:Burger and Bucket at the Bunker Grille
DESCRIPTION:Come to The Mook at Alderbrook golf course every Friday for a burger and large bucket of balls just $20. The Bunker Grille is pleased to give golfers\, and wanna be golfers\, this special offer. Come have lunch or dinner and then hit the driving range! Fun for the whole family.
URL:https://visitmanzanita.org/event/burger-and-bucket-at-the-bunker-grille-3/
LOCATION:Bunker Grille at The Mook at Alderbrook Golf Course\, 7300 Alderbrook Rd. Tillamook
CATEGORIES:Family Fun
ATTACH;FMTTYPE=image/jpeg:https://visitmanzanita.org/wp-content/uploads/2024/01/burger-AXjS40.tmp_.jpg
END:VEVENT
BEGIN:VEVENT
DTSTART;TZID=America/Los_Angeles:20240202T110000
DTEND;TZID=America/Los_Angeles:20240202T190000
DTSTAMP:20260419T062336
CREATED:20240126T220611Z
LAST-MODIFIED:20240201T223558Z
UID:10000811-1706871600-1706900400@visitmanzanita.org
SUMMARY:Burger and Bucket at the Bunker Grille
DESCRIPTION:Come to The Mook at Alderbrook golf course every Friday for a burger and large bucket of balls just $20. The Bunker Grille is pleased to give golfers\, and wanna be golfers\, this special offer. Come have lunch or dinner and then hit the driving range! Fun for the whole family.
URL:https://visitmanzanita.org/event/burger-and-bucket-at-the-bunker-grille-2/
LOCATION:Bunker Grille at The Mook at Alderbrook Golf Course\, 7300 Alderbrook Rd. Tillamook
CATEGORIES:Family Fun
ATTACH;FMTTYPE=image/jpeg:https://visitmanzanita.org/wp-content/uploads/2024/01/burger-AXjS40.tmp_.jpg
END:VEVENT
BEGIN:VEVENT
DTSTART;TZID=America/Los_Angeles:20240126T110000
DTEND;TZID=America/Los_Angeles:20240126T190000
DTSTAMP:20260419T062336
CREATED:20240126T220607Z
LAST-MODIFIED:20240126T220607Z
UID:10000809-1706266800-1706295600@visitmanzanita.org
SUMMARY:Burger and Bucket at the Bunker Grille
DESCRIPTION:Come to The Mook at Alderbrook golf course every Friday for a burger and large bucket of balls just $20. The Bunker Grille is pleased to give golfers\, and wanna be golfers\, this special offer. Come have lunch or dinner and then hit the driving range! Fun for the whole family.
URL:https://visitmanzanita.org/event/burger-and-bucket-at-the-bunker-grille/
LOCATION:Bunker Grille at The Mook at Alderbrook Golf Course\, 7300 Alderbrook Rd. Tillamook
CATEGORIES:Family Fun
ATTACH;FMTTYPE=image/jpeg:https://visitmanzanita.org/wp-content/uploads/2024/01/burger-AXjS40.tmp_.jpg
END:VEVENT
END:VCALENDAR