BEGIN:VCALENDAR
VERSION:2.0
PRODID:-//Manzanita Oregon Visitor Center - ECPv6.15.20//NONSGML v1.0//EN
CALSCALE:GREGORIAN
METHOD:PUBLISH
X-ORIGINAL-URL:https://visitmanzanita.org
X-WR-CALDESC:Events for Manzanita Oregon Visitor Center
REFRESH-INTERVAL;VALUE=DURATION:PT1H
X-Robots-Tag:noindex
X-PUBLISHED-TTL:PT1H
BEGIN:VTIMEZONE
TZID:America/Los_Angeles
BEGIN:DAYLIGHT
TZOFFSETFROM:-0800
TZOFFSETTO:-0700
TZNAME:PDT
DTSTART:20240310T100000
END:DAYLIGHT
BEGIN:STANDARD
TZOFFSETFROM:-0700
TZOFFSETTO:-0800
TZNAME:PST
DTSTART:20241103T090000
END:STANDARD
BEGIN:DAYLIGHT
TZOFFSETFROM:-0800
TZOFFSETTO:-0700
TZNAME:PDT
DTSTART:20250309T100000
END:DAYLIGHT
BEGIN:STANDARD
TZOFFSETFROM:-0700
TZOFFSETTO:-0800
TZNAME:PST
DTSTART:20251102T090000
END:STANDARD
BEGIN:DAYLIGHT
TZOFFSETFROM:-0800
TZOFFSETTO:-0700
TZNAME:PDT
DTSTART:20260308T100000
END:DAYLIGHT
BEGIN:STANDARD
TZOFFSETFROM:-0700
TZOFFSETTO:-0800
TZNAME:PST
DTSTART:20261101T090000
END:STANDARD
END:VTIMEZONE
BEGIN:VEVENT
DTSTART;TZID=America/Los_Angeles:20250429T113000
DTEND;TZID=America/Los_Angeles:20250429T123000
DTSTAMP:20260421T032126
CREATED:20250228T015105Z
LAST-MODIFIED:20250415T113621Z
UID:10002837-1745926200-1745929800@visitmanzanita.org
SUMMARY:Senior Meals
DESCRIPTION:Senior Lunches are served at 11:30 am on Tuesdays and Wednesdays for $3 and others may attend for $6.
URL:https://visitmanzanita.org/event/senior-meals-39/
LOCATION:Kiawanda Community Center\, 34600 Cape Kiwanda Dr\, Pacific City\, OR\, 97135\, United States
CATEGORIES:Community
ATTACH;FMTTYPE=image/png:https://visitmanzanita.org/wp-content/uploads/2024/08/Senior-Meals-zN428M.tmp_.png
END:VEVENT
BEGIN:VEVENT
DTSTART;TZID=America/Los_Angeles:20250429T100000
DTEND;TZID=America/Los_Angeles:20250429T150000
DTSTAMP:20260421T032126
CREATED:20250228T015105Z
LAST-MODIFIED:20250415T113621Z
UID:10002836-1745920800-1745938800@visitmanzanita.org
SUMMARY:Tuesday Stitchers
DESCRIPTION:Come and be a part of a community of people who love to make things for others\, and in turn make friends within the group. All levels are welcome. \nJoin us at the Kiawanda Community Center on Tuesdays from 10 AM to 3 PM in the Great Hall. \nFirst Monday every month from 4 to 9 PM. \nCall (503) 965-7900 for more details | $6 admission
URL:https://visitmanzanita.org/event/tuesday-stitchers-24/
LOCATION:Kiawanda Community Center\, 34600 Cape Kiwanda Dr\, Pacific City\, OR\, 97135\, United States
CATEGORIES:Classes and Workshops,Community
ATTACH;FMTTYPE=image/png:https://visitmanzanita.org/wp-content/uploads/2024/11/Tuesday-Stitchers-Group-Flyer-ak6xyb.tmp_.png
END:VEVENT
BEGIN:VEVENT
DTSTART;TZID=America/Los_Angeles:20250429T090000
DTEND;TZID=America/Los_Angeles:20250429T100000
DTSTAMP:20260421T032126
CREATED:20250228T015105Z
LAST-MODIFIED:20250415T113621Z
UID:10002835-1745917200-1745920800@visitmanzanita.org
SUMMARY:Fit and Fabulous at the KCC
DESCRIPTION:Come join this group keeping active two days a week. Only $15 for the month!
URL:https://visitmanzanita.org/event/fit-and-fabulous-at-the-kcc-105/
LOCATION:Kiawanda Community Center\, 34600 Cape Kiwanda Dr\, Pacific City\, OR\, 97135\, United States
CATEGORIES:Fitness and Athletics
ATTACH;FMTTYPE=image/png:https://visitmanzanita.org/wp-content/uploads/2024/04/Fit-Fabulous-ttT88Z.tmp_.png
END:VEVENT
BEGIN:VEVENT
DTSTART;TZID=America/Los_Angeles:20250428T160000
DTEND;TZID=America/Los_Angeles:20250428T180000
DTSTAMP:20260421T032126
CREATED:20250227T015107Z
LAST-MODIFIED:20250415T113621Z
UID:10002833-1745856000-1745863200@visitmanzanita.org
SUMMARY:Karate Class
DESCRIPTION:Preseverence Martial Arts teaches 2 classes on Mondays. Children from ages 6 -12 can attend from 4-4:50pm and ages 13 – adults have class from 5-5:50. First class is free. One weekly class per month is $50 for the month. Kids karate is aslo offered on Wednesdays ay 4pm. Two weekly classes per month is $75 per month.
URL:https://visitmanzanita.org/event/karate-class-38/
LOCATION:Kiawanda Community Center\, 34600 Cape Kiwanda Dr\, Pacific City\, OR\, 97135\, United States
CATEGORIES:Classes and Workshops,Community,Family Fun
ATTACH;FMTTYPE=image/jpeg:https://visitmanzanita.org/wp-content/uploads/2024/08/new-karate-mKK5ug.tmp_.jpg
END:VEVENT
BEGIN:VEVENT
DTSTART;TZID=America/Los_Angeles:20250428T100000
DTEND;TZID=America/Los_Angeles:20250428T110000
DTSTAMP:20260421T032126
CREATED:20250227T015107Z
LAST-MODIFIED:20250415T113621Z
UID:10002832-1745834400-1745838000@visitmanzanita.org
SUMMARY:Walking Wonders
DESCRIPTION:Join this active group rain or shine to get your steps in and around town.
URL:https://visitmanzanita.org/event/walking-wonders-157/
LOCATION:Kiawanda Community Center\, 34600 Cape Kiwanda Dr\, Pacific City\, OR\, 97135\, United States
CATEGORIES:Fitness and Athletics
ATTACH;FMTTYPE=image/png:https://visitmanzanita.org/wp-content/uploads/2024/04/Walking-Wonders-b317UD.tmp_.png
END:VEVENT
BEGIN:VEVENT
DTSTART;TZID=America/Los_Angeles:20250428T090000
DTEND;TZID=America/Los_Angeles:20250428T100000
DTSTAMP:20260421T032126
CREATED:20250227T015106Z
LAST-MODIFIED:20250415T113621Z
UID:10002831-1745830800-1745834400@visitmanzanita.org
SUMMARY:Yoga in Pacific City
DESCRIPTION:Yoga with Dawn 9am Mondays\, Wednesday\, Fridays & Saturdays \nCome enjoy the natural light with a forested dune as your backdrop on the mat.
URL:https://visitmanzanita.org/event/yoga-in-pacific-city-209/
LOCATION:Kiawanda Community Center\, 34600 Cape Kiwanda Dr\, Pacific City\, OR\, 97135\, United States
CATEGORIES:Fitness and Athletics
ATTACH;FMTTYPE=image/png:https://visitmanzanita.org/wp-content/uploads/2024/04/Yoga-mHIYGc.tmp_.png
END:VEVENT
BEGIN:VEVENT
DTSTART;TZID=America/Los_Angeles:20250426T090000
DTEND;TZID=America/Los_Angeles:20250426T100000
DTSTAMP:20260421T032126
CREATED:20250225T015105Z
LAST-MODIFIED:20250415T113620Z
UID:10002822-1745658000-1745661600@visitmanzanita.org
SUMMARY:Yoga in Pacific City
DESCRIPTION:Yoga with Dawn 9am Mondays\, Wednesday\, Fridays & Saturdays \nCome enjoy the natural light with a forested dune as your backdrop on the mat.
URL:https://visitmanzanita.org/event/yoga-in-pacific-city-208/
LOCATION:Kiawanda Community Center\, 34600 Cape Kiwanda Dr\, Pacific City\, OR\, 97135\, United States
CATEGORIES:Fitness and Athletics
ATTACH;FMTTYPE=image/png:https://visitmanzanita.org/wp-content/uploads/2024/04/Yoga-mHIYGc.tmp_.png
END:VEVENT
BEGIN:VEVENT
DTSTART;TZID=America/Los_Angeles:20250425T100000
DTEND;TZID=America/Los_Angeles:20250425T110000
DTSTAMP:20260421T032126
CREATED:20250224T015103Z
LAST-MODIFIED:20250415T113620Z
UID:10002818-1745575200-1745578800@visitmanzanita.org
SUMMARY:Walking Wonders
DESCRIPTION:Join this active group rain or shine to get your steps in and around town.
URL:https://visitmanzanita.org/event/walking-wonders-156/
LOCATION:Kiawanda Community Center\, 34600 Cape Kiwanda Dr\, Pacific City\, OR\, 97135\, United States
CATEGORIES:Fitness and Athletics
ATTACH;FMTTYPE=image/png:https://visitmanzanita.org/wp-content/uploads/2024/04/Walking-Wonders-b317UD.tmp_.png
END:VEVENT
BEGIN:VEVENT
DTSTART;TZID=America/Los_Angeles:20250425T090000
DTEND;TZID=America/Los_Angeles:20250425T100000
DTSTAMP:20260421T032126
CREATED:20250224T015103Z
LAST-MODIFIED:20250415T113620Z
UID:10002816-1745571600-1745575200@visitmanzanita.org
SUMMARY:Yoga in Pacific City
DESCRIPTION:Yoga with Dawn 9am Mondays\, Wednesday\, Fridays & Saturdays \nCome enjoy the natural light with a forested dune as your backdrop on the mat.
URL:https://visitmanzanita.org/event/yoga-in-pacific-city-207/
LOCATION:Kiawanda Community Center\, 34600 Cape Kiwanda Dr\, Pacific City\, OR\, 97135\, United States
CATEGORIES:Fitness and Athletics
ATTACH;FMTTYPE=image/png:https://visitmanzanita.org/wp-content/uploads/2024/04/Yoga-mHIYGc.tmp_.png
END:VEVENT
BEGIN:VEVENT
DTSTART;TZID=America/Los_Angeles:20250424T103000
DTEND;TZID=America/Los_Angeles:20250424T113000
DTSTAMP:20260421T032126
CREATED:20250223T013616Z
LAST-MODIFIED:20250415T113619Z
UID:10002813-1745490600-1745494200@visitmanzanita.org
SUMMARY:Tai Chi at the KCC
DESCRIPTION:Come to this weekly class in Pacific City to learn the forms in this moving meditation. Feel your life force flowing through you and get energized for you day!
URL:https://visitmanzanita.org/event/tai-chi-at-the-kcc-52/
LOCATION:Kiawanda Community Center\, 34600 Cape Kiwanda Dr\, Pacific City\, OR\, 97135\, United States
CATEGORIES:Fitness and Athletics
ATTACH;FMTTYPE=image/png:https://visitmanzanita.org/wp-content/uploads/2024/04/Tai-Chi-8q1tX1.tmp_.png
END:VEVENT
BEGIN:VEVENT
DTSTART;TZID=America/Los_Angeles:20250424T090000
DTEND;TZID=America/Los_Angeles:20250424T100000
DTSTAMP:20260421T032126
CREATED:20250223T013616Z
LAST-MODIFIED:20250415T113619Z
UID:10002811-1745485200-1745488800@visitmanzanita.org
SUMMARY:Fit and Fabulous at the KCC
DESCRIPTION:Come join this group keeping active two days a week. Only $15 for the month!
URL:https://visitmanzanita.org/event/fit-and-fabulous-at-the-kcc-104/
LOCATION:Kiawanda Community Center\, 34600 Cape Kiwanda Dr\, Pacific City\, OR\, 97135\, United States
CATEGORIES:Fitness and Athletics
ATTACH;FMTTYPE=image/png:https://visitmanzanita.org/wp-content/uploads/2024/04/Fit-Fabulous-ttT88Z.tmp_.png
END:VEVENT
BEGIN:VEVENT
DTSTART;TZID=America/Los_Angeles:20250423T170000
DTEND;TZID=America/Los_Angeles:20250423T180000
DTSTAMP:20260421T032126
CREATED:20250222T013604Z
LAST-MODIFIED:20250415T113619Z
UID:10002809-1745427600-1745431200@visitmanzanita.org
SUMMARY:Co-Ed Boxing Classes at the Kiawanda Community Center in Pacific City\, OR
DESCRIPTION:Pacific City Boxing offers boxing skills and cardio-strength training for ages 12 and older. The focus will be on the fundamentals of boxing. Participants will learn everything from boxing basics of wrapping hands to mit work. Focus will be on boxing fitness while learning proper footwork and punching combinations\, all while getting a great workout! Boxing is a great way to lessen stress and get into shape. Pacific City Boxing is USA Boxing and Safe Sport certified.\nCo-ed\nAges 12 & up\n$10 per class\nTo sign up\, email register to: pacificcityboxing@gmail.com
URL:https://visitmanzanita.org/event/co-ed-boxing-classes-at-the-kiawanda-community-center-in-pacific-city-or-52/
LOCATION:Kiawanda Community Center\, 34600 Cape Kiwanda Dr\, Pacific City\, OR\, 97135\, United States
CATEGORIES:Classes and Workshops,Family Fun,Fitness and Athletics
ATTACH;FMTTYPE=image/jpeg:https://visitmanzanita.org/wp-content/uploads/2024/04/Boxing-Flyer-New-aQjzJ0.tmp_.jpg
END:VEVENT
BEGIN:VEVENT
DTSTART;TZID=America/Los_Angeles:20250423T170000
DTEND;TZID=America/Los_Angeles:20250423T180000
DTSTAMP:20260421T032126
CREATED:20250222T013604Z
LAST-MODIFIED:20250415T113619Z
UID:10002810-1745427600-1745431200@visitmanzanita.org
SUMMARY:Boxing Class in Pacific City
DESCRIPTION:Pacific City Boxing offers boxing skills and cardio-strength training for ages 12 and older.  The focus will be on the fundamentals of boxing.  Participants will learn everything from boxing basics of wrapping hands to mit work. Focus will be on boxing fitness while learning proper footwork and punching combinations\, all while getting a great workout!  Boxing is a great way to lessen stress and get into shape.  Pacific City Boxing is USA Boxing and Safe Sport certified.
URL:https://visitmanzanita.org/event/boxing-class-in-pacific-city-52/
LOCATION:Kiawanda Community Center\, 34600 Cape Kiwanda Dr\, Pacific City\, OR\, 97135\, United States
CATEGORIES:Fitness and Athletics
ATTACH;FMTTYPE=image/png:https://visitmanzanita.org/wp-content/uploads/2024/04/Screenshot-2024-04-10-115036-woCnYn.tmp_.png
END:VEVENT
BEGIN:VEVENT
DTSTART;TZID=America/Los_Angeles:20250423T100000
DTEND;TZID=America/Los_Angeles:20250423T110000
DTSTAMP:20260421T032126
CREATED:20250222T013604Z
LAST-MODIFIED:20250415T113619Z
UID:10002808-1745402400-1745406000@visitmanzanita.org
SUMMARY:Walking Wonders
DESCRIPTION:Join this active group rain or shine to get your steps in and around town.
URL:https://visitmanzanita.org/event/walking-wonders-155/
LOCATION:Kiawanda Community Center\, 34600 Cape Kiwanda Dr\, Pacific City\, OR\, 97135\, United States
CATEGORIES:Fitness and Athletics
ATTACH;FMTTYPE=image/png:https://visitmanzanita.org/wp-content/uploads/2024/04/Walking-Wonders-b317UD.tmp_.png
END:VEVENT
BEGIN:VEVENT
DTSTART;TZID=America/Los_Angeles:20250423T090000
DTEND;TZID=America/Los_Angeles:20250423T100000
DTSTAMP:20260421T032126
CREATED:20250222T013604Z
LAST-MODIFIED:20250415T113619Z
UID:10002807-1745398800-1745402400@visitmanzanita.org
SUMMARY:Yoga in Pacific City
DESCRIPTION:Yoga with Dawn 9am Mondays\, Wednesday\, Fridays & Saturdays \nCome enjoy the natural light with a forested dune as your backdrop on the mat.
URL:https://visitmanzanita.org/event/yoga-in-pacific-city-206/
LOCATION:Kiawanda Community Center\, 34600 Cape Kiwanda Dr\, Pacific City\, OR\, 97135\, United States
CATEGORIES:Fitness and Athletics
ATTACH;FMTTYPE=image/png:https://visitmanzanita.org/wp-content/uploads/2024/04/Yoga-mHIYGc.tmp_.png
END:VEVENT
BEGIN:VEVENT
DTSTART;TZID=America/Los_Angeles:20250423T080000
DTEND;TZID=America/Los_Angeles:20250423T170000
DTSTAMP:20260421T032126
CREATED:20250222T013604Z
LAST-MODIFIED:20250415T113619Z
UID:10002805-1745395200-1745427600@visitmanzanita.org
SUMMARY:Kids Karate
DESCRIPTION:Ages 6 through 12 can learn from Perseverance Martial Arts on Mondays and Wednesdays. 4pm – 4:50pm. First class is free. \nOne class weekly is $50 a month and two classes weekly is $75 for the month. \npreservethepack@gmail.com
URL:https://visitmanzanita.org/event/kids-karate-37/
LOCATION:Kiawanda Community Center\, 34600 Cape Kiwanda Dr\, Pacific City\, OR\, 97135\, United States
CATEGORIES:Community,Family Fun
ATTACH;FMTTYPE=image/jpeg:https://visitmanzanita.org/wp-content/uploads/2024/08/new-karate-1-M2n8gV.tmp_.jpg
END:VEVENT
BEGIN:VEVENT
DTSTART;TZID=America/Los_Angeles:20250422T113000
DTEND;TZID=America/Los_Angeles:20250422T123000
DTSTAMP:20260421T032126
CREATED:20250221T013604Z
LAST-MODIFIED:20250415T113619Z
UID:10002804-1745321400-1745325000@visitmanzanita.org
SUMMARY:Senior Meals
DESCRIPTION:Senior Lunches are served at 11:30 am on Tuesdays and Wednesdays for $3 and others may attend for $6.
URL:https://visitmanzanita.org/event/senior-meals-38/
LOCATION:Kiawanda Community Center\, 34600 Cape Kiwanda Dr\, Pacific City\, OR\, 97135\, United States
CATEGORIES:Community
ATTACH;FMTTYPE=image/png:https://visitmanzanita.org/wp-content/uploads/2024/08/Senior-Meals-zN428M.tmp_.png
END:VEVENT
BEGIN:VEVENT
DTSTART;TZID=America/Los_Angeles:20250422T100000
DTEND;TZID=America/Los_Angeles:20250422T150000
DTSTAMP:20260421T032126
CREATED:20250221T013604Z
LAST-MODIFIED:20250415T113619Z
UID:10002803-1745316000-1745334000@visitmanzanita.org
SUMMARY:Tuesday Stitchers
DESCRIPTION:Come and be a part of a community of people who love to make things for others\, and in turn make friends within the group. All levels are welcome. \nJoin us at the Kiawanda Community Center on Tuesdays from 10 AM to 3 PM in the Great Hall. \nFirst Monday every month from 4 to 9 PM. \nCall (503) 965-7900 for more details | $6 admission
URL:https://visitmanzanita.org/event/tuesday-stitchers-23/
LOCATION:Kiawanda Community Center\, 34600 Cape Kiwanda Dr\, Pacific City\, OR\, 97135\, United States
CATEGORIES:Classes and Workshops,Community
ATTACH;FMTTYPE=image/png:https://visitmanzanita.org/wp-content/uploads/2024/11/Tuesday-Stitchers-Group-Flyer-ak6xyb.tmp_.png
END:VEVENT
BEGIN:VEVENT
DTSTART;TZID=America/Los_Angeles:20250422T090000
DTEND;TZID=America/Los_Angeles:20250422T100000
DTSTAMP:20260421T032126
CREATED:20250221T013604Z
LAST-MODIFIED:20250415T113619Z
UID:10002802-1745312400-1745316000@visitmanzanita.org
SUMMARY:Fit and Fabulous at the KCC
DESCRIPTION:Come join this group keeping active two days a week. Only $15 for the month!
URL:https://visitmanzanita.org/event/fit-and-fabulous-at-the-kcc-103/
LOCATION:Kiawanda Community Center\, 34600 Cape Kiwanda Dr\, Pacific City\, OR\, 97135\, United States
CATEGORIES:Fitness and Athletics
ATTACH;FMTTYPE=image/png:https://visitmanzanita.org/wp-content/uploads/2024/04/Fit-Fabulous-ttT88Z.tmp_.png
END:VEVENT
BEGIN:VEVENT
DTSTART;TZID=America/Los_Angeles:20250421T160000
DTEND;TZID=America/Los_Angeles:20250421T180000
DTSTAMP:20260421T032126
CREATED:20250220T013614Z
LAST-MODIFIED:20250415T113618Z
UID:10002800-1745251200-1745258400@visitmanzanita.org
SUMMARY:Karate Class
DESCRIPTION:Preseverence Martial Arts teaches 2 classes on Mondays. Children from ages 6 -12 can attend from 4-4:50pm and ages 13 – adults have class from 5-5:50. First class is free. One weekly class per month is $50 for the month. Kids karate is aslo offered on Wednesdays ay 4pm. Two weekly classes per month is $75 per month.
URL:https://visitmanzanita.org/event/karate-class-37/
LOCATION:Kiawanda Community Center\, 34600 Cape Kiwanda Dr\, Pacific City\, OR\, 97135\, United States
CATEGORIES:Classes and Workshops,Community,Family Fun
ATTACH;FMTTYPE=image/jpeg:https://visitmanzanita.org/wp-content/uploads/2024/08/new-karate-mKK5ug.tmp_.jpg
END:VEVENT
BEGIN:VEVENT
DTSTART;TZID=America/Los_Angeles:20250421T100000
DTEND;TZID=America/Los_Angeles:20250421T110000
DTSTAMP:20260421T032126
CREATED:20250220T013614Z
LAST-MODIFIED:20250415T113618Z
UID:10002799-1745229600-1745233200@visitmanzanita.org
SUMMARY:Walking Wonders
DESCRIPTION:Join this active group rain or shine to get your steps in and around town.
URL:https://visitmanzanita.org/event/walking-wonders-154/
LOCATION:Kiawanda Community Center\, 34600 Cape Kiwanda Dr\, Pacific City\, OR\, 97135\, United States
CATEGORIES:Fitness and Athletics
ATTACH;FMTTYPE=image/png:https://visitmanzanita.org/wp-content/uploads/2024/04/Walking-Wonders-b317UD.tmp_.png
END:VEVENT
BEGIN:VEVENT
DTSTART;TZID=America/Los_Angeles:20250421T090000
DTEND;TZID=America/Los_Angeles:20250421T100000
DTSTAMP:20260421T032126
CREATED:20250220T013614Z
LAST-MODIFIED:20250415T113618Z
UID:10002798-1745226000-1745229600@visitmanzanita.org
SUMMARY:Yoga in Pacific City
DESCRIPTION:Yoga with Dawn 9am Mondays\, Wednesday\, Fridays & Saturdays \nCome enjoy the natural light with a forested dune as your backdrop on the mat.
URL:https://visitmanzanita.org/event/yoga-in-pacific-city-205/
LOCATION:Kiawanda Community Center\, 34600 Cape Kiwanda Dr\, Pacific City\, OR\, 97135\, United States
CATEGORIES:Fitness and Athletics
ATTACH;FMTTYPE=image/png:https://visitmanzanita.org/wp-content/uploads/2024/04/Yoga-mHIYGc.tmp_.png
END:VEVENT
BEGIN:VEVENT
DTSTART;TZID=America/Los_Angeles:20250419T090000
DTEND;TZID=America/Los_Angeles:20250419T100000
DTSTAMP:20260421T032126
CREATED:20250218T012116Z
LAST-MODIFIED:20250415T113617Z
UID:10002721-1745053200-1745056800@visitmanzanita.org
SUMMARY:Yoga in Pacific City
DESCRIPTION:Yoga with Dawn 9am Mondays\, Wednesday\, Fridays & Saturdays \nCome enjoy the natural light with a forested dune as your backdrop on the mat.
URL:https://visitmanzanita.org/event/yoga-in-pacific-city-204/
LOCATION:Kiawanda Community Center\, 34600 Cape Kiwanda Dr\, Pacific City\, OR\, 97135\, United States
CATEGORIES:Fitness and Athletics
ATTACH;FMTTYPE=image/png:https://visitmanzanita.org/wp-content/uploads/2024/04/Yoga-mHIYGc.tmp_.png
END:VEVENT
BEGIN:VEVENT
DTSTART;TZID=America/Los_Angeles:20250418T100000
DTEND;TZID=America/Los_Angeles:20250418T110000
DTSTAMP:20260421T032126
CREATED:20250217T012117Z
LAST-MODIFIED:20250415T113617Z
UID:10002718-1744970400-1744974000@visitmanzanita.org
SUMMARY:Walking Wonders
DESCRIPTION:Join this active group rain or shine to get your steps in and around town.
URL:https://visitmanzanita.org/event/walking-wonders-153/
LOCATION:Kiawanda Community Center\, 34600 Cape Kiwanda Dr\, Pacific City\, OR\, 97135\, United States
CATEGORIES:Fitness and Athletics
ATTACH;FMTTYPE=image/png:https://visitmanzanita.org/wp-content/uploads/2024/04/Walking-Wonders-b317UD.tmp_.png
END:VEVENT
BEGIN:VEVENT
DTSTART;TZID=America/Los_Angeles:20250418T090000
DTEND;TZID=America/Los_Angeles:20250418T100000
DTSTAMP:20260421T032126
CREATED:20250217T012117Z
LAST-MODIFIED:20250415T113617Z
UID:10002717-1744966800-1744970400@visitmanzanita.org
SUMMARY:Yoga in Pacific City
DESCRIPTION:Yoga with Dawn 9am Mondays\, Wednesday\, Fridays & Saturdays \nCome enjoy the natural light with a forested dune as your backdrop on the mat.
URL:https://visitmanzanita.org/event/yoga-in-pacific-city-203/
LOCATION:Kiawanda Community Center\, 34600 Cape Kiwanda Dr\, Pacific City\, OR\, 97135\, United States
CATEGORIES:Fitness and Athletics
ATTACH;FMTTYPE=image/png:https://visitmanzanita.org/wp-content/uploads/2024/04/Yoga-mHIYGc.tmp_.png
END:VEVENT
BEGIN:VEVENT
DTSTART;TZID=America/Los_Angeles:20250417T103000
DTEND;TZID=America/Los_Angeles:20250417T113000
DTSTAMP:20260421T032126
CREATED:20250216T012120Z
LAST-MODIFIED:20250415T113617Z
UID:10002715-1744885800-1744889400@visitmanzanita.org
SUMMARY:Tai Chi at the KCC
DESCRIPTION:Come to this weekly class in Pacific City to learn the forms in this moving meditation. Feel your life force flowing through you and get energized for you day!
URL:https://visitmanzanita.org/event/tai-chi-at-the-kcc-51/
LOCATION:Kiawanda Community Center\, 34600 Cape Kiwanda Dr\, Pacific City\, OR\, 97135\, United States
CATEGORIES:Fitness and Athletics
ATTACH;FMTTYPE=image/png:https://visitmanzanita.org/wp-content/uploads/2024/04/Tai-Chi-8q1tX1.tmp_.png
END:VEVENT
BEGIN:VEVENT
DTSTART;TZID=America/Los_Angeles:20250417T090000
DTEND;TZID=America/Los_Angeles:20250417T100000
DTSTAMP:20260421T032126
CREATED:20250216T012120Z
LAST-MODIFIED:20250415T113616Z
UID:10002713-1744880400-1744884000@visitmanzanita.org
SUMMARY:Fit and Fabulous at the KCC
DESCRIPTION:Come join this group keeping active two days a week. Only $15 for the month!
URL:https://visitmanzanita.org/event/fit-and-fabulous-at-the-kcc-102/
LOCATION:Kiawanda Community Center\, 34600 Cape Kiwanda Dr\, Pacific City\, OR\, 97135\, United States
CATEGORIES:Fitness and Athletics
ATTACH;FMTTYPE=image/png:https://visitmanzanita.org/wp-content/uploads/2024/04/Fit-Fabulous-ttT88Z.tmp_.png
END:VEVENT
BEGIN:VEVENT
DTSTART;TZID=America/Los_Angeles:20250416T170000
DTEND;TZID=America/Los_Angeles:20250416T180000
DTSTAMP:20260421T032126
CREATED:20250215T012109Z
LAST-MODIFIED:20250415T113616Z
UID:10002711-1744822800-1744826400@visitmanzanita.org
SUMMARY:Co-Ed Boxing Classes at the Kiawanda Community Center in Pacific City\, OR
DESCRIPTION:Pacific City Boxing offers boxing skills and cardio-strength training for ages 12 and older. The focus will be on the fundamentals of boxing. Participants will learn everything from boxing basics of wrapping hands to mit work. Focus will be on boxing fitness while learning proper footwork and punching combinations\, all while getting a great workout! Boxing is a great way to lessen stress and get into shape. Pacific City Boxing is USA Boxing and Safe Sport certified.\nCo-ed\nAges 12 & up\n$10 per class\nTo sign up\, email register to: pacificcityboxing@gmail.com
URL:https://visitmanzanita.org/event/co-ed-boxing-classes-at-the-kiawanda-community-center-in-pacific-city-or-51/
LOCATION:Kiawanda Community Center\, 34600 Cape Kiwanda Dr\, Pacific City\, OR\, 97135\, United States
CATEGORIES:Classes and Workshops,Family Fun,Fitness and Athletics
ATTACH;FMTTYPE=image/jpeg:https://visitmanzanita.org/wp-content/uploads/2024/04/Boxing-Flyer-New-aQjzJ0.tmp_.jpg
END:VEVENT
BEGIN:VEVENT
DTSTART;TZID=America/Los_Angeles:20250416T170000
DTEND;TZID=America/Los_Angeles:20250416T180000
DTSTAMP:20260421T032126
CREATED:20250215T012109Z
LAST-MODIFIED:20250415T113616Z
UID:10002712-1744822800-1744826400@visitmanzanita.org
SUMMARY:Boxing Class in Pacific City
DESCRIPTION:Pacific City Boxing offers boxing skills and cardio-strength training for ages 12 and older.  The focus will be on the fundamentals of boxing.  Participants will learn everything from boxing basics of wrapping hands to mit work. Focus will be on boxing fitness while learning proper footwork and punching combinations\, all while getting a great workout!  Boxing is a great way to lessen stress and get into shape.  Pacific City Boxing is USA Boxing and Safe Sport certified.
URL:https://visitmanzanita.org/event/boxing-class-in-pacific-city-51/
LOCATION:Kiawanda Community Center\, 34600 Cape Kiwanda Dr\, Pacific City\, OR\, 97135\, United States
CATEGORIES:Fitness and Athletics
ATTACH;FMTTYPE=image/png:https://visitmanzanita.org/wp-content/uploads/2024/04/Screenshot-2024-04-10-115036-woCnYn.tmp_.png
END:VEVENT
BEGIN:VEVENT
DTSTART;TZID=America/Los_Angeles:20250416T100000
DTEND;TZID=America/Los_Angeles:20250416T110000
DTSTAMP:20260421T032126
CREATED:20250215T012109Z
LAST-MODIFIED:20250415T113616Z
UID:10002710-1744797600-1744801200@visitmanzanita.org
SUMMARY:Walking Wonders
DESCRIPTION:Join this active group rain or shine to get your steps in and around town.
URL:https://visitmanzanita.org/event/walking-wonders-152/
LOCATION:Kiawanda Community Center\, 34600 Cape Kiwanda Dr\, Pacific City\, OR\, 97135\, United States
CATEGORIES:Fitness and Athletics
ATTACH;FMTTYPE=image/png:https://visitmanzanita.org/wp-content/uploads/2024/04/Walking-Wonders-b317UD.tmp_.png
END:VEVENT
END:VCALENDAR