BEGIN:VCALENDAR
VERSION:2.0
PRODID:-//Manzanita Oregon Visitor Center - ECPv6.15.20//NONSGML v1.0//EN
CALSCALE:GREGORIAN
METHOD:PUBLISH
X-WR-CALNAME:Manzanita Oregon Visitor Center
X-ORIGINAL-URL:https://visitmanzanita.org
X-WR-CALDESC:Events for Manzanita Oregon Visitor Center
REFRESH-INTERVAL;VALUE=DURATION:PT1H
X-Robots-Tag:noindex
X-PUBLISHED-TTL:PT1H
BEGIN:VTIMEZONE
TZID:America/Los_Angeles
BEGIN:DAYLIGHT
TZOFFSETFROM:-0800
TZOFFSETTO:-0700
TZNAME:PDT
DTSTART:20230312T100000
END:DAYLIGHT
BEGIN:STANDARD
TZOFFSETFROM:-0700
TZOFFSETTO:-0800
TZNAME:PST
DTSTART:20231105T090000
END:STANDARD
BEGIN:DAYLIGHT
TZOFFSETFROM:-0800
TZOFFSETTO:-0700
TZNAME:PDT
DTSTART:20240310T100000
END:DAYLIGHT
BEGIN:STANDARD
TZOFFSETFROM:-0700
TZOFFSETTO:-0800
TZNAME:PST
DTSTART:20241103T090000
END:STANDARD
BEGIN:DAYLIGHT
TZOFFSETFROM:-0800
TZOFFSETTO:-0700
TZNAME:PDT
DTSTART:20250309T100000
END:DAYLIGHT
BEGIN:STANDARD
TZOFFSETFROM:-0700
TZOFFSETTO:-0800
TZNAME:PST
DTSTART:20251102T090000
END:STANDARD
END:VTIMEZONE
BEGIN:VEVENT
DTSTART;TZID=America/Los_Angeles:20241014T100000
DTEND;TZID=America/Los_Angeles:20241014T110000
DTSTAMP:20260423T190454
CREATED:20240815T212103Z
LAST-MODIFIED:20241014T025102Z
UID:10001666-1728900000-1728903600@visitmanzanita.org
SUMMARY:Walking Wonders
DESCRIPTION:Join this active group rain or shine to get your steps in and around town.
URL:https://visitmanzanita.org/event/walking-wonders-73/
LOCATION:Kiawanda Community Center\, 34600 Cape Kiwanda Dr\, Pacific City\, OR\, 97135\, United States
CATEGORIES:Fitness and Athletics
ATTACH;FMTTYPE=image/png:https://visitmanzanita.org/wp-content/uploads/2024/04/Walking-Wonders-b317UD.tmp_.png
END:VEVENT
BEGIN:VEVENT
DTSTART;TZID=America/Los_Angeles:20241014T090000
DTEND;TZID=America/Los_Angeles:20241014T100000
DTSTAMP:20260423T190454
CREATED:20240815T212103Z
LAST-MODIFIED:20241014T025102Z
UID:10001665-1728896400-1728900000@visitmanzanita.org
SUMMARY:Yoga in Pacific City
DESCRIPTION:Yoga with Dawn 9am Mondays\, Wednesday\, Fridays & Saturdays \nCome enjoy the natural light with a forested dune as your backdrop on the mat.
URL:https://visitmanzanita.org/event/yoga-in-pacific-city-97/
LOCATION:Kiawanda Community Center\, 34600 Cape Kiwanda Dr\, Pacific City\, OR\, 97135\, United States
CATEGORIES:Fitness and Athletics
ATTACH;FMTTYPE=image/png:https://visitmanzanita.org/wp-content/uploads/2024/04/Yoga-mHIYGc.tmp_.png
END:VEVENT
BEGIN:VEVENT
DTSTART;TZID=America/Los_Angeles:20241012T090000
DTEND;TZID=America/Los_Angeles:20241012T100000
DTSTAMP:20260423T190454
CREATED:20240813T210611Z
LAST-MODIFIED:20241012T023614Z
UID:10001661-1728723600-1728727200@visitmanzanita.org
SUMMARY:Yoga in Pacific City
DESCRIPTION:Yoga with Dawn 9am Mondays\, Wednesday\, Fridays & Saturdays \nCome enjoy the natural light with a forested dune as your backdrop on the mat.
URL:https://visitmanzanita.org/event/yoga-in-pacific-city-96/
LOCATION:Kiawanda Community Center\, 34600 Cape Kiwanda Dr\, Pacific City\, OR\, 97135\, United States
CATEGORIES:Fitness and Athletics
ATTACH;FMTTYPE=image/png:https://visitmanzanita.org/wp-content/uploads/2024/04/Yoga-mHIYGc.tmp_.png
END:VEVENT
BEGIN:VEVENT
DTSTART;TZID=America/Los_Angeles:20241011T100000
DTEND;TZID=America/Los_Angeles:20241011T110000
DTSTAMP:20260423T190454
CREATED:20240812T210613Z
LAST-MODIFIED:20241011T023645Z
UID:10001658-1728640800-1728644400@visitmanzanita.org
SUMMARY:Walking Wonders
DESCRIPTION:Join this active group rain or shine to get your steps in and around town.
URL:https://visitmanzanita.org/event/walking-wonders-72/
LOCATION:Kiawanda Community Center\, 34600 Cape Kiwanda Dr\, Pacific City\, OR\, 97135\, United States
CATEGORIES:Fitness and Athletics
ATTACH;FMTTYPE=image/png:https://visitmanzanita.org/wp-content/uploads/2024/04/Walking-Wonders-b317UD.tmp_.png
END:VEVENT
BEGIN:VEVENT
DTSTART;TZID=America/Los_Angeles:20241011T090000
DTEND;TZID=America/Los_Angeles:20241011T100000
DTSTAMP:20260423T190454
CREATED:20240812T210613Z
LAST-MODIFIED:20241011T023644Z
UID:10001657-1728637200-1728640800@visitmanzanita.org
SUMMARY:Yoga in Pacific City
DESCRIPTION:Yoga with Dawn 9am Mondays\, Wednesday\, Fridays & Saturdays \nCome enjoy the natural light with a forested dune as your backdrop on the mat.
URL:https://visitmanzanita.org/event/yoga-in-pacific-city-95/
LOCATION:Kiawanda Community Center\, 34600 Cape Kiwanda Dr\, Pacific City\, OR\, 97135\, United States
CATEGORIES:Fitness and Athletics
ATTACH;FMTTYPE=image/png:https://visitmanzanita.org/wp-content/uploads/2024/04/Yoga-mHIYGc.tmp_.png
END:VEVENT
BEGIN:VEVENT
DTSTART;TZID=America/Los_Angeles:20241010T103000
DTEND;TZID=America/Los_Angeles:20241010T113000
DTSTAMP:20260423T190454
CREATED:20240811T205103Z
LAST-MODIFIED:20241010T023548Z
UID:10001654-1728556200-1728559800@visitmanzanita.org
SUMMARY:Tai Chi at the KCC
DESCRIPTION:Come to this weekly class in Pacific City to learn the forms in this moving meditation. Feel your life force flowing through you and get energized for you day!
URL:https://visitmanzanita.org/event/tai-chi-at-the-kcc-24/
LOCATION:Kiawanda Community Center\, 34600 Cape Kiwanda Dr\, Pacific City\, OR\, 97135\, United States
CATEGORIES:Fitness and Athletics
ATTACH;FMTTYPE=image/png:https://visitmanzanita.org/wp-content/uploads/2024/04/Tai-Chi-8q1tX1.tmp_.png
END:VEVENT
BEGIN:VEVENT
DTSTART;TZID=America/Los_Angeles:20241010T090000
DTEND;TZID=America/Los_Angeles:20241010T100000
DTSTAMP:20260423T190454
CREATED:20240811T205103Z
LAST-MODIFIED:20241010T023548Z
UID:10001653-1728550800-1728554400@visitmanzanita.org
SUMMARY:Fit and Fabulous at the KCC
DESCRIPTION:Come join this group keeping active two days a week. Only $15 for the month!
URL:https://visitmanzanita.org/event/fit-and-fabulous-at-the-kcc-48/
LOCATION:Kiawanda Community Center\, 34600 Cape Kiwanda Dr\, Pacific City\, OR\, 97135\, United States
CATEGORIES:Fitness and Athletics
ATTACH;FMTTYPE=image/png:https://visitmanzanita.org/wp-content/uploads/2024/04/Fit-Fabulous-ttT88Z.tmp_.png
END:VEVENT
BEGIN:VEVENT
DTSTART;TZID=America/Los_Angeles:20241010T083000
DTEND;TZID=America/Los_Angeles:20241010T100000
DTSTAMP:20260423T190454
CREATED:20240811T205103Z
LAST-MODIFIED:20241010T023547Z
UID:10001652-1728549000-1728554400@visitmanzanita.org
SUMMARY:Mommy & Me at the KCC
DESCRIPTION:Fiddlesticks Toys hosts a monthly meet up for families with young children to socialize\, play together and find support.
URL:https://visitmanzanita.org/event/mommy-me-at-the-kcc-6/
LOCATION:Kiawanda Community Center\, 34600 Cape Kiwanda Dr\, Pacific City\, OR\, 97135\, United States
CATEGORIES:Community
ATTACH;FMTTYPE=image/png:https://visitmanzanita.org/wp-content/uploads/2024/04/Mommy-Me-YSQlIC.tmp_.png
END:VEVENT
BEGIN:VEVENT
DTSTART;TZID=America/Los_Angeles:20241009T170000
DTEND;TZID=America/Los_Angeles:20241009T180000
DTSTAMP:20260423T190454
CREATED:20240810T205124Z
LAST-MODIFIED:20241009T023547Z
UID:10001651-1728493200-1728496800@visitmanzanita.org
SUMMARY:Boxing Class in Pacific City
DESCRIPTION:Pacific City Boxing offers boxing skills and cardio-strength training for ages 12 and older.  The focus will be on the fundamentals of boxing.  Participants will learn everything from boxing basics of wrapping hands to mit work. Focus will be on boxing fitness while learning proper footwork and punching combinations\, all while getting a great workout!  Boxing is a great way to lessen stress and get into shape.  Pacific City Boxing is USA Boxing and Safe Sport certified.
URL:https://visitmanzanita.org/event/boxing-class-in-pacific-city-24/
LOCATION:Kiawanda Community Center\, 34600 Cape Kiwanda Dr\, Pacific City\, OR\, 97135\, United States
CATEGORIES:Fitness and Athletics
ATTACH;FMTTYPE=image/png:https://visitmanzanita.org/wp-content/uploads/2024/04/Screenshot-2024-04-10-115036-woCnYn.tmp_.png
END:VEVENT
BEGIN:VEVENT
DTSTART;TZID=America/Los_Angeles:20241009T170000
DTEND;TZID=America/Los_Angeles:20241009T180000
DTSTAMP:20260423T190454
CREATED:20240810T205124Z
LAST-MODIFIED:20241009T023547Z
UID:10001650-1728493200-1728496800@visitmanzanita.org
SUMMARY:Co-Ed Boxing Classes at the Kiawanda Community Center in Pacific City\, OR
DESCRIPTION:Pacific City Boxing offers boxing skills and cardio-strength training for ages 12 and older. The focus will be on the fundamentals of boxing. Participants will learn everything from boxing basics of wrapping hands to mit work. Focus will be on boxing fitness while learning proper footwork and punching combinations\, all while getting a great workout! Boxing is a great way to lessen stress and get into shape. Pacific City Boxing is USA Boxing and Safe Sport certified.\nCo-ed\nAges 12 & up\n$10 per class\nTo sign up\, email register to: pacificcityboxing@gmail.com
URL:https://visitmanzanita.org/event/co-ed-boxing-classes-at-the-kiawanda-community-center-in-pacific-city-or-24/
LOCATION:Kiawanda Community Center\, 34600 Cape Kiwanda Dr\, Pacific City\, OR\, 97135\, United States
CATEGORIES:Classes and Workshops,Family Fun,Fitness and Athletics
ATTACH;FMTTYPE=image/jpeg:https://visitmanzanita.org/wp-content/uploads/2024/04/Boxing-Flyer-New-aQjzJ0.tmp_.jpg
END:VEVENT
BEGIN:VEVENT
DTSTART;TZID=America/Los_Angeles:20241009T100000
DTEND;TZID=America/Los_Angeles:20241009T110000
DTSTAMP:20260423T190454
CREATED:20240810T205124Z
LAST-MODIFIED:20241009T023547Z
UID:10001648-1728468000-1728471600@visitmanzanita.org
SUMMARY:Walking Wonders
DESCRIPTION:Join this active group rain or shine to get your steps in and around town.
URL:https://visitmanzanita.org/event/walking-wonders-71/
LOCATION:Kiawanda Community Center\, 34600 Cape Kiwanda Dr\, Pacific City\, OR\, 97135\, United States
CATEGORIES:Fitness and Athletics
ATTACH;FMTTYPE=image/png:https://visitmanzanita.org/wp-content/uploads/2024/04/Walking-Wonders-b317UD.tmp_.png
END:VEVENT
BEGIN:VEVENT
DTSTART;TZID=America/Los_Angeles:20241009T090000
DTEND;TZID=America/Los_Angeles:20241009T100000
DTSTAMP:20260423T190454
CREATED:20240810T205124Z
LAST-MODIFIED:20241009T023547Z
UID:10001647-1728464400-1728468000@visitmanzanita.org
SUMMARY:Yoga in Pacific City
DESCRIPTION:Yoga with Dawn 9am Mondays\, Wednesday\, Fridays & Saturdays \nCome enjoy the natural light with a forested dune as your backdrop on the mat.
URL:https://visitmanzanita.org/event/yoga-in-pacific-city-94/
LOCATION:Kiawanda Community Center\, 34600 Cape Kiwanda Dr\, Pacific City\, OR\, 97135\, United States
CATEGORIES:Fitness and Athletics
ATTACH;FMTTYPE=image/png:https://visitmanzanita.org/wp-content/uploads/2024/04/Yoga-mHIYGc.tmp_.png
END:VEVENT
BEGIN:VEVENT
DTSTART;TZID=America/Los_Angeles:20241009T080000
DTEND;TZID=America/Los_Angeles:20241009T170000
DTSTAMP:20260423T190454
CREATED:20240810T205124Z
LAST-MODIFIED:20241009T023546Z
UID:10001646-1728460800-1728493200@visitmanzanita.org
SUMMARY:Kids Karate
DESCRIPTION:Ages 6 through 12 can learn from Perseverance Martial Arts on Mondays and Wednesdays. 4pm – 4:50pm. First class is free. \nOne class weekly is $50 a month and two classes weekly is $75 for the month. \npreservethepack@gmail.com
URL:https://visitmanzanita.org/event/kids-karate-9/
LOCATION:Kiawanda Community Center\, 34600 Cape Kiwanda Dr\, Pacific City\, OR\, 97135\, United States
CATEGORIES:Community,Family Fun
ATTACH;FMTTYPE=image/jpeg:https://visitmanzanita.org/wp-content/uploads/2024/08/new-karate-1-M2n8gV.tmp_.jpg
END:VEVENT
BEGIN:VEVENT
DTSTART;TZID=America/Los_Angeles:20241008T113000
DTEND;TZID=America/Los_Angeles:20241008T123000
DTSTAMP:20260423T190454
CREATED:20240810T205124Z
LAST-MODIFIED:20241008T023603Z
UID:10001645-1728387000-1728390600@visitmanzanita.org
SUMMARY:Senior Meals
DESCRIPTION:Senior Lunches are served at 11:30 am on Tuesdays and Wednesdays for $3 and others may attend for $6.
URL:https://visitmanzanita.org/event/senior-meals-10/
LOCATION:Kiawanda Community Center\, 34600 Cape Kiwanda Dr\, Pacific City\, OR\, 97135\, United States
CATEGORIES:Community
ATTACH;FMTTYPE=image/png:https://visitmanzanita.org/wp-content/uploads/2024/08/Senior-Meals-zN428M.tmp_.png
END:VEVENT
BEGIN:VEVENT
DTSTART;TZID=America/Los_Angeles:20241008T090000
DTEND;TZID=America/Los_Angeles:20241008T100000
DTSTAMP:20260423T190454
CREATED:20240809T205058Z
LAST-MODIFIED:20241008T023603Z
UID:10001614-1728378000-1728381600@visitmanzanita.org
SUMMARY:Fit and Fabulous at the KCC
DESCRIPTION:Come join this group keeping active two days a week. Only $15 for the month!
URL:https://visitmanzanita.org/event/fit-and-fabulous-at-the-kcc-47/
LOCATION:Kiawanda Community Center\, 34600 Cape Kiwanda Dr\, Pacific City\, OR\, 97135\, United States
CATEGORIES:Fitness and Athletics
ATTACH;FMTTYPE=image/png:https://visitmanzanita.org/wp-content/uploads/2024/04/Fit-Fabulous-ttT88Z.tmp_.png
END:VEVENT
BEGIN:VEVENT
DTSTART;TZID=America/Los_Angeles:20241007T160000
DTEND;TZID=America/Los_Angeles:20241007T180000
DTSTAMP:20260423T190454
CREATED:20240810T205124Z
LAST-MODIFIED:20241007T023547Z
UID:10001644-1728316800-1728324000@visitmanzanita.org
SUMMARY:Karate Class
DESCRIPTION:Preseverence Martial Arts teaches 2 classes on Mondays. Children from ages 6 -12 can attend from 4-4:50pm and ages 13 – adults have class from 5-5:50. First class is free. One weekly class per month is $50 for the month. Kids karate is aslo offered on Wednesdays ay 4pm. Two weekly classes per month is $75 per month.
URL:https://visitmanzanita.org/event/karate-class-9/
LOCATION:Kiawanda Community Center\, 34600 Cape Kiwanda Dr\, Pacific City\, OR\, 97135\, United States
CATEGORIES:Classes and Workshops,Community,Family Fun
ATTACH;FMTTYPE=image/jpeg:https://visitmanzanita.org/wp-content/uploads/2024/08/new-karate-mKK5ug.tmp_.jpg
END:VEVENT
BEGIN:VEVENT
DTSTART;TZID=America/Los_Angeles:20241007T100000
DTEND;TZID=America/Los_Angeles:20241007T110000
DTSTAMP:20260423T190454
CREATED:20240808T205058Z
LAST-MODIFIED:20241007T023547Z
UID:10001612-1728295200-1728298800@visitmanzanita.org
SUMMARY:Walking Wonders
DESCRIPTION:Join this active group rain or shine to get your steps in and around town.
URL:https://visitmanzanita.org/event/walking-wonders-70/
LOCATION:Kiawanda Community Center\, 34600 Cape Kiwanda Dr\, Pacific City\, OR\, 97135\, United States
CATEGORIES:Fitness and Athletics
ATTACH;FMTTYPE=image/png:https://visitmanzanita.org/wp-content/uploads/2024/04/Walking-Wonders-b317UD.tmp_.png
END:VEVENT
BEGIN:VEVENT
DTSTART;TZID=America/Los_Angeles:20241007T090000
DTEND;TZID=America/Los_Angeles:20241007T100000
DTSTAMP:20260423T190454
CREATED:20240808T205058Z
LAST-MODIFIED:20241007T023547Z
UID:10001611-1728291600-1728295200@visitmanzanita.org
SUMMARY:Yoga in Pacific City
DESCRIPTION:Yoga with Dawn 9am Mondays\, Wednesday\, Fridays & Saturdays \nCome enjoy the natural light with a forested dune as your backdrop on the mat.
URL:https://visitmanzanita.org/event/yoga-in-pacific-city-93/
LOCATION:Kiawanda Community Center\, 34600 Cape Kiwanda Dr\, Pacific City\, OR\, 97135\, United States
CATEGORIES:Fitness and Athletics
ATTACH;FMTTYPE=image/png:https://visitmanzanita.org/wp-content/uploads/2024/04/Yoga-mHIYGc.tmp_.png
END:VEVENT
BEGIN:VEVENT
DTSTART;TZID=America/Los_Angeles:20241005T090000
DTEND;TZID=America/Los_Angeles:20241005T100000
DTSTAMP:20260423T190454
CREATED:20240806T203614Z
LAST-MODIFIED:20240923T233707Z
UID:10001607-1728118800-1728122400@visitmanzanita.org
SUMMARY:Yoga in Pacific City
DESCRIPTION:Yoga with Dawn 9am Mondays\, Wednesday\, Fridays & Saturdays \nCome enjoy the natural light with a forested dune as your backdrop on the mat.
URL:https://visitmanzanita.org/event/yoga-in-pacific-city-92/
LOCATION:Kiawanda Community Center\, 34600 Cape Kiwanda Dr\, Pacific City\, OR\, 97135\, United States
CATEGORIES:Fitness and Athletics
ATTACH;FMTTYPE=image/png:https://visitmanzanita.org/wp-content/uploads/2024/04/Yoga-mHIYGc.tmp_.png
END:VEVENT
BEGIN:VEVENT
DTSTART;TZID=America/Los_Angeles:20241004T100000
DTEND;TZID=America/Los_Angeles:20241004T110000
DTSTAMP:20260423T190454
CREATED:20240805T202058Z
LAST-MODIFIED:20240923T233707Z
UID:10001596-1728036000-1728039600@visitmanzanita.org
SUMMARY:Walking Wonders
DESCRIPTION:Join this active group rain or shine to get your steps in and around town.
URL:https://visitmanzanita.org/event/walking-wonders-69/
LOCATION:Kiawanda Community Center\, 34600 Cape Kiwanda Dr\, Pacific City\, OR\, 97135\, United States
CATEGORIES:Fitness and Athletics
ATTACH;FMTTYPE=image/png:https://visitmanzanita.org/wp-content/uploads/2024/04/Walking-Wonders-b317UD.tmp_.png
END:VEVENT
BEGIN:VEVENT
DTSTART;TZID=America/Los_Angeles:20241004T090000
DTEND;TZID=America/Los_Angeles:20241004T100000
DTSTAMP:20260423T190454
CREATED:20240805T202058Z
LAST-MODIFIED:20240923T233707Z
UID:10001595-1728032400-1728036000@visitmanzanita.org
SUMMARY:Yoga in Pacific City
DESCRIPTION:Yoga with Dawn 9am Mondays\, Wednesday\, Fridays & Saturdays \nCome enjoy the natural light with a forested dune as your backdrop on the mat.
URL:https://visitmanzanita.org/event/yoga-in-pacific-city-91/
LOCATION:Kiawanda Community Center\, 34600 Cape Kiwanda Dr\, Pacific City\, OR\, 97135\, United States
CATEGORIES:Fitness and Athletics
ATTACH;FMTTYPE=image/png:https://visitmanzanita.org/wp-content/uploads/2024/04/Yoga-mHIYGc.tmp_.png
END:VEVENT
BEGIN:VEVENT
DTSTART;TZID=America/Los_Angeles:20241003T103000
DTEND;TZID=America/Los_Angeles:20241003T113000
DTSTAMP:20260423T190454
CREATED:20240804T202101Z
LAST-MODIFIED:20240923T233706Z
UID:10001593-1727951400-1727955000@visitmanzanita.org
SUMMARY:Tai Chi at the KCC
DESCRIPTION:Come to this weekly class in Pacific City to learn the forms in this moving meditation. Feel your life force flowing through you and get energized for you day!
URL:https://visitmanzanita.org/event/tai-chi-at-the-kcc-23/
LOCATION:Kiawanda Community Center\, 34600 Cape Kiwanda Dr\, Pacific City\, OR\, 97135\, United States
CATEGORIES:Fitness and Athletics
ATTACH;FMTTYPE=image/png:https://visitmanzanita.org/wp-content/uploads/2024/04/Tai-Chi-8q1tX1.tmp_.png
END:VEVENT
BEGIN:VEVENT
DTSTART;TZID=America/Los_Angeles:20241003T090000
DTEND;TZID=America/Los_Angeles:20241003T100000
DTSTAMP:20260423T190454
CREATED:20240804T202101Z
LAST-MODIFIED:20240923T233706Z
UID:10001592-1727946000-1727949600@visitmanzanita.org
SUMMARY:Fit and Fabulous at the KCC
DESCRIPTION:Come join this group keeping active two days a week. Only $15 for the month!
URL:https://visitmanzanita.org/event/fit-and-fabulous-at-the-kcc-46/
LOCATION:Kiawanda Community Center\, 34600 Cape Kiwanda Dr\, Pacific City\, OR\, 97135\, United States
CATEGORIES:Fitness and Athletics
ATTACH;FMTTYPE=image/png:https://visitmanzanita.org/wp-content/uploads/2024/04/Fit-Fabulous-ttT88Z.tmp_.png
END:VEVENT
BEGIN:VEVENT
DTSTART;TZID=America/Los_Angeles:20241002T170000
DTEND;TZID=America/Los_Angeles:20241002T180000
DTSTAMP:20260423T190454
CREATED:20240803T202100Z
LAST-MODIFIED:20240923T233706Z
UID:10001590-1727888400-1727892000@visitmanzanita.org
SUMMARY:Co-Ed Boxing Classes at the Kiawanda Community Center in Pacific City\, OR
DESCRIPTION:Pacific City Boxing offers boxing skills and cardio-strength training for ages 12 and older. The focus will be on the fundamentals of boxing. Participants will learn everything from boxing basics of wrapping hands to mit work. Focus will be on boxing fitness while learning proper footwork and punching combinations\, all while getting a great workout! Boxing is a great way to lessen stress and get into shape. Pacific City Boxing is USA Boxing and Safe Sport certified.\nCo-ed\nAges 12 & up\n$10 per class\nTo sign up\, email register to: pacificcityboxing@gmail.com
URL:https://visitmanzanita.org/event/co-ed-boxing-classes-at-the-kiawanda-community-center-in-pacific-city-or-23/
LOCATION:Kiawanda Community Center\, 34600 Cape Kiwanda Dr\, Pacific City\, OR\, 97135\, United States
CATEGORIES:Classes and Workshops,Family Fun,Fitness and Athletics
ATTACH;FMTTYPE=image/jpeg:https://visitmanzanita.org/wp-content/uploads/2024/04/Boxing-Flyer-New-aQjzJ0.tmp_.jpg
END:VEVENT
BEGIN:VEVENT
DTSTART;TZID=America/Los_Angeles:20241002T170000
DTEND;TZID=America/Los_Angeles:20241002T180000
DTSTAMP:20260423T190454
CREATED:20240803T202100Z
LAST-MODIFIED:20240923T233706Z
UID:10001591-1727888400-1727892000@visitmanzanita.org
SUMMARY:Boxing Class in Pacific City
DESCRIPTION:Pacific City Boxing offers boxing skills and cardio-strength training for ages 12 and older.  The focus will be on the fundamentals of boxing.  Participants will learn everything from boxing basics of wrapping hands to mit work. Focus will be on boxing fitness while learning proper footwork and punching combinations\, all while getting a great workout!  Boxing is a great way to lessen stress and get into shape.  Pacific City Boxing is USA Boxing and Safe Sport certified.
URL:https://visitmanzanita.org/event/boxing-class-in-pacific-city-23/
LOCATION:Kiawanda Community Center\, 34600 Cape Kiwanda Dr\, Pacific City\, OR\, 97135\, United States
CATEGORIES:Fitness and Athletics
ATTACH;FMTTYPE=image/png:https://visitmanzanita.org/wp-content/uploads/2024/04/Screenshot-2024-04-10-115036-woCnYn.tmp_.png
END:VEVENT
BEGIN:VEVENT
DTSTART;TZID=America/Los_Angeles:20241002T100000
DTEND;TZID=America/Los_Angeles:20241002T110000
DTSTAMP:20260423T190454
CREATED:20240803T202059Z
LAST-MODIFIED:20240923T233706Z
UID:10001588-1727863200-1727866800@visitmanzanita.org
SUMMARY:Walking Wonders
DESCRIPTION:Join this active group rain or shine to get your steps in and around town.
URL:https://visitmanzanita.org/event/walking-wonders-68/
LOCATION:Kiawanda Community Center\, 34600 Cape Kiwanda Dr\, Pacific City\, OR\, 97135\, United States
CATEGORIES:Fitness and Athletics
ATTACH;FMTTYPE=image/png:https://visitmanzanita.org/wp-content/uploads/2024/04/Walking-Wonders-b317UD.tmp_.png
END:VEVENT
BEGIN:VEVENT
DTSTART;TZID=America/Los_Angeles:20241002T090000
DTEND;TZID=America/Los_Angeles:20241002T100000
DTSTAMP:20260423T190454
CREATED:20240803T202059Z
LAST-MODIFIED:20240923T233706Z
UID:10001587-1727859600-1727863200@visitmanzanita.org
SUMMARY:Yoga in Pacific City
DESCRIPTION:Yoga with Dawn 9am Mondays\, Wednesday\, Fridays & Saturdays \nCome enjoy the natural light with a forested dune as your backdrop on the mat.
URL:https://visitmanzanita.org/event/yoga-in-pacific-city-90/
LOCATION:Kiawanda Community Center\, 34600 Cape Kiwanda Dr\, Pacific City\, OR\, 97135\, United States
CATEGORIES:Fitness and Athletics
ATTACH;FMTTYPE=image/png:https://visitmanzanita.org/wp-content/uploads/2024/04/Yoga-mHIYGc.tmp_.png
END:VEVENT
BEGIN:VEVENT
DTSTART;TZID=America/Los_Angeles:20241002T080000
DTEND;TZID=America/Los_Angeles:20241002T170000
DTSTAMP:20260423T190454
CREATED:20240810T205123Z
LAST-MODIFIED:20240923T233706Z
UID:10001643-1727856000-1727888400@visitmanzanita.org
SUMMARY:Kids Karate
DESCRIPTION:Ages 6 through 12 can learn from Perseverance Martial Arts on Mondays and Wednesdays. 4pm – 4:50pm. First class is free. \nOne class weekly is $50 a month and two classes weekly is $75 for the month. \npreservethepack@gmail.com
URL:https://visitmanzanita.org/event/kids-karate-8/
LOCATION:Kiawanda Community Center\, 34600 Cape Kiwanda Dr\, Pacific City\, OR\, 97135\, United States
CATEGORIES:Community,Family Fun
ATTACH;FMTTYPE=image/jpeg:https://visitmanzanita.org/wp-content/uploads/2024/08/new-karate-1-M2n8gV.tmp_.jpg
END:VEVENT
BEGIN:VEVENT
DTSTART;TZID=America/Los_Angeles:20241001T120000
DTEND;TZID=America/Los_Angeles:20241001T130000
DTSTAMP:20260423T190454
CREATED:20240802T202055Z
LAST-MODIFIED:20240923T233706Z
UID:10001586-1727784000-1727787600@visitmanzanita.org
SUMMARY:Pacific City / Nestucca Valley Chamber Lunch Meeting
DESCRIPTION:Please join us every month to stay informed on local topics that affect business. We provide a variety of presenters that include: \nJune – Fraud Prevention Tips from Oregon Coast Bank \nAugust – Cape Kiwanda Longboard Classic update \nSeptember – Kiwanda Corridor Project update \nOctober – Candidate Forum \nMeg’s Beachwood serves lunch consisting of pizza\, salad and dessert for $10 \n 
URL:https://visitmanzanita.org/event/pacific-city-nestucca-valley-chamber-lunch-meeting-4/
LOCATION:Kiawanda Community Center\, 34600 Cape Kiwanda Dr\, Pacific City\, OR\, 97135\, United States
CATEGORIES:Business,Community
ATTACH;FMTTYPE=image/png:https://visitmanzanita.org/wp-content/uploads/2024/05/logo-1-G1XqSo.tmp_.png
END:VEVENT
BEGIN:VEVENT
DTSTART;TZID=America/Los_Angeles:20241001T113000
DTEND;TZID=America/Los_Angeles:20241001T123000
DTSTAMP:20260423T190454
CREATED:20240810T205123Z
LAST-MODIFIED:20240923T233706Z
UID:10001642-1727782200-1727785800@visitmanzanita.org
SUMMARY:Senior Meals
DESCRIPTION:Senior Lunches are served at 11:30 am on Tuesdays and Wednesdays for $3 and others may attend for $6.
URL:https://visitmanzanita.org/event/senior-meals-9/
LOCATION:Kiawanda Community Center\, 34600 Cape Kiwanda Dr\, Pacific City\, OR\, 97135\, United States
CATEGORIES:Community
ATTACH;FMTTYPE=image/png:https://visitmanzanita.org/wp-content/uploads/2024/08/Senior-Meals-zN428M.tmp_.png
END:VEVENT
END:VCALENDAR