BEGIN:VCALENDAR
VERSION:2.0
PRODID:-//Manzanita Oregon Visitor Center - ECPv6.15.20//NONSGML v1.0//EN
CALSCALE:GREGORIAN
METHOD:PUBLISH
X-ORIGINAL-URL:https://visitmanzanita.org
X-WR-CALDESC:Events for Manzanita Oregon Visitor Center
REFRESH-INTERVAL;VALUE=DURATION:PT1H
X-Robots-Tag:noindex
X-PUBLISHED-TTL:PT1H
BEGIN:VTIMEZONE
TZID:America/Los_Angeles
BEGIN:DAYLIGHT
TZOFFSETFROM:-0800
TZOFFSETTO:-0700
TZNAME:PDT
DTSTART:20230312T100000
END:DAYLIGHT
BEGIN:STANDARD
TZOFFSETFROM:-0700
TZOFFSETTO:-0800
TZNAME:PST
DTSTART:20231105T090000
END:STANDARD
BEGIN:DAYLIGHT
TZOFFSETFROM:-0800
TZOFFSETTO:-0700
TZNAME:PDT
DTSTART:20240310T100000
END:DAYLIGHT
BEGIN:STANDARD
TZOFFSETFROM:-0700
TZOFFSETTO:-0800
TZNAME:PST
DTSTART:20241103T090000
END:STANDARD
BEGIN:DAYLIGHT
TZOFFSETFROM:-0800
TZOFFSETTO:-0700
TZNAME:PDT
DTSTART:20250309T100000
END:DAYLIGHT
BEGIN:STANDARD
TZOFFSETFROM:-0700
TZOFFSETTO:-0800
TZNAME:PST
DTSTART:20251102T090000
END:STANDARD
END:VTIMEZONE
BEGIN:VEVENT
DTSTART;TZID=America/Los_Angeles:20240802T100000
DTEND;TZID=America/Los_Angeles:20240802T110000
DTSTAMP:20260424T203549
CREATED:20240603T182634Z
LAST-MODIFIED:20240802T202044Z
UID:10001231-1722592800-1722596400@visitmanzanita.org
SUMMARY:Walking Wonders
DESCRIPTION:Join this active group rain or shine to get your steps in and around town.
URL:https://visitmanzanita.org/event/walking-wonders-42/
LOCATION:Kiawanda Community Center\, 34600 Cape Kiwanda Dr\, Pacific City\, OR\, 97135\, United States
CATEGORIES:Fitness and Athletics
ATTACH;FMTTYPE=image/png:https://visitmanzanita.org/wp-content/uploads/2024/04/Walking-Wonders-b317UD.tmp_.png
END:VEVENT
BEGIN:VEVENT
DTSTART;TZID=America/Los_Angeles:20240802T090000
DTEND;TZID=America/Los_Angeles:20240802T100000
DTSTAMP:20260424T203549
CREATED:20240603T182633Z
LAST-MODIFIED:20240802T202044Z
UID:10001230-1722589200-1722592800@visitmanzanita.org
SUMMARY:Yoga in Pacific City
DESCRIPTION:Yoga with Dawn 9am Mondays\, Wednesday\, Fridays & Saturdays \nCome enjoy the natural light with a forested dune as your backdrop on the mat.
URL:https://visitmanzanita.org/event/yoga-in-pacific-city-55/
LOCATION:Kiawanda Community Center\, 34600 Cape Kiwanda Dr\, Pacific City\, OR\, 97135\, United States
CATEGORIES:Fitness and Athletics
ATTACH;FMTTYPE=image/png:https://visitmanzanita.org/wp-content/uploads/2024/04/Yoga-mHIYGc.tmp_.png
END:VEVENT
BEGIN:VEVENT
DTSTART;TZID=America/Los_Angeles:20240801T103000
DTEND;TZID=America/Los_Angeles:20240801T113000
DTSTAMP:20260424T203549
CREATED:20240602T181133Z
LAST-MODIFIED:20240801T202049Z
UID:10001228-1722508200-1722511800@visitmanzanita.org
SUMMARY:Tai Chi at the KCC
DESCRIPTION:Come to this weekly class in Pacific City to learn the forms in this moving meditation. Feel your life force flowing through you and get energized for you day!
URL:https://visitmanzanita.org/event/tai-chi-at-the-kcc-14/
LOCATION:Kiawanda Community Center\, 34600 Cape Kiwanda Dr\, Pacific City\, OR\, 97135\, United States
CATEGORIES:Fitness and Athletics
ATTACH;FMTTYPE=image/png:https://visitmanzanita.org/wp-content/uploads/2024/04/Tai-Chi-8q1tX1.tmp_.png
END:VEVENT
BEGIN:VEVENT
DTSTART;TZID=America/Los_Angeles:20240801T090000
DTEND;TZID=America/Los_Angeles:20240801T100000
DTSTAMP:20260424T203549
CREATED:20240602T181133Z
LAST-MODIFIED:20240801T202047Z
UID:10001227-1722502800-1722506400@visitmanzanita.org
SUMMARY:Fit and Fabulous at the KCC
DESCRIPTION:Come join this group keeping active two days a week. Only $15 for the month!
URL:https://visitmanzanita.org/event/fit-and-fabulous-at-the-kcc-28/
LOCATION:Kiawanda Community Center\, 34600 Cape Kiwanda Dr\, Pacific City\, OR\, 97135\, United States
CATEGORIES:Fitness and Athletics
ATTACH;FMTTYPE=image/png:https://visitmanzanita.org/wp-content/uploads/2024/04/Fit-Fabulous-ttT88Z.tmp_.png
END:VEVENT
BEGIN:VEVENT
DTSTART;TZID=America/Los_Angeles:20240731T170000
DTEND;TZID=America/Los_Angeles:20240731T180000
DTSTAMP:20260424T203549
CREATED:20240601T181134Z
LAST-MODIFIED:20240731T202059Z
UID:10001225-1722445200-1722448800@visitmanzanita.org
SUMMARY:Co-Ed Boxing Classes at the Kiawanda Community Center in Pacific City\, OR
DESCRIPTION:Pacific City Boxing offers boxing skills and cardio-strength training for ages 12 and older. The focus will be on the fundamentals of boxing. Participants will learn everything from boxing basics of wrapping hands to mit work. Focus will be on boxing fitness while learning proper footwork and punching combinations\, all while getting a great workout! Boxing is a great way to lessen stress and get into shape. Pacific City Boxing is USA Boxing and Safe Sport certified.\nCo-ed\nAges 12 & up\n$10 per class\nTo sign up\, email register to: pacificcityboxing@gmail.com
URL:https://visitmanzanita.org/event/co-ed-boxing-classes-at-the-kiawanda-community-center-in-pacific-city-or-14/
LOCATION:Kiawanda Community Center\, 34600 Cape Kiwanda Dr\, Pacific City\, OR\, 97135\, United States
CATEGORIES:Classes and Workshops,Family Fun,Fitness and Athletics
ATTACH;FMTTYPE=image/jpeg:https://visitmanzanita.org/wp-content/uploads/2024/04/Boxing-Flyer-New-aQjzJ0.tmp_.jpg
END:VEVENT
BEGIN:VEVENT
DTSTART;TZID=America/Los_Angeles:20240731T170000
DTEND;TZID=America/Los_Angeles:20240731T180000
DTSTAMP:20260424T203549
CREATED:20240601T181134Z
LAST-MODIFIED:20240731T202059Z
UID:10001226-1722445200-1722448800@visitmanzanita.org
SUMMARY:Boxing Class in Pacific City
DESCRIPTION:Pacific City Boxing offers boxing skills and cardio-strength training for ages 12 and older.  The focus will be on the fundamentals of boxing.  Participants will learn everything from boxing basics of wrapping hands to mit work. Focus will be on boxing fitness while learning proper footwork and punching combinations\, all while getting a great workout!  Boxing is a great way to lessen stress and get into shape.  Pacific City Boxing is USA Boxing and Safe Sport certified.
URL:https://visitmanzanita.org/event/boxing-class-in-pacific-city-14/
LOCATION:Kiawanda Community Center\, 34600 Cape Kiwanda Dr\, Pacific City\, OR\, 97135\, United States
CATEGORIES:Fitness and Athletics
ATTACH;FMTTYPE=image/png:https://visitmanzanita.org/wp-content/uploads/2024/04/Screenshot-2024-04-10-115036-woCnYn.tmp_.png
END:VEVENT
BEGIN:VEVENT
DTSTART;TZID=America/Los_Angeles:20240731T100000
DTEND;TZID=America/Los_Angeles:20240731T110000
DTSTAMP:20260424T203549
CREATED:20240601T181134Z
LAST-MODIFIED:20240731T202059Z
UID:10001223-1722420000-1722423600@visitmanzanita.org
SUMMARY:Walking Wonders
DESCRIPTION:Join this active group rain or shine to get your steps in and around town.
URL:https://visitmanzanita.org/event/walking-wonders-41/
LOCATION:Kiawanda Community Center\, 34600 Cape Kiwanda Dr\, Pacific City\, OR\, 97135\, United States
CATEGORIES:Fitness and Athletics
ATTACH;FMTTYPE=image/png:https://visitmanzanita.org/wp-content/uploads/2024/04/Walking-Wonders-b317UD.tmp_.png
END:VEVENT
BEGIN:VEVENT
DTSTART;TZID=America/Los_Angeles:20240731T090000
DTEND;TZID=America/Los_Angeles:20240731T100000
DTSTAMP:20260424T203549
CREATED:20240601T181134Z
LAST-MODIFIED:20240731T202059Z
UID:10001222-1722416400-1722420000@visitmanzanita.org
SUMMARY:Yoga in Pacific City
DESCRIPTION:Yoga with Dawn 9am Mondays\, Wednesday\, Fridays & Saturdays \nCome enjoy the natural light with a forested dune as your backdrop on the mat.
URL:https://visitmanzanita.org/event/yoga-in-pacific-city-54/
LOCATION:Kiawanda Community Center\, 34600 Cape Kiwanda Dr\, Pacific City\, OR\, 97135\, United States
CATEGORIES:Fitness and Athletics
ATTACH;FMTTYPE=image/png:https://visitmanzanita.org/wp-content/uploads/2024/04/Yoga-mHIYGc.tmp_.png
END:VEVENT
BEGIN:VEVENT
DTSTART;TZID=America/Los_Angeles:20240730T090000
DTEND;TZID=America/Los_Angeles:20240730T100000
DTSTAMP:20260424T203549
CREATED:20240531T181136Z
LAST-MODIFIED:20240730T202112Z
UID:10001221-1722330000-1722333600@visitmanzanita.org
SUMMARY:Fit and Fabulous at the KCC
DESCRIPTION:Come join this group keeping active two days a week. Only $15 for the month!
URL:https://visitmanzanita.org/event/fit-and-fabulous-at-the-kcc-27/
LOCATION:Kiawanda Community Center\, 34600 Cape Kiwanda Dr\, Pacific City\, OR\, 97135\, United States
CATEGORIES:Fitness and Athletics
ATTACH;FMTTYPE=image/png:https://visitmanzanita.org/wp-content/uploads/2024/04/Fit-Fabulous-ttT88Z.tmp_.png
END:VEVENT
BEGIN:VEVENT
DTSTART;TZID=America/Los_Angeles:20240729T100000
DTEND;TZID=America/Los_Angeles:20240729T110000
DTSTAMP:20260424T203549
CREATED:20240530T181136Z
LAST-MODIFIED:20240729T200546Z
UID:10001218-1722247200-1722250800@visitmanzanita.org
SUMMARY:Walking Wonders
DESCRIPTION:Join this active group rain or shine to get your steps in and around town.
URL:https://visitmanzanita.org/event/walking-wonders-40/
LOCATION:Kiawanda Community Center\, 34600 Cape Kiwanda Dr\, Pacific City\, OR\, 97135\, United States
CATEGORIES:Fitness and Athletics
ATTACH;FMTTYPE=image/png:https://visitmanzanita.org/wp-content/uploads/2024/04/Walking-Wonders-b317UD.tmp_.png
END:VEVENT
BEGIN:VEVENT
DTSTART;TZID=America/Los_Angeles:20240729T090000
DTEND;TZID=America/Los_Angeles:20240729T100000
DTSTAMP:20260424T203549
CREATED:20240530T181136Z
LAST-MODIFIED:20240729T200546Z
UID:10001217-1722243600-1722247200@visitmanzanita.org
SUMMARY:Yoga in Pacific City
DESCRIPTION:Yoga with Dawn 9am Mondays\, Wednesday\, Fridays & Saturdays \nCome enjoy the natural light with a forested dune as your backdrop on the mat.
URL:https://visitmanzanita.org/event/yoga-in-pacific-city-53/
LOCATION:Kiawanda Community Center\, 34600 Cape Kiwanda Dr\, Pacific City\, OR\, 97135\, United States
CATEGORIES:Fitness and Athletics
ATTACH;FMTTYPE=image/png:https://visitmanzanita.org/wp-content/uploads/2024/04/Yoga-mHIYGc.tmp_.png
END:VEVENT
BEGIN:VEVENT
DTSTART;TZID=America/Los_Angeles:20240727T090000
DTEND;TZID=America/Los_Angeles:20240727T100000
DTSTAMP:20260424T203549
CREATED:20240528T181142Z
LAST-MODIFIED:20240727T200604Z
UID:10001209-1722070800-1722074400@visitmanzanita.org
SUMMARY:Yoga in Pacific City
DESCRIPTION:Yoga with Dawn 9am Mondays\, Wednesday\, Fridays & Saturdays \nCome enjoy the natural light with a forested dune as your backdrop on the mat.
URL:https://visitmanzanita.org/event/yoga-in-pacific-city-52/
LOCATION:Kiawanda Community Center\, 34600 Cape Kiwanda Dr\, Pacific City\, OR\, 97135\, United States
CATEGORIES:Fitness and Athletics
ATTACH;FMTTYPE=image/png:https://visitmanzanita.org/wp-content/uploads/2024/04/Yoga-mHIYGc.tmp_.png
END:VEVENT
BEGIN:VEVENT
DTSTART;TZID=America/Los_Angeles:20240726T100000
DTEND;TZID=America/Los_Angeles:20240726T110000
DTSTAMP:20260424T203549
CREATED:20240527T181147Z
LAST-MODIFIED:20240726T200557Z
UID:10001206-1721988000-1721991600@visitmanzanita.org
SUMMARY:Walking Wonders
DESCRIPTION:Join this active group rain or shine to get your steps in and around town.
URL:https://visitmanzanita.org/event/walking-wonders-39/
LOCATION:Kiawanda Community Center\, 34600 Cape Kiwanda Dr\, Pacific City\, OR\, 97135\, United States
CATEGORIES:Fitness and Athletics
ATTACH;FMTTYPE=image/png:https://visitmanzanita.org/wp-content/uploads/2024/04/Walking-Wonders-b317UD.tmp_.png
END:VEVENT
BEGIN:VEVENT
DTSTART;TZID=America/Los_Angeles:20240726T090000
DTEND;TZID=America/Los_Angeles:20240726T100000
DTSTAMP:20260424T203549
CREATED:20240527T181147Z
LAST-MODIFIED:20240726T200557Z
UID:10001205-1721984400-1721988000@visitmanzanita.org
SUMMARY:Yoga in Pacific City
DESCRIPTION:Yoga with Dawn 9am Mondays\, Wednesday\, Fridays & Saturdays \nCome enjoy the natural light with a forested dune as your backdrop on the mat.
URL:https://visitmanzanita.org/event/yoga-in-pacific-city-51/
LOCATION:Kiawanda Community Center\, 34600 Cape Kiwanda Dr\, Pacific City\, OR\, 97135\, United States
CATEGORIES:Fitness and Athletics
ATTACH;FMTTYPE=image/png:https://visitmanzanita.org/wp-content/uploads/2024/04/Yoga-mHIYGc.tmp_.png
END:VEVENT
BEGIN:VEVENT
DTSTART;TZID=America/Los_Angeles:20240725T103000
DTEND;TZID=America/Los_Angeles:20240725T113000
DTSTAMP:20260424T203549
CREATED:20240526T181138Z
LAST-MODIFIED:20240725T200545Z
UID:10001203-1721903400-1721907000@visitmanzanita.org
SUMMARY:Tai Chi at the KCC
DESCRIPTION:Come to this weekly class in Pacific City to learn the forms in this moving meditation. Feel your life force flowing through you and get energized for you day!
URL:https://visitmanzanita.org/event/tai-chi-at-the-kcc-13/
LOCATION:Kiawanda Community Center\, 34600 Cape Kiwanda Dr\, Pacific City\, OR\, 97135\, United States
CATEGORIES:Fitness and Athletics
ATTACH;FMTTYPE=image/png:https://visitmanzanita.org/wp-content/uploads/2024/04/Tai-Chi-8q1tX1.tmp_.png
END:VEVENT
BEGIN:VEVENT
DTSTART;TZID=America/Los_Angeles:20240725T090000
DTEND;TZID=America/Los_Angeles:20240725T100000
DTSTAMP:20260424T203549
CREATED:20240526T181138Z
LAST-MODIFIED:20240725T200545Z
UID:10001202-1721898000-1721901600@visitmanzanita.org
SUMMARY:Fit and Fabulous at the KCC
DESCRIPTION:Come join this group keeping active two days a week. Only $15 for the month!
URL:https://visitmanzanita.org/event/fit-and-fabulous-at-the-kcc-26/
LOCATION:Kiawanda Community Center\, 34600 Cape Kiwanda Dr\, Pacific City\, OR\, 97135\, United States
CATEGORIES:Fitness and Athletics
ATTACH;FMTTYPE=image/png:https://visitmanzanita.org/wp-content/uploads/2024/04/Fit-Fabulous-ttT88Z.tmp_.png
END:VEVENT
BEGIN:VEVENT
DTSTART;TZID=America/Los_Angeles:20240724T170000
DTEND;TZID=America/Los_Angeles:20240724T180000
DTSTAMP:20260424T203549
CREATED:20240525T181157Z
LAST-MODIFIED:20240724T200558Z
UID:10001200-1721840400-1721844000@visitmanzanita.org
SUMMARY:Co-Ed Boxing Classes at the Kiawanda Community Center in Pacific City\, OR
DESCRIPTION:Pacific City Boxing offers boxing skills and cardio-strength training for ages 12 and older. The focus will be on the fundamentals of boxing. Participants will learn everything from boxing basics of wrapping hands to mit work. Focus will be on boxing fitness while learning proper footwork and punching combinations\, all while getting a great workout! Boxing is a great way to lessen stress and get into shape. Pacific City Boxing is USA Boxing and Safe Sport certified.\nCo-ed\nAges 12 & up\n$10 per class\nTo sign up\, email register to: pacificcityboxing@gmail.com
URL:https://visitmanzanita.org/event/co-ed-boxing-classes-at-the-kiawanda-community-center-in-pacific-city-or-13/
LOCATION:Kiawanda Community Center\, 34600 Cape Kiwanda Dr\, Pacific City\, OR\, 97135\, United States
CATEGORIES:Classes and Workshops,Family Fun,Fitness and Athletics
ATTACH;FMTTYPE=image/jpeg:https://visitmanzanita.org/wp-content/uploads/2024/04/Boxing-Flyer-New-aQjzJ0.tmp_.jpg
END:VEVENT
BEGIN:VEVENT
DTSTART;TZID=America/Los_Angeles:20240724T170000
DTEND;TZID=America/Los_Angeles:20240724T180000
DTSTAMP:20260424T203549
CREATED:20240525T181157Z
LAST-MODIFIED:20240724T200558Z
UID:10001201-1721840400-1721844000@visitmanzanita.org
SUMMARY:Boxing Class in Pacific City
DESCRIPTION:Pacific City Boxing offers boxing skills and cardio-strength training for ages 12 and older.  The focus will be on the fundamentals of boxing.  Participants will learn everything from boxing basics of wrapping hands to mit work. Focus will be on boxing fitness while learning proper footwork and punching combinations\, all while getting a great workout!  Boxing is a great way to lessen stress and get into shape.  Pacific City Boxing is USA Boxing and Safe Sport certified.
URL:https://visitmanzanita.org/event/boxing-class-in-pacific-city-13/
LOCATION:Kiawanda Community Center\, 34600 Cape Kiwanda Dr\, Pacific City\, OR\, 97135\, United States
CATEGORIES:Fitness and Athletics
ATTACH;FMTTYPE=image/png:https://visitmanzanita.org/wp-content/uploads/2024/04/Screenshot-2024-04-10-115036-woCnYn.tmp_.png
END:VEVENT
BEGIN:VEVENT
DTSTART;TZID=America/Los_Angeles:20240724T100000
DTEND;TZID=America/Los_Angeles:20240724T110000
DTSTAMP:20260424T203549
CREATED:20240525T181157Z
LAST-MODIFIED:20240724T200558Z
UID:10001198-1721815200-1721818800@visitmanzanita.org
SUMMARY:Walking Wonders
DESCRIPTION:Join this active group rain or shine to get your steps in and around town.
URL:https://visitmanzanita.org/event/walking-wonders-38/
LOCATION:Kiawanda Community Center\, 34600 Cape Kiwanda Dr\, Pacific City\, OR\, 97135\, United States
CATEGORIES:Fitness and Athletics
ATTACH;FMTTYPE=image/png:https://visitmanzanita.org/wp-content/uploads/2024/04/Walking-Wonders-b317UD.tmp_.png
END:VEVENT
BEGIN:VEVENT
DTSTART;TZID=America/Los_Angeles:20240724T090000
DTEND;TZID=America/Los_Angeles:20240724T100000
DTSTAMP:20260424T203549
CREATED:20240525T181157Z
LAST-MODIFIED:20240724T200557Z
UID:10001197-1721811600-1721815200@visitmanzanita.org
SUMMARY:Yoga in Pacific City
DESCRIPTION:Yoga with Dawn 9am Mondays\, Wednesday\, Fridays & Saturdays \nCome enjoy the natural light with a forested dune as your backdrop on the mat.
URL:https://visitmanzanita.org/event/yoga-in-pacific-city-50/
LOCATION:Kiawanda Community Center\, 34600 Cape Kiwanda Dr\, Pacific City\, OR\, 97135\, United States
CATEGORIES:Fitness and Athletics
ATTACH;FMTTYPE=image/png:https://visitmanzanita.org/wp-content/uploads/2024/04/Yoga-mHIYGc.tmp_.png
END:VEVENT
BEGIN:VEVENT
DTSTART;TZID=America/Los_Angeles:20240723T090000
DTEND;TZID=America/Los_Angeles:20240723T100000
DTSTAMP:20260424T203549
CREATED:20240524T181132Z
LAST-MODIFIED:20240723T200543Z
UID:10001196-1721725200-1721728800@visitmanzanita.org
SUMMARY:Fit and Fabulous at the KCC
DESCRIPTION:Come join this group keeping active two days a week. Only $15 for the month!
URL:https://visitmanzanita.org/event/fit-and-fabulous-at-the-kcc-25/
LOCATION:Kiawanda Community Center\, 34600 Cape Kiwanda Dr\, Pacific City\, OR\, 97135\, United States
CATEGORIES:Fitness and Athletics
ATTACH;FMTTYPE=image/png:https://visitmanzanita.org/wp-content/uploads/2024/04/Fit-Fabulous-ttT88Z.tmp_.png
END:VEVENT
BEGIN:VEVENT
DTSTART;TZID=America/Los_Angeles:20240722T100000
DTEND;TZID=America/Los_Angeles:20240722T110000
DTSTAMP:20260424T203549
CREATED:20240523T175654Z
LAST-MODIFIED:20240722T200544Z
UID:10001195-1721642400-1721646000@visitmanzanita.org
SUMMARY:Walking Wonders
DESCRIPTION:Join this active group rain or shine to get your steps in and around town.
URL:https://visitmanzanita.org/event/walking-wonders-37/
LOCATION:Kiawanda Community Center\, 34600 Cape Kiwanda Dr\, Pacific City\, OR\, 97135\, United States
CATEGORIES:Fitness and Athletics
ATTACH;FMTTYPE=image/png:https://visitmanzanita.org/wp-content/uploads/2024/04/Walking-Wonders-b317UD.tmp_.png
END:VEVENT
BEGIN:VEVENT
DTSTART;TZID=America/Los_Angeles:20240722T090000
DTEND;TZID=America/Los_Angeles:20240722T100000
DTSTAMP:20260424T203549
CREATED:20240523T175654Z
LAST-MODIFIED:20240722T200544Z
UID:10001194-1721638800-1721642400@visitmanzanita.org
SUMMARY:Yoga in Pacific City
DESCRIPTION:Yoga with Dawn 9am Mondays\, Wednesday\, Fridays & Saturdays \nCome enjoy the natural light with a forested dune as your backdrop on the mat.
URL:https://visitmanzanita.org/event/yoga-in-pacific-city-49/
LOCATION:Kiawanda Community Center\, 34600 Cape Kiwanda Dr\, Pacific City\, OR\, 97135\, United States
CATEGORIES:Fitness and Athletics
ATTACH;FMTTYPE=image/png:https://visitmanzanita.org/wp-content/uploads/2024/04/Yoga-mHIYGc.tmp_.png
END:VEVENT
BEGIN:VEVENT
DTSTART;TZID=America/Los_Angeles:20240721T080000
DTEND;TZID=America/Los_Angeles:20240721T170000
DTSTAMP:20260424T203549
CREATED:20240522T175647Z
LAST-MODIFIED:20240721T200553Z
UID:10001187-1721548800-1721581200@visitmanzanita.org
SUMMARY:2024 Pacific City Dory Days
DESCRIPTION:Dory Days is an annual celebration of the local dory fishing culture unique to Pacific City\, Oregon. It has been recognized by the Oregon Heritage Commission as an Oregon Heritage Tradition and joins only a handful of other events for this honor. The festival occurs every year on the third weekend of July and is hosted by the Pacific City-Nestucca Valley Chamber of Commerce and the Pacific City Dorymen’s Association. \nThis year the event will take place from July 19 – 21 and will have many family-friendly components like the parade\, children’s activities\, fish fry\, and square dancing!
URL:https://visitmanzanita.org/event/2024-pacific-city-dory-days-3/
LOCATION:Kiawanda Community Center\, 34600 Cape Kiwanda Dr\, Pacific City\, OR\, 97135\, United States
CATEGORIES:Arts and Culture,Family Fun,Festivals and Events
ATTACH;FMTTYPE=image/jpeg:https://visitmanzanita.org/wp-content/uploads/2024/05/Dory-Days-Logo-on-Black-X4lcDO.tmp_.jpg
END:VEVENT
BEGIN:VEVENT
DTSTART;TZID=America/Los_Angeles:20240720T190000
DTEND;TZID=America/Los_Angeles:20240720T200000
DTSTAMP:20260424T203549
CREATED:20240521T175713Z
LAST-MODIFIED:20240720T200554Z
UID:10001176-1721502000-1721505600@visitmanzanita.org
SUMMARY:Line Dancing in Pacific City
DESCRIPTION:Two consecutive Saturdays monthly. all classes begin with a lesson then we dance as a group for the rest of the time! Wear soft soled shoes or boots with padded heels\, to prevent scuffing the KCC floor. Bring a snack and water if you need to keep your energy UP! $10 Contact Kris Rooke for more info: 425-894-4111
URL:https://visitmanzanita.org/event/line-dancing-in-pacific-city-6/
LOCATION:Kiawanda Community Center\, 34600 Cape Kiwanda Dr\, Pacific City\, OR\, 97135\, United States
CATEGORIES:Family Fun
ATTACH;FMTTYPE=image/png:https://visitmanzanita.org/wp-content/uploads/2024/04/Screenshot-2024-04-10-115451-1-iuKI3B.tmp_.png
END:VEVENT
BEGIN:VEVENT
DTSTART;TZID=America/Los_Angeles:20240720T120000
DTEND;TZID=America/Los_Angeles:20240720T170000
DTSTAMP:20260424T203549
CREATED:20240521T175712Z
LAST-MODIFIED:20240720T200554Z
UID:10001175-1721476800-1721494800@visitmanzanita.org
SUMMARY:Dory Days Fish Fry
DESCRIPTION:Local Caught Dory Fish served up after the parade from 12pm – 5pm at the KCC – the place to be! Come on down and enjoy some local caught fish and check out the heritage exhibit and kids activities while you are here!
URL:https://visitmanzanita.org/event/dory-days-fish-fry/
LOCATION:Kiawanda Community Center\, 34600 Cape Kiwanda Dr\, Pacific City\, OR\, 97135\, United States
CATEGORIES:Community,Family Fun,Festivals and Events
ATTACH;FMTTYPE=image/png:https://visitmanzanita.org/wp-content/uploads/2024/05/Screenshot-2024-05-18-152838-1-JPxBdl.tmp_.png
END:VEVENT
BEGIN:VEVENT
DTSTART;TZID=America/Los_Angeles:20240720T100000
DTEND;TZID=America/Los_Angeles:20240720T180000
DTSTAMP:20260424T203549
CREATED:20240521T175712Z
LAST-MODIFIED:20240720T200554Z
UID:10001174-1721469600-1721498400@visitmanzanita.org
SUMMARY:2024 Pacific City Dory Days
DESCRIPTION:Dory Days is an annual celebration of the local dory fishing culture unique to Pacific City\, Oregon. It has been recognized by the Oregon Heritage Commission as an Oregon Heritage Tradition and joins only a handful of other events for this honor. The festival occurs every year on the third weekend of July and is hosted by the Pacific City-Nestucca Valley Chamber of Commerce and the Pacific City Dorymen’s Association. \nThis year the event will take place from July 19 – 21 and will have many family-friendly components like the parade\, children’s activities\, fish fry\, and square dancing!
URL:https://visitmanzanita.org/event/2024-pacific-city-dory-days-2/
LOCATION:Kiawanda Community Center\, 34600 Cape Kiwanda Dr\, Pacific City\, OR\, 97135\, United States
CATEGORIES:Arts and Culture,Family Fun,Festivals and Events
ATTACH;FMTTYPE=image/jpeg:https://visitmanzanita.org/wp-content/uploads/2024/05/Dory-Days-Logo-on-Black-X4lcDO.tmp_.jpg
END:VEVENT
BEGIN:VEVENT
DTSTART;TZID=America/Los_Angeles:20240720T090000
DTEND;TZID=America/Los_Angeles:20240720T100000
DTSTAMP:20260424T203549
CREATED:20240521T175712Z
LAST-MODIFIED:20240720T200554Z
UID:10001173-1721466000-1721469600@visitmanzanita.org
SUMMARY:Yoga in Pacific City
DESCRIPTION:Yoga with Dawn 9am Mondays\, Wednesday\, Fridays & Saturdays \nCome enjoy the natural light with a forested dune as your backdrop on the mat.
URL:https://visitmanzanita.org/event/yoga-in-pacific-city-48/
LOCATION:Kiawanda Community Center\, 34600 Cape Kiwanda Dr\, Pacific City\, OR\, 97135\, United States
CATEGORIES:Fitness and Athletics
ATTACH;FMTTYPE=image/png:https://visitmanzanita.org/wp-content/uploads/2024/04/Yoga-mHIYGc.tmp_.png
END:VEVENT
BEGIN:VEVENT
DTSTART;TZID=America/Los_Angeles:20240720T070000
DTEND;TZID=America/Los_Angeles:20240720T100000
DTSTAMP:20260424T203549
CREATED:20240521T175710Z
LAST-MODIFIED:20240720T200554Z
UID:10001172-1721458800-1721469600@visitmanzanita.org
SUMMARY:Dory Days Pancake Breakfast
DESCRIPTION:Volunteer Firefighters are raising funds from 7am to 10am at their pancake breakfast. The Nestucca rural Fire District could sure use your support so plan to come on down Saturday Morning before the parade!
URL:https://visitmanzanita.org/event/dory-days-pancake-breakfast/
LOCATION:Kiawanda Community Center\, 34600 Cape Kiwanda Dr\, Pacific City\, OR\, 97135\, United States
CATEGORIES:Community,Family Fun,Fundraisers
ATTACH;FMTTYPE=image/png:https://visitmanzanita.org/wp-content/uploads/2024/05/Screenshot-2024-05-18-152838-XJLbfx.tmp_.png
END:VEVENT
BEGIN:VEVENT
DTSTART;TZID=America/Los_Angeles:20240719T190000
DTEND;TZID=America/Los_Angeles:20240719T220000
DTSTAMP:20260424T203549
CREATED:20240521T175700Z
LAST-MODIFIED:20240719T200600Z
UID:10001171-1721415600-1721426400@visitmanzanita.org
SUMMARY:The Radio Riots Concert in Pacific City
DESCRIPTION:Kickoff the Dory Days Festival with a family friendly concert for all ages at the KCC from 7pm -10pm for $15 where 13 year olds and under are free!
URL:https://visitmanzanita.org/event/the-radio-riots-concert-in-pacific-city-2/
LOCATION:Kiawanda Community Center\, 34600 Cape Kiwanda Dr\, Pacific City\, OR\, 97135\, United States
CATEGORIES:Community,Live Music
ATTACH;FMTTYPE=image/png:https://visitmanzanita.org/wp-content/uploads/2024/05/SPG-Napkin-Holder-Postcards-d1Y5CN.tmp_.png
END:VEVENT
END:VCALENDAR