BEGIN:VCALENDAR
VERSION:2.0
PRODID:-//Manzanita Oregon Visitor Center - ECPv6.15.20//NONSGML v1.0//EN
CALSCALE:GREGORIAN
METHOD:PUBLISH
X-ORIGINAL-URL:https://visitmanzanita.org
X-WR-CALDESC:Events for Manzanita Oregon Visitor Center
REFRESH-INTERVAL;VALUE=DURATION:PT1H
X-Robots-Tag:noindex
X-PUBLISHED-TTL:PT1H
BEGIN:VTIMEZONE
TZID:America/Los_Angeles
BEGIN:DAYLIGHT
TZOFFSETFROM:-0800
TZOFFSETTO:-0700
TZNAME:PDT
DTSTART:20230312T100000
END:DAYLIGHT
BEGIN:STANDARD
TZOFFSETFROM:-0700
TZOFFSETTO:-0800
TZNAME:PST
DTSTART:20231105T090000
END:STANDARD
BEGIN:DAYLIGHT
TZOFFSETFROM:-0800
TZOFFSETTO:-0700
TZNAME:PDT
DTSTART:20240310T100000
END:DAYLIGHT
BEGIN:STANDARD
TZOFFSETFROM:-0700
TZOFFSETTO:-0800
TZNAME:PST
DTSTART:20241103T090000
END:STANDARD
BEGIN:DAYLIGHT
TZOFFSETFROM:-0800
TZOFFSETTO:-0700
TZNAME:PDT
DTSTART:20250309T100000
END:DAYLIGHT
BEGIN:STANDARD
TZOFFSETFROM:-0700
TZOFFSETTO:-0800
TZNAME:PST
DTSTART:20251102T090000
END:STANDARD
END:VTIMEZONE
BEGIN:VEVENT
DTSTART;TZID=America/Los_Angeles:20240610T090000
DTEND;TZID=America/Los_Angeles:20240610T100000
DTSTAMP:20260425T151210
CREATED:20240428T170919Z
LAST-MODIFIED:20240604T182654Z
UID:10001014-1718010000-1718013600@visitmanzanita.org
SUMMARY:Yoga in Pacific City
DESCRIPTION:Yoga with Dawn 9am Mondays\, Wednesday\, Fridays & Saturdays \nCome enjoy the natural light with a forested dune as your backdrop on the mat.
URL:https://visitmanzanita.org/event/yoga-in-pacific-city-25/
LOCATION:Kiawanda Community Center\, 34600 Cape Kiwanda Dr\, Pacific City\, OR\, 97135\, United States
CATEGORIES:Fitness and Athletics
ATTACH;FMTTYPE=image/png:https://visitmanzanita.org/wp-content/uploads/2024/04/Yoga-mHIYGc.tmp_.png
END:VEVENT
BEGIN:VEVENT
DTSTART;TZID=America/Los_Angeles:20240609T183000
DTEND;TZID=America/Los_Angeles:20240609T193000
DTSTAMP:20260425T151210
CREATED:20240428T170919Z
LAST-MODIFIED:20240604T182654Z
UID:10001013-1717957800-1717961400@visitmanzanita.org
SUMMARY:Monthly Sound Bowl Sundays at the Kiawanda Community Center in Pacific City\, OR
DESCRIPTION:Bring anything you need to be comfortable lying or sitting for up to an hour. Sound baths are a passive form of healing. All that is required of you is to lie back\, close your eyes\, and listen to the soothing sounds of crystal sound bowls singing around you. As vibration moves through the body\, your nervous system and energetic body become more balanced. *Suggestion: bring a pillow and blanket.\nLet the vibes <move\, heal\, soothe\, cleanse> you.\n$10 per class at door.\nMore Info: Call 425-894-4111 \nRefer to the KCC online calendar for updated info on ALL upcoming classes: https://kiawanda.com/kcc-calendar/
URL:https://visitmanzanita.org/event/monthly-sound-bowl-sundays-at-the-kiawanda-community-center-in-pacific-city-or-2/
LOCATION:Kiawanda Community Center\, 34600 Cape Kiwanda Dr\, Pacific City\, OR\, 97135\, United States
CATEGORIES:Classes and Workshops,Community,Education
ATTACH;FMTTYPE=image/jpeg:https://visitmanzanita.org/wp-content/uploads/2024/04/Sound-Bowl-Sundays-2-flLuGK.tmp_.jpg
END:VEVENT
BEGIN:VEVENT
DTSTART;TZID=America/Los_Angeles:20240608T190000
DTEND;TZID=America/Los_Angeles:20240608T200000
DTSTAMP:20260425T151210
CREATED:20240428T170919Z
LAST-MODIFIED:20240604T182654Z
UID:10001012-1717873200-1717876800@visitmanzanita.org
SUMMARY:Line Dancing in Pacific City
DESCRIPTION:Two consecutive Saturdays monthly. all classes begin with a lesson then we dance as a group for the rest of the time! Wear soft soled shoes or boots with padded heels\, to prevent scuffing the KCC floor. Bring a snack and water if you need to keep your energy UP! $10 Contact Kris Rooke for more info: 425-894-4111
URL:https://visitmanzanita.org/event/line-dancing-in-pacific-city-3/
LOCATION:Kiawanda Community Center\, 34600 Cape Kiwanda Dr\, Pacific City\, OR\, 97135\, United States
CATEGORIES:Family Fun
ATTACH;FMTTYPE=image/png:https://visitmanzanita.org/wp-content/uploads/2024/04/Screenshot-2024-04-10-115451-1-iuKI3B.tmp_.png
END:VEVENT
BEGIN:VEVENT
DTSTART;TZID=America/Los_Angeles:20240608T090000
DTEND;TZID=America/Los_Angeles:20240608T100000
DTSTAMP:20260425T151210
CREATED:20240428T170919Z
LAST-MODIFIED:20240604T182654Z
UID:10001009-1717837200-1717840800@visitmanzanita.org
SUMMARY:Yoga in Pacific City
DESCRIPTION:Yoga with Dawn 9am Mondays\, Wednesday\, Fridays & Saturdays \nCome enjoy the natural light with a forested dune as your backdrop on the mat.
URL:https://visitmanzanita.org/event/yoga-in-pacific-city-24/
LOCATION:Kiawanda Community Center\, 34600 Cape Kiwanda Dr\, Pacific City\, OR\, 97135\, United States
CATEGORIES:Fitness and Athletics
ATTACH;FMTTYPE=image/png:https://visitmanzanita.org/wp-content/uploads/2024/04/Yoga-mHIYGc.tmp_.png
END:VEVENT
BEGIN:VEVENT
DTSTART;TZID=America/Los_Angeles:20240607T100000
DTEND;TZID=America/Los_Angeles:20240607T110000
DTSTAMP:20260425T151210
CREATED:20240428T170919Z
LAST-MODIFIED:20240604T182654Z
UID:10001007-1717754400-1717758000@visitmanzanita.org
SUMMARY:Walking Wonders
DESCRIPTION:Join this active group rain or shine to get your steps in and around town.
URL:https://visitmanzanita.org/event/walking-wonders-18/
LOCATION:Kiawanda Community Center\, 34600 Cape Kiwanda Dr\, Pacific City\, OR\, 97135\, United States
CATEGORIES:Fitness and Athletics
ATTACH;FMTTYPE=image/png:https://visitmanzanita.org/wp-content/uploads/2024/04/Walking-Wonders-b317UD.tmp_.png
END:VEVENT
BEGIN:VEVENT
DTSTART;TZID=America/Los_Angeles:20240607T090000
DTEND;TZID=America/Los_Angeles:20240607T100000
DTSTAMP:20260425T151210
CREATED:20240428T170919Z
LAST-MODIFIED:20240604T182653Z
UID:10001006-1717750800-1717754400@visitmanzanita.org
SUMMARY:Yoga in Pacific City
DESCRIPTION:Yoga with Dawn 9am Mondays\, Wednesday\, Fridays & Saturdays \nCome enjoy the natural light with a forested dune as your backdrop on the mat.
URL:https://visitmanzanita.org/event/yoga-in-pacific-city-23/
LOCATION:Kiawanda Community Center\, 34600 Cape Kiwanda Dr\, Pacific City\, OR\, 97135\, United States
CATEGORIES:Fitness and Athletics
ATTACH;FMTTYPE=image/png:https://visitmanzanita.org/wp-content/uploads/2024/04/Yoga-mHIYGc.tmp_.png
END:VEVENT
BEGIN:VEVENT
DTSTART;TZID=America/Los_Angeles:20240606T103000
DTEND;TZID=America/Los_Angeles:20240606T113000
DTSTAMP:20260425T151210
CREATED:20240428T170919Z
LAST-MODIFIED:20240604T182653Z
UID:10001004-1717669800-1717673400@visitmanzanita.org
SUMMARY:Tai Chi at the KCC
DESCRIPTION:Come to this weekly class in Pacific City to learn the forms in this moving meditation. Feel your life force flowing through you and get energized for you day!
URL:https://visitmanzanita.org/event/tai-chi-at-the-kcc-6/
LOCATION:Kiawanda Community Center\, 34600 Cape Kiwanda Dr\, Pacific City\, OR\, 97135\, United States
CATEGORIES:Fitness and Athletics
ATTACH;FMTTYPE=image/png:https://visitmanzanita.org/wp-content/uploads/2024/04/Tai-Chi-8q1tX1.tmp_.png
END:VEVENT
BEGIN:VEVENT
DTSTART;TZID=America/Los_Angeles:20240606T090000
DTEND;TZID=America/Los_Angeles:20240606T100000
DTSTAMP:20260425T151210
CREATED:20240428T170919Z
LAST-MODIFIED:20240604T182653Z
UID:10001003-1717664400-1717668000@visitmanzanita.org
SUMMARY:Fit and Fabulous at the KCC
DESCRIPTION:Come join this group keeping active two days a week. Only $15 for the month!
URL:https://visitmanzanita.org/event/fit-and-fabulous-at-the-kcc-12/
LOCATION:Kiawanda Community Center\, 34600 Cape Kiwanda Dr\, Pacific City\, OR\, 97135\, United States
CATEGORIES:Fitness and Athletics
ATTACH;FMTTYPE=image/png:https://visitmanzanita.org/wp-content/uploads/2024/04/Fit-Fabulous-ttT88Z.tmp_.png
END:VEVENT
BEGIN:VEVENT
DTSTART;TZID=America/Los_Angeles:20240605T170000
DTEND;TZID=America/Los_Angeles:20240605T180000
DTSTAMP:20260425T151210
CREATED:20240428T170919Z
LAST-MODIFIED:20240604T182653Z
UID:10001001-1717606800-1717610400@visitmanzanita.org
SUMMARY:Co-Ed Boxing Classes at the Kiawanda Community Center in Pacific City\, OR
DESCRIPTION:Pacific City Boxing offers boxing skills and cardio-strength training for ages 12 and older. The focus will be on the fundamentals of boxing. Participants will learn everything from boxing basics of wrapping hands to mit work. Focus will be on boxing fitness while learning proper footwork and punching combinations\, all while getting a great workout! Boxing is a great way to lessen stress and get into shape. Pacific City Boxing is USA Boxing and Safe Sport certified.\nCo-ed\nAges 12 & up\n$10 per class\nTo sign up\, email register to: pacificcityboxing@gmail.com
URL:https://visitmanzanita.org/event/co-ed-boxing-classes-at-the-kiawanda-community-center-in-pacific-city-or-6/
LOCATION:Kiawanda Community Center\, 34600 Cape Kiwanda Dr\, Pacific City\, OR\, 97135\, United States
CATEGORIES:Classes and Workshops,Family Fun,Fitness and Athletics
ATTACH;FMTTYPE=image/jpeg:https://visitmanzanita.org/wp-content/uploads/2024/04/Boxing-Flyer-New-aQjzJ0.tmp_.jpg
END:VEVENT
BEGIN:VEVENT
DTSTART;TZID=America/Los_Angeles:20240605T170000
DTEND;TZID=America/Los_Angeles:20240605T180000
DTSTAMP:20260425T151210
CREATED:20240428T170919Z
LAST-MODIFIED:20240604T182653Z
UID:10001002-1717606800-1717610400@visitmanzanita.org
SUMMARY:Boxing Class in Pacific City
DESCRIPTION:Pacific City Boxing offers boxing skills and cardio-strength training for ages 12 and older.  The focus will be on the fundamentals of boxing.  Participants will learn everything from boxing basics of wrapping hands to mit work. Focus will be on boxing fitness while learning proper footwork and punching combinations\, all while getting a great workout!  Boxing is a great way to lessen stress and get into shape.  Pacific City Boxing is USA Boxing and Safe Sport certified.
URL:https://visitmanzanita.org/event/boxing-class-in-pacific-city-6/
LOCATION:Kiawanda Community Center\, 34600 Cape Kiwanda Dr\, Pacific City\, OR\, 97135\, United States
CATEGORIES:Fitness and Athletics
ATTACH;FMTTYPE=image/png:https://visitmanzanita.org/wp-content/uploads/2024/04/Screenshot-2024-04-10-115036-woCnYn.tmp_.png
END:VEVENT
BEGIN:VEVENT
DTSTART;TZID=America/Los_Angeles:20240605T100000
DTEND;TZID=America/Los_Angeles:20240605T110000
DTSTAMP:20260425T151210
CREATED:20240428T170919Z
LAST-MODIFIED:20240604T182653Z
UID:10001000-1717581600-1717585200@visitmanzanita.org
SUMMARY:Walking Wonders
DESCRIPTION:Join this active group rain or shine to get your steps in and around town.
URL:https://visitmanzanita.org/event/walking-wonders-17/
LOCATION:Kiawanda Community Center\, 34600 Cape Kiwanda Dr\, Pacific City\, OR\, 97135\, United States
CATEGORIES:Fitness and Athletics
ATTACH;FMTTYPE=image/png:https://visitmanzanita.org/wp-content/uploads/2024/04/Walking-Wonders-b317UD.tmp_.png
END:VEVENT
BEGIN:VEVENT
DTSTART;TZID=America/Los_Angeles:20240605T090000
DTEND;TZID=America/Los_Angeles:20240605T100000
DTSTAMP:20260425T151210
CREATED:20240428T170919Z
LAST-MODIFIED:20240604T182653Z
UID:10000999-1717578000-1717581600@visitmanzanita.org
SUMMARY:Yoga in Pacific City
DESCRIPTION:Yoga with Dawn 9am Mondays\, Wednesday\, Fridays & Saturdays \nCome enjoy the natural light with a forested dune as your backdrop on the mat.
URL:https://visitmanzanita.org/event/yoga-in-pacific-city-22/
LOCATION:Kiawanda Community Center\, 34600 Cape Kiwanda Dr\, Pacific City\, OR\, 97135\, United States
CATEGORIES:Fitness and Athletics
ATTACH;FMTTYPE=image/png:https://visitmanzanita.org/wp-content/uploads/2024/04/Yoga-mHIYGc.tmp_.png
END:VEVENT
BEGIN:VEVENT
DTSTART;TZID=America/Los_Angeles:20240604T120000
DTEND;TZID=America/Los_Angeles:20240604T130000
DTSTAMP:20260425T151210
CREATED:20240510T171131Z
LAST-MODIFIED:20240604T182653Z
UID:10001118-1717502400-1717506000@visitmanzanita.org
SUMMARY:Pacific City / Nestucca Valley Chamber Lunch Meeting
DESCRIPTION:Please join us every month to stay informed on local topics that affect business. We provide a variety of presenters that include: \nJune – Fraud Prevention Tips from Oregon Coast Bank \nAugust – Cape Kiwanda Longboard Classic update \nSeptember – Kiwanda Corridor Project update \nOctober – Candidate Forum \nMeg’s Beachwood serves lunch consisting of pizza\, salad and dessert for $10 \n 
URL:https://visitmanzanita.org/event/pacific-city-nestucca-valley-chamber-lunch-meeting/
LOCATION:Kiawanda Community Center\, 34600 Cape Kiwanda Dr\, Pacific City\, OR\, 97135\, United States
CATEGORIES:Business,Community
ATTACH;FMTTYPE=image/png:https://visitmanzanita.org/wp-content/uploads/2024/05/logo-1-G1XqSo.tmp_.png
END:VEVENT
BEGIN:VEVENT
DTSTART;TZID=America/Los_Angeles:20240604T090000
DTEND;TZID=America/Los_Angeles:20240604T100000
DTSTAMP:20260425T151210
CREATED:20240428T170919Z
LAST-MODIFIED:20240604T182653Z
UID:10000997-1717491600-1717495200@visitmanzanita.org
SUMMARY:Fit and Fabulous at the KCC
DESCRIPTION:Come join this group keeping active two days a week. Only $15 for the month!
URL:https://visitmanzanita.org/event/fit-and-fabulous-at-the-kcc-11/
LOCATION:Kiawanda Community Center\, 34600 Cape Kiwanda Dr\, Pacific City\, OR\, 97135\, United States
CATEGORIES:Fitness and Athletics
ATTACH;FMTTYPE=image/png:https://visitmanzanita.org/wp-content/uploads/2024/04/Fit-Fabulous-ttT88Z.tmp_.png
END:VEVENT
BEGIN:VEVENT
DTSTART;TZID=America/Los_Angeles:20240603T100000
DTEND;TZID=America/Los_Angeles:20240603T110000
DTSTAMP:20260425T151210
CREATED:20240428T170919Z
LAST-MODIFIED:20240603T182627Z
UID:10000996-1717408800-1717412400@visitmanzanita.org
SUMMARY:Walking Wonders
DESCRIPTION:Join this active group rain or shine to get your steps in and around town.
URL:https://visitmanzanita.org/event/walking-wonders-16/
LOCATION:Kiawanda Community Center\, 34600 Cape Kiwanda Dr\, Pacific City\, OR\, 97135\, United States
CATEGORIES:Fitness and Athletics
ATTACH;FMTTYPE=image/png:https://visitmanzanita.org/wp-content/uploads/2024/04/Walking-Wonders-b317UD.tmp_.png
END:VEVENT
BEGIN:VEVENT
DTSTART;TZID=America/Los_Angeles:20240603T090000
DTEND;TZID=America/Los_Angeles:20240603T100000
DTSTAMP:20260425T151210
CREATED:20240428T170919Z
LAST-MODIFIED:20240603T182627Z
UID:10000995-1717405200-1717408800@visitmanzanita.org
SUMMARY:Yoga in Pacific City
DESCRIPTION:Yoga with Dawn 9am Mondays\, Wednesday\, Fridays & Saturdays \nCome enjoy the natural light with a forested dune as your backdrop on the mat.
URL:https://visitmanzanita.org/event/yoga-in-pacific-city-21/
LOCATION:Kiawanda Community Center\, 34600 Cape Kiwanda Dr\, Pacific City\, OR\, 97135\, United States
CATEGORIES:Fitness and Athletics
ATTACH;FMTTYPE=image/png:https://visitmanzanita.org/wp-content/uploads/2024/04/Yoga-mHIYGc.tmp_.png
END:VEVENT
BEGIN:VEVENT
DTSTART;TZID=America/Los_Angeles:20240601T090000
DTEND;TZID=America/Los_Angeles:20240601T100000
DTSTAMP:20260425T151210
CREATED:20240428T170918Z
LAST-MODIFIED:20240601T181134Z
UID:10000991-1717232400-1717236000@visitmanzanita.org
SUMMARY:Yoga in Pacific City
DESCRIPTION:Yoga with Dawn 9am Mondays\, Wednesday\, Fridays & Saturdays \nCome enjoy the natural light with a forested dune as your backdrop on the mat.
URL:https://visitmanzanita.org/event/yoga-in-pacific-city-20/
LOCATION:Kiawanda Community Center\, 34600 Cape Kiwanda Dr\, Pacific City\, OR\, 97135\, United States
CATEGORIES:Fitness and Athletics
ATTACH;FMTTYPE=image/png:https://visitmanzanita.org/wp-content/uploads/2024/04/Yoga-mHIYGc.tmp_.png
END:VEVENT
BEGIN:VEVENT
DTSTART;TZID=America/Los_Angeles:20240531T100000
DTEND;TZID=America/Los_Angeles:20240531T110000
DTSTAMP:20260425T151210
CREATED:20240428T170918Z
LAST-MODIFIED:20240531T181136Z
UID:10000989-1717149600-1717153200@visitmanzanita.org
SUMMARY:Walking Wonders
DESCRIPTION:Join this active group rain or shine to get your steps in and around town.
URL:https://visitmanzanita.org/event/walking-wonders-15/
LOCATION:Kiawanda Community Center\, 34600 Cape Kiwanda Dr\, Pacific City\, OR\, 97135\, United States
CATEGORIES:Fitness and Athletics
ATTACH;FMTTYPE=image/png:https://visitmanzanita.org/wp-content/uploads/2024/04/Walking-Wonders-b317UD.tmp_.png
END:VEVENT
BEGIN:VEVENT
DTSTART;TZID=America/Los_Angeles:20240531T090000
DTEND;TZID=America/Los_Angeles:20240531T100000
DTSTAMP:20260425T151210
CREATED:20240428T170918Z
LAST-MODIFIED:20240531T181136Z
UID:10000988-1717146000-1717149600@visitmanzanita.org
SUMMARY:Yoga in Pacific City
DESCRIPTION:Yoga with Dawn 9am Mondays\, Wednesday\, Fridays & Saturdays \nCome enjoy the natural light with a forested dune as your backdrop on the mat.
URL:https://visitmanzanita.org/event/yoga-in-pacific-city-19/
LOCATION:Kiawanda Community Center\, 34600 Cape Kiwanda Dr\, Pacific City\, OR\, 97135\, United States
CATEGORIES:Fitness and Athletics
ATTACH;FMTTYPE=image/png:https://visitmanzanita.org/wp-content/uploads/2024/04/Yoga-mHIYGc.tmp_.png
END:VEVENT
BEGIN:VEVENT
DTSTART;TZID=America/Los_Angeles:20240530T103000
DTEND;TZID=America/Los_Angeles:20240530T113000
DTSTAMP:20260425T151210
CREATED:20240428T170918Z
LAST-MODIFIED:20240530T181136Z
UID:10000986-1717065000-1717068600@visitmanzanita.org
SUMMARY:Tai Chi at the KCC
DESCRIPTION:Come to this weekly class in Pacific City to learn the forms in this moving meditation. Feel your life force flowing through you and get energized for you day!
URL:https://visitmanzanita.org/event/tai-chi-at-the-kcc-5/
LOCATION:Kiawanda Community Center\, 34600 Cape Kiwanda Dr\, Pacific City\, OR\, 97135\, United States
CATEGORIES:Fitness and Athletics
ATTACH;FMTTYPE=image/png:https://visitmanzanita.org/wp-content/uploads/2024/04/Tai-Chi-8q1tX1.tmp_.png
END:VEVENT
BEGIN:VEVENT
DTSTART;TZID=America/Los_Angeles:20240530T090000
DTEND;TZID=America/Los_Angeles:20240530T100000
DTSTAMP:20260425T151210
CREATED:20240428T170918Z
LAST-MODIFIED:20240530T181136Z
UID:10000985-1717059600-1717063200@visitmanzanita.org
SUMMARY:Fit and Fabulous at the KCC
DESCRIPTION:Come join this group keeping active two days a week. Only $15 for the month!
URL:https://visitmanzanita.org/event/fit-and-fabulous-at-the-kcc-10/
LOCATION:Kiawanda Community Center\, 34600 Cape Kiwanda Dr\, Pacific City\, OR\, 97135\, United States
CATEGORIES:Fitness and Athletics
ATTACH;FMTTYPE=image/png:https://visitmanzanita.org/wp-content/uploads/2024/04/Fit-Fabulous-ttT88Z.tmp_.png
END:VEVENT
BEGIN:VEVENT
DTSTART;TZID=America/Los_Angeles:20240529T170000
DTEND;TZID=America/Los_Angeles:20240529T180000
DTSTAMP:20260425T151210
CREATED:20240428T170918Z
LAST-MODIFIED:20240529T181126Z
UID:10000983-1717002000-1717005600@visitmanzanita.org
SUMMARY:Co-Ed Boxing Classes at the Kiawanda Community Center in Pacific City\, OR
DESCRIPTION:Pacific City Boxing offers boxing skills and cardio-strength training for ages 12 and older. The focus will be on the fundamentals of boxing. Participants will learn everything from boxing basics of wrapping hands to mit work. Focus will be on boxing fitness while learning proper footwork and punching combinations\, all while getting a great workout! Boxing is a great way to lessen stress and get into shape. Pacific City Boxing is USA Boxing and Safe Sport certified.\nCo-ed\nAges 12 & up\n$10 per class\nTo sign up\, email register to: pacificcityboxing@gmail.com
URL:https://visitmanzanita.org/event/co-ed-boxing-classes-at-the-kiawanda-community-center-in-pacific-city-or-5/
LOCATION:Kiawanda Community Center\, 34600 Cape Kiwanda Dr\, Pacific City\, OR\, 97135\, United States
CATEGORIES:Classes and Workshops,Family Fun,Fitness and Athletics
ATTACH;FMTTYPE=image/jpeg:https://visitmanzanita.org/wp-content/uploads/2024/04/Boxing-Flyer-New-aQjzJ0.tmp_.jpg
END:VEVENT
BEGIN:VEVENT
DTSTART;TZID=America/Los_Angeles:20240529T170000
DTEND;TZID=America/Los_Angeles:20240529T180000
DTSTAMP:20260425T151210
CREATED:20240428T170918Z
LAST-MODIFIED:20240529T181126Z
UID:10000984-1717002000-1717005600@visitmanzanita.org
SUMMARY:Boxing Class in Pacific City
DESCRIPTION:Pacific City Boxing offers boxing skills and cardio-strength training for ages 12 and older.  The focus will be on the fundamentals of boxing.  Participants will learn everything from boxing basics of wrapping hands to mit work. Focus will be on boxing fitness while learning proper footwork and punching combinations\, all while getting a great workout!  Boxing is a great way to lessen stress and get into shape.  Pacific City Boxing is USA Boxing and Safe Sport certified.
URL:https://visitmanzanita.org/event/boxing-class-in-pacific-city-5/
LOCATION:Kiawanda Community Center\, 34600 Cape Kiwanda Dr\, Pacific City\, OR\, 97135\, United States
CATEGORIES:Fitness and Athletics
ATTACH;FMTTYPE=image/png:https://visitmanzanita.org/wp-content/uploads/2024/04/Screenshot-2024-04-10-115036-woCnYn.tmp_.png
END:VEVENT
BEGIN:VEVENT
DTSTART;TZID=America/Los_Angeles:20240529T100000
DTEND;TZID=America/Los_Angeles:20240529T110000
DTSTAMP:20260425T151210
CREATED:20240428T170917Z
LAST-MODIFIED:20240529T181126Z
UID:10000982-1716976800-1716980400@visitmanzanita.org
SUMMARY:Walking Wonders
DESCRIPTION:Join this active group rain or shine to get your steps in and around town.
URL:https://visitmanzanita.org/event/walking-wonders-14/
LOCATION:Kiawanda Community Center\, 34600 Cape Kiwanda Dr\, Pacific City\, OR\, 97135\, United States
CATEGORIES:Fitness and Athletics
ATTACH;FMTTYPE=image/png:https://visitmanzanita.org/wp-content/uploads/2024/04/Walking-Wonders-b317UD.tmp_.png
END:VEVENT
BEGIN:VEVENT
DTSTART;TZID=America/Los_Angeles:20240529T090000
DTEND;TZID=America/Los_Angeles:20240529T100000
DTSTAMP:20260425T151210
CREATED:20240428T170917Z
LAST-MODIFIED:20240529T181126Z
UID:10000981-1716973200-1716976800@visitmanzanita.org
SUMMARY:Yoga in Pacific City
DESCRIPTION:Yoga with Dawn 9am Mondays\, Wednesday\, Fridays & Saturdays \nCome enjoy the natural light with a forested dune as your backdrop on the mat.
URL:https://visitmanzanita.org/event/yoga-in-pacific-city-18/
LOCATION:Kiawanda Community Center\, 34600 Cape Kiwanda Dr\, Pacific City\, OR\, 97135\, United States
CATEGORIES:Fitness and Athletics
ATTACH;FMTTYPE=image/png:https://visitmanzanita.org/wp-content/uploads/2024/04/Yoga-mHIYGc.tmp_.png
END:VEVENT
BEGIN:VEVENT
DTSTART;TZID=America/Los_Angeles:20240528T090000
DTEND;TZID=America/Los_Angeles:20240528T100000
DTSTAMP:20260425T151210
CREATED:20240428T170917Z
LAST-MODIFIED:20240528T181136Z
UID:10000980-1716886800-1716890400@visitmanzanita.org
SUMMARY:Fit and Fabulous at the KCC
DESCRIPTION:Come join this group keeping active two days a week. Only $15 for the month!
URL:https://visitmanzanita.org/event/fit-and-fabulous-at-the-kcc-9/
LOCATION:Kiawanda Community Center\, 34600 Cape Kiwanda Dr\, Pacific City\, OR\, 97135\, United States
CATEGORIES:Fitness and Athletics
ATTACH;FMTTYPE=image/png:https://visitmanzanita.org/wp-content/uploads/2024/04/Fit-Fabulous-ttT88Z.tmp_.png
END:VEVENT
BEGIN:VEVENT
DTSTART;TZID=America/Los_Angeles:20240527T100000
DTEND;TZID=America/Los_Angeles:20240527T110000
DTSTAMP:20260425T151210
CREATED:20240428T170917Z
LAST-MODIFIED:20240527T181142Z
UID:10000979-1716804000-1716807600@visitmanzanita.org
SUMMARY:Walking Wonders
DESCRIPTION:Join this active group rain or shine to get your steps in and around town.
URL:https://visitmanzanita.org/event/walking-wonders-13/
LOCATION:Kiawanda Community Center\, 34600 Cape Kiwanda Dr\, Pacific City\, OR\, 97135\, United States
CATEGORIES:Fitness and Athletics
ATTACH;FMTTYPE=image/png:https://visitmanzanita.org/wp-content/uploads/2024/04/Walking-Wonders-b317UD.tmp_.png
END:VEVENT
BEGIN:VEVENT
DTSTART;TZID=America/Los_Angeles:20240527T090000
DTEND;TZID=America/Los_Angeles:20240527T100000
DTSTAMP:20260425T151210
CREATED:20240428T170917Z
LAST-MODIFIED:20240527T181141Z
UID:10000978-1716800400-1716804000@visitmanzanita.org
SUMMARY:Yoga in Pacific City
DESCRIPTION:Yoga with Dawn 9am Mondays\, Wednesday\, Fridays & Saturdays \nCome enjoy the natural light with a forested dune as your backdrop on the mat.
URL:https://visitmanzanita.org/event/yoga-in-pacific-city-17/
LOCATION:Kiawanda Community Center\, 34600 Cape Kiwanda Dr\, Pacific City\, OR\, 97135\, United States
CATEGORIES:Fitness and Athletics
ATTACH;FMTTYPE=image/png:https://visitmanzanita.org/wp-content/uploads/2024/04/Yoga-mHIYGc.tmp_.png
END:VEVENT
BEGIN:VEVENT
DTSTART;TZID=America/Los_Angeles:20240525T090000
DTEND;TZID=America/Los_Angeles:20240525T100000
DTSTAMP:20260425T151210
CREATED:20240428T170916Z
LAST-MODIFIED:20240525T181157Z
UID:10000975-1716627600-1716631200@visitmanzanita.org
SUMMARY:Yoga in Pacific City
DESCRIPTION:Yoga with Dawn 9am Mondays\, Wednesday\, Fridays & Saturdays \nCome enjoy the natural light with a forested dune as your backdrop on the mat.
URL:https://visitmanzanita.org/event/yoga-in-pacific-city-16/
LOCATION:Kiawanda Community Center\, 34600 Cape Kiwanda Dr\, Pacific City\, OR\, 97135\, United States
CATEGORIES:Fitness and Athletics
ATTACH;FMTTYPE=image/png:https://visitmanzanita.org/wp-content/uploads/2024/04/Yoga-mHIYGc.tmp_.png
END:VEVENT
BEGIN:VEVENT
DTSTART;TZID=America/Los_Angeles:20240524T100000
DTEND;TZID=America/Los_Angeles:20240524T110000
DTSTAMP:20260425T151210
CREATED:20240428T170916Z
LAST-MODIFIED:20240524T181126Z
UID:10000973-1716544800-1716548400@visitmanzanita.org
SUMMARY:Walking Wonders
DESCRIPTION:Join this active group rain or shine to get your steps in and around town.
URL:https://visitmanzanita.org/event/walking-wonders-12/
LOCATION:Kiawanda Community Center\, 34600 Cape Kiwanda Dr\, Pacific City\, OR\, 97135\, United States
CATEGORIES:Fitness and Athletics
ATTACH;FMTTYPE=image/png:https://visitmanzanita.org/wp-content/uploads/2024/04/Walking-Wonders-b317UD.tmp_.png
END:VEVENT
END:VCALENDAR