BEGIN:VCALENDAR
VERSION:2.0
PRODID:-//Manzanita Oregon Visitor Center - ECPv6.15.20//NONSGML v1.0//EN
CALSCALE:GREGORIAN
METHOD:PUBLISH
X-ORIGINAL-URL:https://visitmanzanita.org
X-WR-CALDESC:Events for Manzanita Oregon Visitor Center
REFRESH-INTERVAL;VALUE=DURATION:PT1H
X-Robots-Tag:noindex
X-PUBLISHED-TTL:PT1H
BEGIN:VTIMEZONE
TZID:America/Los_Angeles
BEGIN:DAYLIGHT
TZOFFSETFROM:-0800
TZOFFSETTO:-0700
TZNAME:PDT
DTSTART:20230312T100000
END:DAYLIGHT
BEGIN:STANDARD
TZOFFSETFROM:-0700
TZOFFSETTO:-0800
TZNAME:PST
DTSTART:20231105T090000
END:STANDARD
BEGIN:DAYLIGHT
TZOFFSETFROM:-0800
TZOFFSETTO:-0700
TZNAME:PDT
DTSTART:20240310T100000
END:DAYLIGHT
BEGIN:STANDARD
TZOFFSETFROM:-0700
TZOFFSETTO:-0800
TZNAME:PST
DTSTART:20241103T090000
END:STANDARD
BEGIN:DAYLIGHT
TZOFFSETFROM:-0800
TZOFFSETTO:-0700
TZNAME:PDT
DTSTART:20250309T100000
END:DAYLIGHT
BEGIN:STANDARD
TZOFFSETFROM:-0700
TZOFFSETTO:-0800
TZNAME:PST
DTSTART:20251102T090000
END:STANDARD
END:VTIMEZONE
BEGIN:VEVENT
DTSTART;TZID=America/Los_Angeles:20240530T090000
DTEND;TZID=America/Los_Angeles:20240530T100000
DTSTAMP:20260425T185746
CREATED:20240428T170918Z
LAST-MODIFIED:20240530T181136Z
UID:10000985-1717059600-1717063200@visitmanzanita.org
SUMMARY:Fit and Fabulous at the KCC
DESCRIPTION:Come join this group keeping active two days a week. Only $15 for the month!
URL:https://visitmanzanita.org/event/fit-and-fabulous-at-the-kcc-10/
LOCATION:Kiawanda Community Center\, 34600 Cape Kiwanda Dr\, Pacific City\, OR\, 97135\, United States
CATEGORIES:Fitness and Athletics
ATTACH;FMTTYPE=image/png:https://visitmanzanita.org/wp-content/uploads/2024/04/Fit-Fabulous-ttT88Z.tmp_.png
END:VEVENT
BEGIN:VEVENT
DTSTART;TZID=America/Los_Angeles:20240529T170000
DTEND;TZID=America/Los_Angeles:20240529T180000
DTSTAMP:20260425T185746
CREATED:20240428T170918Z
LAST-MODIFIED:20240529T181126Z
UID:10000983-1717002000-1717005600@visitmanzanita.org
SUMMARY:Co-Ed Boxing Classes at the Kiawanda Community Center in Pacific City\, OR
DESCRIPTION:Pacific City Boxing offers boxing skills and cardio-strength training for ages 12 and older. The focus will be on the fundamentals of boxing. Participants will learn everything from boxing basics of wrapping hands to mit work. Focus will be on boxing fitness while learning proper footwork and punching combinations\, all while getting a great workout! Boxing is a great way to lessen stress and get into shape. Pacific City Boxing is USA Boxing and Safe Sport certified.\nCo-ed\nAges 12 & up\n$10 per class\nTo sign up\, email register to: pacificcityboxing@gmail.com
URL:https://visitmanzanita.org/event/co-ed-boxing-classes-at-the-kiawanda-community-center-in-pacific-city-or-5/
LOCATION:Kiawanda Community Center\, 34600 Cape Kiwanda Dr\, Pacific City\, OR\, 97135\, United States
CATEGORIES:Classes and Workshops,Family Fun,Fitness and Athletics
ATTACH;FMTTYPE=image/jpeg:https://visitmanzanita.org/wp-content/uploads/2024/04/Boxing-Flyer-New-aQjzJ0.tmp_.jpg
END:VEVENT
BEGIN:VEVENT
DTSTART;TZID=America/Los_Angeles:20240529T170000
DTEND;TZID=America/Los_Angeles:20240529T180000
DTSTAMP:20260425T185746
CREATED:20240428T170918Z
LAST-MODIFIED:20240529T181126Z
UID:10000984-1717002000-1717005600@visitmanzanita.org
SUMMARY:Boxing Class in Pacific City
DESCRIPTION:Pacific City Boxing offers boxing skills and cardio-strength training for ages 12 and older.  The focus will be on the fundamentals of boxing.  Participants will learn everything from boxing basics of wrapping hands to mit work. Focus will be on boxing fitness while learning proper footwork and punching combinations\, all while getting a great workout!  Boxing is a great way to lessen stress and get into shape.  Pacific City Boxing is USA Boxing and Safe Sport certified.
URL:https://visitmanzanita.org/event/boxing-class-in-pacific-city-5/
LOCATION:Kiawanda Community Center\, 34600 Cape Kiwanda Dr\, Pacific City\, OR\, 97135\, United States
CATEGORIES:Fitness and Athletics
ATTACH;FMTTYPE=image/png:https://visitmanzanita.org/wp-content/uploads/2024/04/Screenshot-2024-04-10-115036-woCnYn.tmp_.png
END:VEVENT
BEGIN:VEVENT
DTSTART;TZID=America/Los_Angeles:20240529T100000
DTEND;TZID=America/Los_Angeles:20240529T110000
DTSTAMP:20260425T185746
CREATED:20240428T170917Z
LAST-MODIFIED:20240529T181126Z
UID:10000982-1716976800-1716980400@visitmanzanita.org
SUMMARY:Walking Wonders
DESCRIPTION:Join this active group rain or shine to get your steps in and around town.
URL:https://visitmanzanita.org/event/walking-wonders-14/
LOCATION:Kiawanda Community Center\, 34600 Cape Kiwanda Dr\, Pacific City\, OR\, 97135\, United States
CATEGORIES:Fitness and Athletics
ATTACH;FMTTYPE=image/png:https://visitmanzanita.org/wp-content/uploads/2024/04/Walking-Wonders-b317UD.tmp_.png
END:VEVENT
BEGIN:VEVENT
DTSTART;TZID=America/Los_Angeles:20240529T090000
DTEND;TZID=America/Los_Angeles:20240529T100000
DTSTAMP:20260425T185746
CREATED:20240428T170917Z
LAST-MODIFIED:20240529T181126Z
UID:10000981-1716973200-1716976800@visitmanzanita.org
SUMMARY:Yoga in Pacific City
DESCRIPTION:Yoga with Dawn 9am Mondays\, Wednesday\, Fridays & Saturdays \nCome enjoy the natural light with a forested dune as your backdrop on the mat.
URL:https://visitmanzanita.org/event/yoga-in-pacific-city-18/
LOCATION:Kiawanda Community Center\, 34600 Cape Kiwanda Dr\, Pacific City\, OR\, 97135\, United States
CATEGORIES:Fitness and Athletics
ATTACH;FMTTYPE=image/png:https://visitmanzanita.org/wp-content/uploads/2024/04/Yoga-mHIYGc.tmp_.png
END:VEVENT
BEGIN:VEVENT
DTSTART;TZID=America/Los_Angeles:20240528T090000
DTEND;TZID=America/Los_Angeles:20240528T100000
DTSTAMP:20260425T185746
CREATED:20240428T170917Z
LAST-MODIFIED:20240528T181136Z
UID:10000980-1716886800-1716890400@visitmanzanita.org
SUMMARY:Fit and Fabulous at the KCC
DESCRIPTION:Come join this group keeping active two days a week. Only $15 for the month!
URL:https://visitmanzanita.org/event/fit-and-fabulous-at-the-kcc-9/
LOCATION:Kiawanda Community Center\, 34600 Cape Kiwanda Dr\, Pacific City\, OR\, 97135\, United States
CATEGORIES:Fitness and Athletics
ATTACH;FMTTYPE=image/png:https://visitmanzanita.org/wp-content/uploads/2024/04/Fit-Fabulous-ttT88Z.tmp_.png
END:VEVENT
BEGIN:VEVENT
DTSTART;TZID=America/Los_Angeles:20240527T100000
DTEND;TZID=America/Los_Angeles:20240527T110000
DTSTAMP:20260425T185746
CREATED:20240428T170917Z
LAST-MODIFIED:20240527T181142Z
UID:10000979-1716804000-1716807600@visitmanzanita.org
SUMMARY:Walking Wonders
DESCRIPTION:Join this active group rain or shine to get your steps in and around town.
URL:https://visitmanzanita.org/event/walking-wonders-13/
LOCATION:Kiawanda Community Center\, 34600 Cape Kiwanda Dr\, Pacific City\, OR\, 97135\, United States
CATEGORIES:Fitness and Athletics
ATTACH;FMTTYPE=image/png:https://visitmanzanita.org/wp-content/uploads/2024/04/Walking-Wonders-b317UD.tmp_.png
END:VEVENT
BEGIN:VEVENT
DTSTART;TZID=America/Los_Angeles:20240527T090000
DTEND;TZID=America/Los_Angeles:20240527T100000
DTSTAMP:20260425T185746
CREATED:20240428T170917Z
LAST-MODIFIED:20240527T181141Z
UID:10000978-1716800400-1716804000@visitmanzanita.org
SUMMARY:Yoga in Pacific City
DESCRIPTION:Yoga with Dawn 9am Mondays\, Wednesday\, Fridays & Saturdays \nCome enjoy the natural light with a forested dune as your backdrop on the mat.
URL:https://visitmanzanita.org/event/yoga-in-pacific-city-17/
LOCATION:Kiawanda Community Center\, 34600 Cape Kiwanda Dr\, Pacific City\, OR\, 97135\, United States
CATEGORIES:Fitness and Athletics
ATTACH;FMTTYPE=image/png:https://visitmanzanita.org/wp-content/uploads/2024/04/Yoga-mHIYGc.tmp_.png
END:VEVENT
BEGIN:VEVENT
DTSTART;TZID=America/Los_Angeles:20240525T090000
DTEND;TZID=America/Los_Angeles:20240525T100000
DTSTAMP:20260425T185746
CREATED:20240428T170916Z
LAST-MODIFIED:20240525T181157Z
UID:10000975-1716627600-1716631200@visitmanzanita.org
SUMMARY:Yoga in Pacific City
DESCRIPTION:Yoga with Dawn 9am Mondays\, Wednesday\, Fridays & Saturdays \nCome enjoy the natural light with a forested dune as your backdrop on the mat.
URL:https://visitmanzanita.org/event/yoga-in-pacific-city-16/
LOCATION:Kiawanda Community Center\, 34600 Cape Kiwanda Dr\, Pacific City\, OR\, 97135\, United States
CATEGORIES:Fitness and Athletics
ATTACH;FMTTYPE=image/png:https://visitmanzanita.org/wp-content/uploads/2024/04/Yoga-mHIYGc.tmp_.png
END:VEVENT
BEGIN:VEVENT
DTSTART;TZID=America/Los_Angeles:20240524T100000
DTEND;TZID=America/Los_Angeles:20240524T110000
DTSTAMP:20260425T185746
CREATED:20240428T170916Z
LAST-MODIFIED:20240524T181126Z
UID:10000973-1716544800-1716548400@visitmanzanita.org
SUMMARY:Walking Wonders
DESCRIPTION:Join this active group rain or shine to get your steps in and around town.
URL:https://visitmanzanita.org/event/walking-wonders-12/
LOCATION:Kiawanda Community Center\, 34600 Cape Kiwanda Dr\, Pacific City\, OR\, 97135\, United States
CATEGORIES:Fitness and Athletics
ATTACH;FMTTYPE=image/png:https://visitmanzanita.org/wp-content/uploads/2024/04/Walking-Wonders-b317UD.tmp_.png
END:VEVENT
BEGIN:VEVENT
DTSTART;TZID=America/Los_Angeles:20240524T090000
DTEND;TZID=America/Los_Angeles:20240524T100000
DTSTAMP:20260425T185746
CREATED:20240428T170916Z
LAST-MODIFIED:20240524T181126Z
UID:10000972-1716541200-1716544800@visitmanzanita.org
SUMMARY:Yoga in Pacific City
DESCRIPTION:Yoga with Dawn 9am Mondays\, Wednesday\, Fridays & Saturdays \nCome enjoy the natural light with a forested dune as your backdrop on the mat.
URL:https://visitmanzanita.org/event/yoga-in-pacific-city-15/
LOCATION:Kiawanda Community Center\, 34600 Cape Kiwanda Dr\, Pacific City\, OR\, 97135\, United States
CATEGORIES:Fitness and Athletics
ATTACH;FMTTYPE=image/png:https://visitmanzanita.org/wp-content/uploads/2024/04/Yoga-mHIYGc.tmp_.png
END:VEVENT
BEGIN:VEVENT
DTSTART;TZID=America/Los_Angeles:20240523T103000
DTEND;TZID=America/Los_Angeles:20240523T113000
DTSTAMP:20260425T185746
CREATED:20240428T170916Z
LAST-MODIFIED:20240523T175654Z
UID:10000970-1716460200-1716463800@visitmanzanita.org
SUMMARY:Tai Chi at the KCC
DESCRIPTION:Come to this weekly class in Pacific City to learn the forms in this moving meditation. Feel your life force flowing through you and get energized for you day!
URL:https://visitmanzanita.org/event/tai-chi-at-the-kcc-4/
LOCATION:Kiawanda Community Center\, 34600 Cape Kiwanda Dr\, Pacific City\, OR\, 97135\, United States
CATEGORIES:Fitness and Athletics
ATTACH;FMTTYPE=image/png:https://visitmanzanita.org/wp-content/uploads/2024/04/Tai-Chi-8q1tX1.tmp_.png
END:VEVENT
BEGIN:VEVENT
DTSTART;TZID=America/Los_Angeles:20240523T090000
DTEND;TZID=America/Los_Angeles:20240523T100000
DTSTAMP:20260425T185746
CREATED:20240428T170916Z
LAST-MODIFIED:20240523T175654Z
UID:10000969-1716454800-1716458400@visitmanzanita.org
SUMMARY:Fit and Fabulous at the KCC
DESCRIPTION:Come join this group keeping active two days a week. Only $15 for the month!
URL:https://visitmanzanita.org/event/fit-and-fabulous-at-the-kcc-8/
LOCATION:Kiawanda Community Center\, 34600 Cape Kiwanda Dr\, Pacific City\, OR\, 97135\, United States
CATEGORIES:Fitness and Athletics
ATTACH;FMTTYPE=image/png:https://visitmanzanita.org/wp-content/uploads/2024/04/Fit-Fabulous-ttT88Z.tmp_.png
END:VEVENT
BEGIN:VEVENT
DTSTART;TZID=America/Los_Angeles:20240522T170000
DTEND;TZID=America/Los_Angeles:20240522T180000
DTSTAMP:20260425T185746
CREATED:20240428T170916Z
LAST-MODIFIED:20240522T175647Z
UID:10000967-1716397200-1716400800@visitmanzanita.org
SUMMARY:Co-Ed Boxing Classes at the Kiawanda Community Center in Pacific City\, OR
DESCRIPTION:Pacific City Boxing offers boxing skills and cardio-strength training for ages 12 and older. The focus will be on the fundamentals of boxing. Participants will learn everything from boxing basics of wrapping hands to mit work. Focus will be on boxing fitness while learning proper footwork and punching combinations\, all while getting a great workout! Boxing is a great way to lessen stress and get into shape. Pacific City Boxing is USA Boxing and Safe Sport certified.\nCo-ed\nAges 12 & up\n$10 per class\nTo sign up\, email register to: pacificcityboxing@gmail.com
URL:https://visitmanzanita.org/event/co-ed-boxing-classes-at-the-kiawanda-community-center-in-pacific-city-or-4/
LOCATION:Kiawanda Community Center\, 34600 Cape Kiwanda Dr\, Pacific City\, OR\, 97135\, United States
CATEGORIES:Classes and Workshops,Family Fun,Fitness and Athletics
ATTACH;FMTTYPE=image/jpeg:https://visitmanzanita.org/wp-content/uploads/2024/04/Boxing-Flyer-New-aQjzJ0.tmp_.jpg
END:VEVENT
BEGIN:VEVENT
DTSTART;TZID=America/Los_Angeles:20240522T170000
DTEND;TZID=America/Los_Angeles:20240522T180000
DTSTAMP:20260425T185746
CREATED:20240428T170916Z
LAST-MODIFIED:20240522T175647Z
UID:10000968-1716397200-1716400800@visitmanzanita.org
SUMMARY:Boxing Class in Pacific City
DESCRIPTION:Pacific City Boxing offers boxing skills and cardio-strength training for ages 12 and older.  The focus will be on the fundamentals of boxing.  Participants will learn everything from boxing basics of wrapping hands to mit work. Focus will be on boxing fitness while learning proper footwork and punching combinations\, all while getting a great workout!  Boxing is a great way to lessen stress and get into shape.  Pacific City Boxing is USA Boxing and Safe Sport certified.
URL:https://visitmanzanita.org/event/boxing-class-in-pacific-city-4/
LOCATION:Kiawanda Community Center\, 34600 Cape Kiwanda Dr\, Pacific City\, OR\, 97135\, United States
CATEGORIES:Fitness and Athletics
ATTACH;FMTTYPE=image/png:https://visitmanzanita.org/wp-content/uploads/2024/04/Screenshot-2024-04-10-115036-woCnYn.tmp_.png
END:VEVENT
BEGIN:VEVENT
DTSTART;TZID=America/Los_Angeles:20240522T100000
DTEND;TZID=America/Los_Angeles:20240522T110000
DTSTAMP:20260425T185746
CREATED:20240428T170916Z
LAST-MODIFIED:20240522T175647Z
UID:10000966-1716372000-1716375600@visitmanzanita.org
SUMMARY:Walking Wonders
DESCRIPTION:Join this active group rain or shine to get your steps in and around town.
URL:https://visitmanzanita.org/event/walking-wonders-11/
LOCATION:Kiawanda Community Center\, 34600 Cape Kiwanda Dr\, Pacific City\, OR\, 97135\, United States
CATEGORIES:Fitness and Athletics
ATTACH;FMTTYPE=image/png:https://visitmanzanita.org/wp-content/uploads/2024/04/Walking-Wonders-b317UD.tmp_.png
END:VEVENT
BEGIN:VEVENT
DTSTART;TZID=America/Los_Angeles:20240522T090000
DTEND;TZID=America/Los_Angeles:20240522T100000
DTSTAMP:20260425T185746
CREATED:20240428T170916Z
LAST-MODIFIED:20240522T175647Z
UID:10000965-1716368400-1716372000@visitmanzanita.org
SUMMARY:Yoga in Pacific City
DESCRIPTION:Yoga with Dawn 9am Mondays\, Wednesday\, Fridays & Saturdays \nCome enjoy the natural light with a forested dune as your backdrop on the mat.
URL:https://visitmanzanita.org/event/yoga-in-pacific-city-14/
LOCATION:Kiawanda Community Center\, 34600 Cape Kiwanda Dr\, Pacific City\, OR\, 97135\, United States
CATEGORIES:Fitness and Athletics
ATTACH;FMTTYPE=image/png:https://visitmanzanita.org/wp-content/uploads/2024/04/Yoga-mHIYGc.tmp_.png
END:VEVENT
BEGIN:VEVENT
DTSTART;TZID=America/Los_Angeles:20240521T110000
DTEND;TZID=America/Los_Angeles:20240521T130000
DTSTAMP:20260425T185746
CREATED:20240428T170912Z
LAST-MODIFIED:20240521T175713Z
UID:10000962-1716289200-1716296400@visitmanzanita.org
SUMMARY:Free Blood Pressure Check
DESCRIPTION:Adventist Health is coming monthly to the KCC to give a free checkup on your pulse\, BP\, and oxygen saturation.
URL:https://visitmanzanita.org/event/free-blood-pressure-check/
LOCATION:Kiawanda Community Center\, 34600 Cape Kiwanda Dr\, Pacific City\, OR\, 97135\, United States
CATEGORIES:Community
ATTACH;FMTTYPE=image/png:https://visitmanzanita.org/wp-content/uploads/2024/04/Screenshot-2024-04-10-114938-WgTYuy.tmp_.png
END:VEVENT
BEGIN:VEVENT
DTSTART;TZID=America/Los_Angeles:20240521T090000
DTEND;TZID=America/Los_Angeles:20240521T100000
DTSTAMP:20260425T185746
CREATED:20240428T170912Z
LAST-MODIFIED:20240521T175713Z
UID:10000961-1716282000-1716285600@visitmanzanita.org
SUMMARY:Fit and Fabulous at the KCC
DESCRIPTION:Come join this group keeping active two days a week. Only $15 for the month!
URL:https://visitmanzanita.org/event/fit-and-fabulous-at-the-kcc-7/
LOCATION:Kiawanda Community Center\, 34600 Cape Kiwanda Dr\, Pacific City\, OR\, 97135\, United States
CATEGORIES:Fitness and Athletics
ATTACH;FMTTYPE=image/png:https://visitmanzanita.org/wp-content/uploads/2024/04/Fit-Fabulous-ttT88Z.tmp_.png
END:VEVENT
BEGIN:VEVENT
DTSTART;TZID=America/Los_Angeles:20240520T100000
DTEND;TZID=America/Los_Angeles:20240520T110000
DTSTAMP:20260425T185746
CREATED:20240428T170912Z
LAST-MODIFIED:20240520T175640Z
UID:10000959-1716199200-1716202800@visitmanzanita.org
SUMMARY:Walking Wonders
DESCRIPTION:Join this active group rain or shine to get your steps in and around town.
URL:https://visitmanzanita.org/event/walking-wonders-10/
LOCATION:Kiawanda Community Center\, 34600 Cape Kiwanda Dr\, Pacific City\, OR\, 97135\, United States
CATEGORIES:Fitness and Athletics
ATTACH;FMTTYPE=image/png:https://visitmanzanita.org/wp-content/uploads/2024/04/Walking-Wonders-b317UD.tmp_.png
END:VEVENT
BEGIN:VEVENT
DTSTART;TZID=America/Los_Angeles:20240520T090000
DTEND;TZID=America/Los_Angeles:20240520T100000
DTSTAMP:20260425T185746
CREATED:20240428T170912Z
LAST-MODIFIED:20240520T175640Z
UID:10000958-1716195600-1716199200@visitmanzanita.org
SUMMARY:Yoga in Pacific City
DESCRIPTION:Yoga with Dawn 9am Mondays\, Wednesday\, Fridays & Saturdays \nCome enjoy the natural light with a forested dune as your backdrop on the mat.
URL:https://visitmanzanita.org/event/yoga-in-pacific-city-13/
LOCATION:Kiawanda Community Center\, 34600 Cape Kiwanda Dr\, Pacific City\, OR\, 97135\, United States
CATEGORIES:Fitness and Athletics
ATTACH;FMTTYPE=image/png:https://visitmanzanita.org/wp-content/uploads/2024/04/Yoga-mHIYGc.tmp_.png
END:VEVENT
BEGIN:VEVENT
DTSTART;TZID=America/Los_Angeles:20240518T090000
DTEND;TZID=America/Los_Angeles:20240518T100000
DTSTAMP:20260425T185746
CREATED:20240428T170910Z
LAST-MODIFIED:20240518T172634Z
UID:10000954-1716022800-1716026400@visitmanzanita.org
SUMMARY:Yoga in Pacific City
DESCRIPTION:Yoga with Dawn 9am Mondays\, Wednesday\, Fridays & Saturdays \nCome enjoy the natural light with a forested dune as your backdrop on the mat.
URL:https://visitmanzanita.org/event/yoga-in-pacific-city-12/
LOCATION:Kiawanda Community Center\, 34600 Cape Kiwanda Dr\, Pacific City\, OR\, 97135\, United States
CATEGORIES:Fitness and Athletics
ATTACH;FMTTYPE=image/png:https://visitmanzanita.org/wp-content/uploads/2024/04/Yoga-mHIYGc.tmp_.png
END:VEVENT
BEGIN:VEVENT
DTSTART;TZID=America/Los_Angeles:20240517T100000
DTEND;TZID=America/Los_Angeles:20240517T110000
DTSTAMP:20260425T185746
CREATED:20240428T170907Z
LAST-MODIFIED:20240517T172627Z
UID:10000949-1715940000-1715943600@visitmanzanita.org
SUMMARY:Walking Wonders
DESCRIPTION:Join this active group rain or shine to get your steps in and around town.
URL:https://visitmanzanita.org/event/walking-wonders-9/
LOCATION:Kiawanda Community Center\, 34600 Cape Kiwanda Dr\, Pacific City\, OR\, 97135\, United States
CATEGORIES:Fitness and Athletics
ATTACH;FMTTYPE=image/png:https://visitmanzanita.org/wp-content/uploads/2024/04/Walking-Wonders-b317UD.tmp_.png
END:VEVENT
BEGIN:VEVENT
DTSTART;TZID=America/Los_Angeles:20240517T090000
DTEND;TZID=America/Los_Angeles:20240517T100000
DTSTAMP:20260425T185746
CREATED:20240428T170907Z
LAST-MODIFIED:20240517T172627Z
UID:10000948-1715936400-1715940000@visitmanzanita.org
SUMMARY:Yoga in Pacific City
DESCRIPTION:Yoga with Dawn 9am Mondays\, Wednesday\, Fridays & Saturdays \nCome enjoy the natural light with a forested dune as your backdrop on the mat.
URL:https://visitmanzanita.org/event/yoga-in-pacific-city-11/
LOCATION:Kiawanda Community Center\, 34600 Cape Kiwanda Dr\, Pacific City\, OR\, 97135\, United States
CATEGORIES:Fitness and Athletics
ATTACH;FMTTYPE=image/png:https://visitmanzanita.org/wp-content/uploads/2024/04/Yoga-mHIYGc.tmp_.png
END:VEVENT
BEGIN:VEVENT
DTSTART;TZID=America/Los_Angeles:20240516T103000
DTEND;TZID=America/Los_Angeles:20240516T113000
DTSTAMP:20260425T185746
CREATED:20240428T170907Z
LAST-MODIFIED:20240516T172645Z
UID:10000946-1715855400-1715859000@visitmanzanita.org
SUMMARY:Tai Chi at the KCC
DESCRIPTION:Come to this weekly class in Pacific City to learn the forms in this moving meditation. Feel your life force flowing through you and get energized for you day!
URL:https://visitmanzanita.org/event/tai-chi-at-the-kcc-3/
LOCATION:Kiawanda Community Center\, 34600 Cape Kiwanda Dr\, Pacific City\, OR\, 97135\, United States
CATEGORIES:Fitness and Athletics
ATTACH;FMTTYPE=image/png:https://visitmanzanita.org/wp-content/uploads/2024/04/Tai-Chi-8q1tX1.tmp_.png
END:VEVENT
BEGIN:VEVENT
DTSTART;TZID=America/Los_Angeles:20240516T090000
DTEND;TZID=America/Los_Angeles:20240516T100000
DTSTAMP:20260425T185746
CREATED:20240428T170907Z
LAST-MODIFIED:20240516T172645Z
UID:10000945-1715850000-1715853600@visitmanzanita.org
SUMMARY:Fit and Fabulous at the KCC
DESCRIPTION:Come join this group keeping active two days a week. Only $15 for the month!
URL:https://visitmanzanita.org/event/fit-and-fabulous-at-the-kcc-6/
LOCATION:Kiawanda Community Center\, 34600 Cape Kiwanda Dr\, Pacific City\, OR\, 97135\, United States
CATEGORIES:Fitness and Athletics
ATTACH;FMTTYPE=image/png:https://visitmanzanita.org/wp-content/uploads/2024/04/Fit-Fabulous-ttT88Z.tmp_.png
END:VEVENT
BEGIN:VEVENT
DTSTART;TZID=America/Los_Angeles:20240515T170000
DTEND;TZID=America/Los_Angeles:20240515T180000
DTSTAMP:20260425T185746
CREATED:20240428T170907Z
LAST-MODIFIED:20240515T172648Z
UID:10000943-1715792400-1715796000@visitmanzanita.org
SUMMARY:Co-Ed Boxing Classes at the Kiawanda Community Center in Pacific City\, OR
DESCRIPTION:Pacific City Boxing offers boxing skills and cardio-strength training for ages 12 and older. The focus will be on the fundamentals of boxing. Participants will learn everything from boxing basics of wrapping hands to mit work. Focus will be on boxing fitness while learning proper footwork and punching combinations\, all while getting a great workout! Boxing is a great way to lessen stress and get into shape. Pacific City Boxing is USA Boxing and Safe Sport certified.\nCo-ed\nAges 12 & up\n$10 per class\nTo sign up\, email register to: pacificcityboxing@gmail.com
URL:https://visitmanzanita.org/event/co-ed-boxing-classes-at-the-kiawanda-community-center-in-pacific-city-or-3/
LOCATION:Kiawanda Community Center\, 34600 Cape Kiwanda Dr\, Pacific City\, OR\, 97135\, United States
CATEGORIES:Classes and Workshops,Family Fun,Fitness and Athletics
ATTACH;FMTTYPE=image/jpeg:https://visitmanzanita.org/wp-content/uploads/2024/04/Boxing-Flyer-New-aQjzJ0.tmp_.jpg
END:VEVENT
BEGIN:VEVENT
DTSTART;TZID=America/Los_Angeles:20240515T170000
DTEND;TZID=America/Los_Angeles:20240515T180000
DTSTAMP:20260425T185746
CREATED:20240428T170907Z
LAST-MODIFIED:20240515T172648Z
UID:10000944-1715792400-1715796000@visitmanzanita.org
SUMMARY:Boxing Class in Pacific City
DESCRIPTION:Pacific City Boxing offers boxing skills and cardio-strength training for ages 12 and older.  The focus will be on the fundamentals of boxing.  Participants will learn everything from boxing basics of wrapping hands to mit work. Focus will be on boxing fitness while learning proper footwork and punching combinations\, all while getting a great workout!  Boxing is a great way to lessen stress and get into shape.  Pacific City Boxing is USA Boxing and Safe Sport certified.
URL:https://visitmanzanita.org/event/boxing-class-in-pacific-city-3/
LOCATION:Kiawanda Community Center\, 34600 Cape Kiwanda Dr\, Pacific City\, OR\, 97135\, United States
CATEGORIES:Fitness and Athletics
ATTACH;FMTTYPE=image/png:https://visitmanzanita.org/wp-content/uploads/2024/04/Screenshot-2024-04-10-115036-woCnYn.tmp_.png
END:VEVENT
BEGIN:VEVENT
DTSTART;TZID=America/Los_Angeles:20240515T100000
DTEND;TZID=America/Los_Angeles:20240515T110000
DTSTAMP:20260425T185746
CREATED:20240428T170907Z
LAST-MODIFIED:20240515T172648Z
UID:10000941-1715767200-1715770800@visitmanzanita.org
SUMMARY:Walking Wonders
DESCRIPTION:Join this active group rain or shine to get your steps in and around town.
URL:https://visitmanzanita.org/event/walking-wonders-8/
LOCATION:Kiawanda Community Center\, 34600 Cape Kiwanda Dr\, Pacific City\, OR\, 97135\, United States
CATEGORIES:Fitness and Athletics
ATTACH;FMTTYPE=image/png:https://visitmanzanita.org/wp-content/uploads/2024/04/Walking-Wonders-b317UD.tmp_.png
END:VEVENT
BEGIN:VEVENT
DTSTART;TZID=America/Los_Angeles:20240515T090000
DTEND;TZID=America/Los_Angeles:20240515T100000
DTSTAMP:20260425T185746
CREATED:20240428T170906Z
LAST-MODIFIED:20240515T172648Z
UID:10000939-1715763600-1715767200@visitmanzanita.org
SUMMARY:Yoga in Pacific City
DESCRIPTION:Yoga with Dawn 9am Mondays\, Wednesday\, Fridays & Saturdays \nCome enjoy the natural light with a forested dune as your backdrop on the mat.
URL:https://visitmanzanita.org/event/yoga-in-pacific-city-10/
LOCATION:Kiawanda Community Center\, 34600 Cape Kiwanda Dr\, Pacific City\, OR\, 97135\, United States
CATEGORIES:Fitness and Athletics
ATTACH;FMTTYPE=image/png:https://visitmanzanita.org/wp-content/uploads/2024/04/Yoga-mHIYGc.tmp_.png
END:VEVENT
END:VCALENDAR