BEGIN:VCALENDAR
VERSION:2.0
PRODID:-//Manzanita Oregon Visitor Center - ECPv6.15.20//NONSGML v1.0//EN
CALSCALE:GREGORIAN
METHOD:PUBLISH
X-ORIGINAL-URL:https://visitmanzanita.org
X-WR-CALDESC:Events for Manzanita Oregon Visitor Center
REFRESH-INTERVAL;VALUE=DURATION:PT1H
X-Robots-Tag:noindex
X-PUBLISHED-TTL:PT1H
BEGIN:VTIMEZONE
TZID:America/Los_Angeles
BEGIN:DAYLIGHT
TZOFFSETFROM:-0800
TZOFFSETTO:-0700
TZNAME:PDT
DTSTART:20220313T100000
END:DAYLIGHT
BEGIN:STANDARD
TZOFFSETFROM:-0700
TZOFFSETTO:-0800
TZNAME:PST
DTSTART:20221106T090000
END:STANDARD
BEGIN:DAYLIGHT
TZOFFSETFROM:-0800
TZOFFSETTO:-0700
TZNAME:PDT
DTSTART:20230312T100000
END:DAYLIGHT
BEGIN:STANDARD
TZOFFSETFROM:-0700
TZOFFSETTO:-0800
TZNAME:PST
DTSTART:20231105T090000
END:STANDARD
BEGIN:DAYLIGHT
TZOFFSETFROM:-0800
TZOFFSETTO:-0700
TZNAME:PDT
DTSTART:20240310T100000
END:DAYLIGHT
BEGIN:STANDARD
TZOFFSETFROM:-0700
TZOFFSETTO:-0800
TZNAME:PST
DTSTART:20241103T090000
END:STANDARD
BEGIN:DAYLIGHT
TZOFFSETFROM:-0800
TZOFFSETTO:-0700
TZNAME:PDT
DTSTART:20250309T100000
END:DAYLIGHT
BEGIN:STANDARD
TZOFFSETFROM:-0700
TZOFFSETTO:-0800
TZNAME:PST
DTSTART:20251102T090000
END:STANDARD
END:VTIMEZONE
BEGIN:VEVENT
DTSTART;TZID=America/Los_Angeles:20241210T173000
DTEND;TZID=America/Los_Angeles:20241210T203000
DTSTAMP:20260419T182317
CREATED:20241126T155057Z
LAST-MODIFIED:20241203T160613Z
UID:10002299-1733851800-1733862600@visitmanzanita.org
SUMMARY:Whiskey tasting with Chip MacGreggor
DESCRIPTION:Whiskey Tasting\nBeginning with the origin of whiskey\, Chip will share with you from his years of industry experience tales of whiskey’s colorful past and will explain the painstakingly fine art of distilling which results in the smooth\, golden liquid which clings so appealingly to the glass you’re holding. Experience\, in turn\, the aromas of his four specially selected whiskeys\, and learn about the processes that make each so unique in taste and texture. Discover how the maturation process gives each whiskey its own flavor and character\, right down to the type of cask in which it is matured\, and the skill that lies behind the craft which ensures you enjoy every warming sip.\nWhat: Whiskey Tasting\nWhen: December 10\, 2024\, 5:30-8:30pm\nWhere: The Pine Grove Community House\, Manzanita\, OR\nTicket : $50 per person\, purchase on line:\nwww.thepinegrove.org/RSVP-&-Purchase-Tickets/www.thepinegrove.org/RSVP-&-Purchase-Tickets/
URL:https://visitmanzanita.org/event/whiskey-tasting-with-chip-macgreggor/
LOCATION:Pine Grove Community House\, 225 Laneda Ave\, Manzanita\, OR\, 97130\, United States
CATEGORIES:Community,Education
ATTACH;FMTTYPE=image/jpeg:https://visitmanzanita.org/wp-content/uploads/2024/11/whiskey-tasting-final.1-zLN3dS.tmp_.jpg
END:VEVENT
BEGIN:VEVENT
DTSTART;TZID=America/Los_Angeles:20231231T190000
DTEND;TZID=America/Los_Angeles:20231231T190000
DTSTAMP:20260419T182317
CREATED:20231228T224750Z
LAST-MODIFIED:20231231T224753Z
UID:10000727-1704049200-1704049200@visitmanzanita.org
SUMMARY:Community New Years Eve Party
DESCRIPTION:When it seems we need it the most\, let’s gather.\nCome celebrate New Year’s Eve with your community at the Pine Grove Community House in Manzanita on Sunday\, Dec 31\, starting at 7pm.\nThe evening will include:\nCommunity Gratitude Jar reading 7:30\nKid’s sidewalk parade 8:30\nSoup and bread will be provided by Wild Grocery and Café\nMusic by Pranawave\nSparkling Spectacles and photo booth by Heart of Cartm\nPick a treasure from the Giving Tree of unwrapped gifts.\n**Bring an unwrapped gift to share.\nMidnight Parade\nBring musical instruments and noise makers to herald the New Year during the parade!\nTo get sparkled and dressed up for the parade\, there will be a box of costumes to borrow from or come dressed for the occasion.\n\nAll gratitude submissions from the 5th Annual North Coast Community Gratitude Jar project will be read aloud and stored in a community archive. What happens to your gratitude? It ripples out and supports community spirit. To participate\, visit one of our local Gratitude Jar hosts.\nThis is free for all ages to participate. Donations welcome to cover costs.\nSponsored by Fulcrum Community Resources
URL:https://visitmanzanita.org/event/community-new-years-eve-party/
LOCATION:Pine Grove Community House\, 225 Laneda Ave\, Manzanita\, OR\, 97130\, United States
CATEGORIES:Community,Festivals and Events,Holiday
ATTACH;FMTTYPE=image/jpeg:https://visitmanzanita.org/wp-content/uploads/2023/12/NYE-2023-Flyer-IhXXC7.tmp_.jpg
END:VEVENT
END:VCALENDAR