BEGIN:VCALENDAR
VERSION:2.0
PRODID:-//Manzanita Oregon Visitor Center - ECPv6.15.20//NONSGML v1.0//EN
CALSCALE:GREGORIAN
METHOD:PUBLISH
X-ORIGINAL-URL:https://visitmanzanita.org
X-WR-CALDESC:Events for Manzanita Oregon Visitor Center
REFRESH-INTERVAL;VALUE=DURATION:PT1H
X-Robots-Tag:noindex
X-PUBLISHED-TTL:PT1H
BEGIN:VTIMEZONE
TZID:America/Los_Angeles
BEGIN:DAYLIGHT
TZOFFSETFROM:-0800
TZOFFSETTO:-0700
TZNAME:PDT
DTSTART:20220313T100000
END:DAYLIGHT
BEGIN:STANDARD
TZOFFSETFROM:-0700
TZOFFSETTO:-0800
TZNAME:PST
DTSTART:20221106T090000
END:STANDARD
BEGIN:DAYLIGHT
TZOFFSETFROM:-0800
TZOFFSETTO:-0700
TZNAME:PDT
DTSTART:20230312T100000
END:DAYLIGHT
BEGIN:STANDARD
TZOFFSETFROM:-0700
TZOFFSETTO:-0800
TZNAME:PST
DTSTART:20231105T090000
END:STANDARD
BEGIN:DAYLIGHT
TZOFFSETFROM:-0800
TZOFFSETTO:-0700
TZNAME:PDT
DTSTART:20240310T100000
END:DAYLIGHT
BEGIN:STANDARD
TZOFFSETFROM:-0700
TZOFFSETTO:-0800
TZNAME:PST
DTSTART:20241103T090000
END:STANDARD
END:VTIMEZONE
BEGIN:VEVENT
DTSTART;TZID=America/Los_Angeles:20230811T200000
DTEND;TZID=America/Los_Angeles:20230811T210000
DTSTAMP:20260419T075237
CREATED:20230726T013833Z
LAST-MODIFIED:20230811T022335Z
UID:10000448-1691784000-1691787600@visitmanzanita.org
SUMMARY:Elvie Shane @ Tillamook County Fair
DESCRIPTION:Elvie Shane closes out the Fair’s concert series on Friday night\, August 11. As a native of small-town Kentucky whose influences range from Dwight Yoakam and Steve Earle to classic rock\, Gospel\, R&B and hip hop\, Wheelhouse Records’ Elvie Shane has emerged as a country star with his heart on his sleeve – and as a champion of those with their name on a patch. \nShane’s new tracks include “Baptized” and “Forgotten Man” out now. Rolling Stone praises “Forgotten Man” as it “expertly sums up what it means to be blue-collar in the 21st century in this defiant\, angry country single that would do Merle Haggard proud.” An anthem for those chasing the American dream with calloused hands and a weary\, but still-believing heart\, it’s another example of Shane’s deep-feeling take on country\, as a new blue-collar generation arrives. For more information visit elvieshane.com \nAs always\, your Fair admission includes the nightly entertainment in the Averill Arena\, including the Fair’s concert series. Admission tickets are onsale now online at tillamookfair.com
URL:https://visitmanzanita.org/event/elvie-shane-tillamook-county-fair/
LOCATION:Tillamook County Fairgrounds\, 4603 3rd St\, Tillamook\, OR\, 97141\, United States
CATEGORIES:Community,Festivals and Events,Live Music
ATTACH;FMTTYPE=image/png:https://visitmanzanita.org/wp-content/uploads/2023/07/20230615_115825_0000-960QHJ.tmp_.png
ORGANIZER;CN="Tillamook County Fair":MAILTO:lisamwhitman@hotmail.com
END:VEVENT
BEGIN:VEVENT
DTSTART;TZID=America/Los_Angeles:20230811T100000
DTEND;TZID=America/Los_Angeles:20230811T220000
DTSTAMP:20260419T075237
CREATED:20230612T235206Z
LAST-MODIFIED:20230811T022335Z
UID:10000313-1691748000-1691791200@visitmanzanita.org
SUMMARY:Tillamook County Fair
DESCRIPTION:Come join us for another fun-filled fair! New and returning vendors\, entertainment\, carnival rides\, and so much more await! August 9th-12th\, from 10am to 10pm.
URL:https://visitmanzanita.org/event/tillamook-county-fair-3/
LOCATION:Tillamook County Fairgrounds\, 4603 3rd St\, Tillamook\, OR\, 97141\, United States
CATEGORIES:Community,Family Fun,Festivals and Events
ATTACH;FMTTYPE=image/jpeg:https://visitmanzanita.org/wp-content/uploads/2023/06/TCF-Logo-C9bEgb.tmp_.jpg
ORGANIZER;CN="Tillamook County Fairgrounds":MAILTO:tillamookfairoffice@gmail.com
END:VEVENT
BEGIN:VEVENT
DTSTART;TZID=America/Los_Angeles:20230810T200000
DTEND;TZID=America/Los_Angeles:20230810T210000
DTSTAMP:20260419T075237
CREATED:20230726T013832Z
LAST-MODIFIED:20230810T020832Z
UID:10000447-1691697600-1691701200@visitmanzanita.org
SUMMARY:Petty Fever @ Tillamook County Fair
DESCRIPTION:Rock out to Petty Fever on Thursday night as the Fair’s concert series continues. Petty Fever\, a Tom Petty tribute band is an award-winning\, full-production tribute to the Rock Hall of Fame musician that features captivating guitarist/vocalist (and Hollywood FAME Award Winner) Frank Murray. Experience a supremely authentic Tom Petty & The Heartbreakers concert experience…catch Petty Fever live Thursday August 10th at the Tillamook County Fair! \nAs always\, your Fair admission includes the nightly entertainment in the Averill Arena\, including the Fair’s concert series. Admission tickets for the Fair are available online at tillamookfair.com
URL:https://visitmanzanita.org/event/petty-fever-tillamook-county-fair/
LOCATION:Tillamook County Fairgrounds\, 4603 3rd St\, Tillamook\, OR\, 97141\, United States
CATEGORIES:Community,Festivals and Events,Live Music
ATTACH;FMTTYPE=image/jpeg:https://visitmanzanita.org/wp-content/uploads/2023/07/Petty-Fever_promo_02-scaled-yJjQ6T.tmp_.jpg
ORGANIZER;CN="Tillamook County Fair":MAILTO:lisamwhitman@hotmail.com
END:VEVENT
BEGIN:VEVENT
DTSTART;TZID=America/Los_Angeles:20230810T100000
DTEND;TZID=America/Los_Angeles:20230810T220000
DTSTAMP:20260419T075237
CREATED:20230611T235127Z
LAST-MODIFIED:20230810T020832Z
UID:10000304-1691661600-1691704800@visitmanzanita.org
SUMMARY:Tillamook County Fair
DESCRIPTION:Come join us for another fun-filled fair! New and returning vendors\, entertainment\, carnival rides\, and so much more await! August 9th-12th\, from 10am to 10pm.
URL:https://visitmanzanita.org/event/tillamook-county-fair-2/
LOCATION:Tillamook County Fairgrounds\, 4603 3rd St\, Tillamook\, OR\, 97141\, United States
CATEGORIES:Community,Family Fun,Festivals and Events
ATTACH;FMTTYPE=image/jpeg:https://visitmanzanita.org/wp-content/uploads/2023/06/TCF-Logo-C9bEgb.tmp_.jpg
ORGANIZER;CN="Tillamook County Fairgrounds":MAILTO:tillamookfairoffice@gmail.com
END:VEVENT
BEGIN:VEVENT
DTSTART;TZID=America/Los_Angeles:20230809T200000
DTEND;TZID=America/Los_Angeles:20230809T210000
DTSTAMP:20260419T075237
CREATED:20230726T013830Z
LAST-MODIFIED:20230809T020829Z
UID:10000446-1691611200-1691614800@visitmanzanita.org
SUMMARY:Home Free @ Tillamook County Fair
DESCRIPTION:Opening the 2023 Tillamook County Fair’s concert series Wednesday August 9th is the all-vocal Country entertainers\, Home Free. Having made their mark on the music scene\, racking up nearly 600\,000 album equivalents globally; embarking on major international tours; amassing 630+ MILLION views and over 1.6-MILLION Subscribers on YouTube; Home Free has been declared “Country music fans’ favorite a cappella group” (Taste of Country). \nJoin us for a perfect evening mixed with upbeat\, Nashville-dipped pop hits\, country and western standards\, incredible harmony\, and quick-witted humor. \nAs always\, your Fair admission includes the nightly entertainment in the Grandstands\, including the Fair’s concert series. Admission tickets available at tillamookfair.com
URL:https://visitmanzanita.org/event/home-free-tillamook-county-fair/
LOCATION:Tillamook County Fairgrounds\, 4603 3rd St\, Tillamook\, OR\, 97141\, United States
CATEGORIES:Community,Festivals and Events,Live Music
ATTACH;FMTTYPE=image/png:https://visitmanzanita.org/wp-content/uploads/2023/07/Home-Free-lsSnkw.tmp_.png
ORGANIZER;CN="Tillamook County Fair":MAILTO:lisamwhitman@hotmail.com
END:VEVENT
BEGIN:VEVENT
DTSTART;TZID=America/Los_Angeles:20230809T100000
DTEND;TZID=America/Los_Angeles:20230809T220000
DTSTAMP:20260419T075237
CREATED:20230610T235126Z
LAST-MODIFIED:20230809T020829Z
UID:10000302-1691575200-1691618400@visitmanzanita.org
SUMMARY:Tillamook County Fair
DESCRIPTION:Come join us for another fun-filled fair! New and returning vendors\, entertainment\, carnival rides\, and so much more await! August 9th-12th\, from 10am to 10pm.
URL:https://visitmanzanita.org/event/tillamook-county-fair/
LOCATION:Tillamook County Fairgrounds\, 4603 3rd St\, Tillamook\, OR\, 97141\, United States
CATEGORIES:Community,Family Fun,Festivals and Events
ATTACH;FMTTYPE=image/jpeg:https://visitmanzanita.org/wp-content/uploads/2023/06/TCF-Logo-C9bEgb.tmp_.jpg
ORGANIZER;CN="Tillamook County Fairgrounds":MAILTO:tillamookfairoffice@gmail.com
END:VEVENT
BEGIN:VEVENT
DTSTART;TZID=America/Los_Angeles:20230728T170000
DTEND;TZID=America/Los_Angeles:20230728T190000
DTSTAMP:20260419T075237
CREATED:20230616T000649Z
LAST-MODIFIED:20230728T013830Z
UID:10000326-1690563600-1690570800@visitmanzanita.org
SUMMARY:Open Skate at Tillamook Fairgrounds
DESCRIPTION:Join us for open skate.
URL:https://visitmanzanita.org/event/open-skate-at-tillamook-fairgrounds-5/
LOCATION:Tillamook County Fairgrounds\, 4603 3rd St\, Tillamook\, OR\, 97141\, United States
CATEGORIES:Community,Family Fun
ATTACH;FMTTYPE=image/jpeg:https://visitmanzanita.org/wp-content/uploads/2023/06/istockphoto-645173512-612x612-1-KWeDGc.tmp_.jpg
END:VEVENT
BEGIN:VEVENT
DTSTART;TZID=America/Los_Angeles:20230719T170000
DTEND;TZID=America/Los_Angeles:20230719T190000
DTSTAMP:20260419T075237
CREATED:20230616T000649Z
LAST-MODIFIED:20230719T012328Z
UID:10000325-1689786000-1689793200@visitmanzanita.org
SUMMARY:Open Skate at Tillamook Fairgrounds
DESCRIPTION:Join us for open skate.
URL:https://visitmanzanita.org/event/open-skate-at-tillamook-fairgrounds-4/
LOCATION:Tillamook County Fairgrounds\, 4603 3rd St\, Tillamook\, OR\, 97141\, United States
CATEGORIES:Community,Family Fun
ATTACH;FMTTYPE=image/jpeg:https://visitmanzanita.org/wp-content/uploads/2023/06/istockphoto-645173512-612x612-1-KWeDGc.tmp_.jpg
END:VEVENT
BEGIN:VEVENT
DTSTART;TZID=America/Los_Angeles:20230714T170000
DTEND;TZID=America/Los_Angeles:20230714T190000
DTSTAMP:20260419T075237
CREATED:20230616T000648Z
LAST-MODIFIED:20230714T012446Z
UID:10000324-1689354000-1689361200@visitmanzanita.org
SUMMARY:Open Skate at Tillamook Fairgrounds
DESCRIPTION:Join us for open skate.
URL:https://visitmanzanita.org/event/open-skate-at-tillamook-fairgrounds-3/
LOCATION:Tillamook County Fairgrounds\, 4603 3rd St\, Tillamook\, OR\, 97141\, United States
CATEGORIES:Community,Family Fun
ATTACH;FMTTYPE=image/jpeg:https://visitmanzanita.org/wp-content/uploads/2023/06/istockphoto-645173512-612x612-1-KWeDGc.tmp_.jpg
END:VEVENT
BEGIN:VEVENT
DTSTART;TZID=America/Los_Angeles:20230712T170000
DTEND;TZID=America/Los_Angeles:20230712T190000
DTSTAMP:20260419T075237
CREATED:20230616T000648Z
LAST-MODIFIED:20230712T012334Z
UID:10000323-1689181200-1689188400@visitmanzanita.org
SUMMARY:Open Skate at Tillamook Fairgrounds
DESCRIPTION:Join us for open skate.
URL:https://visitmanzanita.org/event/open-skate-at-tillamook-fairgrounds-2/
LOCATION:Tillamook County Fairgrounds\, 4603 3rd St\, Tillamook\, OR\, 97141\, United States
CATEGORIES:Community,Family Fun
ATTACH;FMTTYPE=image/jpeg:https://visitmanzanita.org/wp-content/uploads/2023/06/istockphoto-645173512-612x612-1-KWeDGc.tmp_.jpg
END:VEVENT
BEGIN:VEVENT
DTSTART;TZID=America/Los_Angeles:20230707T170000
DTEND;TZID=America/Los_Angeles:20230707T190000
DTSTAMP:20260419T075237
CREATED:20230704T005332Z
LAST-MODIFIED:20230707T005333Z
UID:10000367-1688749200-1688756400@visitmanzanita.org
SUMMARY:Open Skate
DESCRIPTION:Looking for something to do? Come join us for open skate.
URL:https://visitmanzanita.org/event/open-skate-5/
LOCATION:Tillamook County Fairgrounds\, 4603 3rd St\, Tillamook\, OR\, 97141\, United States
CATEGORIES:Community,Family Fun
ATTACH;FMTTYPE=image/png:https://visitmanzanita.org/wp-content/uploads/2023/07/R-5EZoGT.tmp_.png
END:VEVENT
BEGIN:VEVENT
DTSTART;TZID=America/Los_Angeles:20230621T170000
DTEND;TZID=America/Los_Angeles:20230621T190000
DTSTAMP:20260419T075237
CREATED:20230616T000645Z
LAST-MODIFIED:20230621T000623Z
UID:10000321-1687366800-1687374000@visitmanzanita.org
SUMMARY:Open Skate at Tillamook Fairgrounds
DESCRIPTION:Join us for open skate.
URL:https://visitmanzanita.org/event/open-skate-at-tillamook-fairgrounds/
LOCATION:Tillamook County Fairgrounds\, 4603 3rd St\, Tillamook\, OR\, 97141\, United States
CATEGORIES:Community,Family Fun
ATTACH;FMTTYPE=image/jpeg:https://visitmanzanita.org/wp-content/uploads/2023/06/istockphoto-645173512-612x612-1-KWeDGc.tmp_.jpg
END:VEVENT
BEGIN:VEVENT
DTSTART;TZID=America/Los_Angeles:20230429T120000
DTEND;TZID=America/Los_Angeles:20230429T200000
DTSTAMP:20260419T075237
CREATED:20230420T054619Z
LAST-MODIFIED:20230429T054621Z
UID:10000155-1682769600-1682798400@visitmanzanita.org
SUMMARY:Cornhole Tournament
DESCRIPTION:Join the Fairgrounds for a fun afternoon of Cornhole\, held in the Fairgrounds Main Exhibit Hall (domed building)! This tournament serves as a fundraiser for repairs and maintenance of the Main Exhibit Hall. \nSingles tournament will start at 12:00 noon\, and is $25 per person.\nRegister for the singles tournament here:\nhttps://app.scoreholio.com/link/HyZh \nDoubles tournament will start at 5:00 pm\, and is $50 per team.\nRegister for the double tournament here:\nhttps://app.scoreholio.com/link/vcSM \nPlay for your chance to win bounty prizes!\nFood and drinks will be available for purchase.
URL:https://visitmanzanita.org/event/cornhole-tournament-2/
LOCATION:Tillamook County Fairgrounds\, 4603 3rd St\, Tillamook\, OR\, 97141\, United States
CATEGORIES:Community,Family Fun,Fundraisers
ATTACH;FMTTYPE=image/jpeg:https://visitmanzanita.org/wp-content/uploads/2023/04/TCFG-Fundraiser-Cornhole-S4DNA6.tmp_.jpg
END:VEVENT
BEGIN:VEVENT
DTSTART;TZID=America/Los_Angeles:20230429T110000
DTEND;TZID=America/Los_Angeles:20230429T190000
DTSTAMP:20260419T075237
CREATED:20230409T043545Z
LAST-MODIFIED:20230419T054708Z
UID:10000113-1682766000-1682794800@visitmanzanita.org
SUMMARY:Cornhole Tournament
DESCRIPTION:Singles/Doubles Tournament\, Food and Drinks available\, Bounty Prizes For more information call Robert Poppe  503-812-0204
URL:https://visitmanzanita.org/event/cornhole-tournament/
LOCATION:Tillamook County Fairgrounds\, 4603 3rd St\, Tillamook\, OR\, 97141\, United States
CATEGORIES:Community,Family Fun,Festivals and Events
END:VEVENT
BEGIN:VEVENT
DTSTART;TZID=America/Los_Angeles:20230429T090000
DTEND;TZID=America/Los_Angeles:20230429T160000
DTSTAMP:20260419T075237
CREATED:20230409T043545Z
LAST-MODIFIED:20230429T054621Z
UID:10000112-1682758800-1682784000@visitmanzanita.org
SUMMARY:Tillamook Home & Garden Show
DESCRIPTION:Held each spring\, the Tillamook Home & Garden Show is a community tradition. The two-day event is co-sponsored by Tillamook County Solid Waste and it features the Tillamook County Beekeepers Association’s Annual Bee Day. \nThe year\, a new speaker’s series has been introduced with keynote speaker Dr. Dewey Caron\, Professor Emeritus of Entomology & Wildlife Ecology\, University of Delaware\, & Affiliate Professor\, Dept. Horticulture\, Oregon State University featured Saturday 11 a.m.\, 1 p.m. and 3 p.m. A live demonstration hive will be on display and there is a raffle for a dairy-themed beehive hand-crafted by Rick Stelzig and painted by Paige Andrus with the winner announced on Sunday. Local honey and bee-related arts/crafts will be for sale. \nThe Oregon Department of forestry will be distributing free Western Red Cedar seedlings to show attendees. The adjacent Tillamook County Master Gardeners Learning Center will be open both days. Kiwanis Club of Tillamook County\, now celebrating their 100th year\, is holding their popular raffle with proceeds to benefit their KT Days Scholarship Drive. Enter Tillamook PUD ‘s free raffle for your change to win a battery-operated Milwaukee pole saw and leaf blower combo kit. \nThis year Kilchis Farms will be selling live flowers and trees\, Old House Dahlia’s returns with tuber clumps for sale and Bewley Creek Woodworking will feature locally crafted lawn furniture and garden accessories. \nOther types of vendors include home improvement\, spa\, kitchen\, unique artisans\, vintage and repurposed and refreshments. For a show map and complete list of vendors\, see our event program in the April 25 Tillamook Headlight Herald\, or go to our event homepage at tillamookheadlightherald.com and type in Tillamook Home & Garden Show.
URL:https://visitmanzanita.org/event/tillamook-home-garden-show/
LOCATION:Tillamook County Fairgrounds\, 4603 3rd St\, Tillamook\, OR\, 97141\, United States
CATEGORIES:Community,Education,Shopping and Sales
ORGANIZER;CN="Tillamook Headlight Herald":MAILTO:classifieds@orcoastnews.com
END:VEVENT
BEGIN:VEVENT
DTSTART;TZID=America/Los_Angeles:20230422T170000
DTEND;TZID=America/Los_Angeles:20230422T210000
DTSTAMP:20260419T075237
CREATED:20230411T044743Z
LAST-MODIFIED:20230422T054722Z
UID:10000134-1682182800-1682197200@visitmanzanita.org
SUMMARY:TCSO Search & Rescue Banquet
DESCRIPTION:Join the Tillamook County Sheriff’s Office on April 22nd for their annual Search & Rescue Banquet\, a fundraiser for the Search & Rescue program. A smoked tri tip dinner will be provided by Pacific Resturant. With a silent auction\, a smoked tri tip dinner  provided by Pacific Restaurant\, and a live auction with guest auctioneer Gilliam County Sheriff Gary Bettencourt\, it’s sure to be a fun night! Tickets are available at event.gives/sar.
URL:https://visitmanzanita.org/event/tcso-search-rescue-banquet/
LOCATION:Tillamook County Fairgrounds\, 4603 3rd St\, Tillamook\, OR\, 97141\, United States
CATEGORIES:Community,Fundraisers
ATTACH;FMTTYPE=image/jpeg:https://visitmanzanita.org/wp-content/uploads/2023/04/SAR-banquet-bHZ0pX.tmp_.jpg
END:VEVENT
BEGIN:VEVENT
DTSTART;TZID=America/Los_Angeles:20230330T120000
DTEND;TZID=America/Los_Angeles:20230330T150000
DTSTAMP:20260419T075237
CREATED:20230307T170149Z
LAST-MODIFIED:20230320T202319Z
UID:10000030-1680177600-1680188400@visitmanzanita.org
SUMMARY:Open Skate
DESCRIPTION:Tillamook County Fairgrounds invites you to open skate at Tillaskate March 27th\,  28th \, 29th\,  and 30th 12:00pm – 3:00pm
URL:https://visitmanzanita.org/event/open-skate-4/
LOCATION:Tillamook County Fairgrounds\, 4603 3rd St\, Tillamook\, OR\, 97141\, United States
CATEGORIES:Community,Family Fun
END:VEVENT
BEGIN:VEVENT
DTSTART;TZID=America/Los_Angeles:20230329T120000
DTEND;TZID=America/Los_Angeles:20230329T150000
DTSTAMP:20260419T075237
CREATED:20230307T170149Z
LAST-MODIFIED:20230320T202319Z
UID:10000029-1680091200-1680102000@visitmanzanita.org
SUMMARY:Open Skate
DESCRIPTION:Tillamook County Fairgrounds invites you to open skate at Tillaskate March 27th\,  28th \, 29th\,  and 30th 12:00pm – 3:00pm
URL:https://visitmanzanita.org/event/open-skate-3/
LOCATION:Tillamook County Fairgrounds\, 4603 3rd St\, Tillamook\, OR\, 97141\, United States
CATEGORIES:Community,Family Fun
END:VEVENT
BEGIN:VEVENT
DTSTART;TZID=America/Los_Angeles:20230328T120000
DTEND;TZID=America/Los_Angeles:20230328T150000
DTSTAMP:20260419T075237
CREATED:20230307T170149Z
LAST-MODIFIED:20230320T202319Z
UID:10000028-1680004800-1680015600@visitmanzanita.org
SUMMARY:Open Skate
DESCRIPTION:Tillamook County Fairgrounds invites you to open skate at Tillaskate March 27th\,  28th \, 29th\,  and 30th 12:00pm – 3:00pm
URL:https://visitmanzanita.org/event/open-skate-2/
LOCATION:Tillamook County Fairgrounds\, 4603 3rd St\, Tillamook\, OR\, 97141\, United States
CATEGORIES:Community,Family Fun
END:VEVENT
BEGIN:VEVENT
DTSTART;TZID=America/Los_Angeles:20230327T120000
DTEND;TZID=America/Los_Angeles:20230327T150000
DTSTAMP:20260419T075237
CREATED:20230307T170149Z
LAST-MODIFIED:20230320T202319Z
UID:10000026-1679918400-1679929200@visitmanzanita.org
SUMMARY:Open Skate
DESCRIPTION:Tillamook County Fairgrounds invites you to open skate at Tillaskate March 27th\,  28th \, 29th\,  and 30th 12:00pm – 3:00pm
URL:https://visitmanzanita.org/event/open-skate/
LOCATION:Tillamook County Fairgrounds\, 4603 3rd St\, Tillamook\, OR\, 97141\, United States
CATEGORIES:Community,Family Fun
END:VEVENT
BEGIN:VEVENT
DTSTART;TZID=America/Los_Angeles:20230318T100000
DTEND;TZID=America/Los_Angeles:20230318T170000
DTSTAMP:20260419T075237
CREATED:20230307T170145Z
LAST-MODIFIED:20230318T200553Z
UID:10000018-1679133600-1679158800@visitmanzanita.org
SUMMARY:Spring Bazaar
DESCRIPTION:Tillamook County Fairgrounds Spring Bazaar \nHandmade items\, home and spring decor\, gifts\, food concessions and more!
URL:https://visitmanzanita.org/event/spring-bazaar-2/
LOCATION:Tillamook County Fairgrounds\, 4603 3rd St\, Tillamook\, OR\, 97141\, United States
CATEGORIES:Community,Festivals and Events,Shopping and Sales
END:VEVENT
BEGIN:VEVENT
DTSTART;TZID=America/Los_Angeles:20230317T120000
DTEND;TZID=America/Los_Angeles:20230317T190000
DTSTAMP:20260419T075237
CREATED:20230307T170145Z
LAST-MODIFIED:20230317T195701Z
UID:10000017-1679054400-1679079600@visitmanzanita.org
SUMMARY:Spring Bazaar
DESCRIPTION:Tillamook County Fairgrounds Spring Bazaar \nHandmade items\, home and spring decor\, gifts\, food concessions and more!
URL:https://visitmanzanita.org/event/spring-bazaar/
LOCATION:Tillamook County Fairgrounds\, 4603 3rd St\, Tillamook\, OR\, 97141\, United States
CATEGORIES:Community,Festivals and Events,Shopping and Sales
END:VEVENT
END:VCALENDAR