BEGIN:VCALENDAR
VERSION:2.0
PRODID:-//Manzanita Oregon Visitor Center - ECPv6.15.20//NONSGML v1.0//EN
CALSCALE:GREGORIAN
METHOD:PUBLISH
X-ORIGINAL-URL:https://visitmanzanita.org
X-WR-CALDESC:Events for Manzanita Oregon Visitor Center
REFRESH-INTERVAL;VALUE=DURATION:PT1H
X-Robots-Tag:noindex
X-PUBLISHED-TTL:PT1H
BEGIN:VTIMEZONE
TZID:America/Los_Angeles
BEGIN:DAYLIGHT
TZOFFSETFROM:-0800
TZOFFSETTO:-0700
TZNAME:PDT
DTSTART:20230312T100000
END:DAYLIGHT
BEGIN:STANDARD
TZOFFSETFROM:-0700
TZOFFSETTO:-0800
TZNAME:PST
DTSTART:20231105T090000
END:STANDARD
BEGIN:DAYLIGHT
TZOFFSETFROM:-0800
TZOFFSETTO:-0700
TZNAME:PDT
DTSTART:20240310T100000
END:DAYLIGHT
BEGIN:STANDARD
TZOFFSETFROM:-0700
TZOFFSETTO:-0800
TZNAME:PST
DTSTART:20241103T090000
END:STANDARD
BEGIN:DAYLIGHT
TZOFFSETFROM:-0800
TZOFFSETTO:-0700
TZNAME:PDT
DTSTART:20250309T100000
END:DAYLIGHT
BEGIN:STANDARD
TZOFFSETFROM:-0700
TZOFFSETTO:-0800
TZNAME:PST
DTSTART:20251102T090000
END:STANDARD
END:VTIMEZONE
BEGIN:VEVENT
DTSTART;TZID=America/Los_Angeles:20240911T120000
DTEND;TZID=America/Los_Angeles:20240911T180000
DTSTAMP:20260423T120735
CREATED:20240827T213600Z
LAST-MODIFIED:20240911T225051Z
UID:10001779-1726056000-1726077600@visitmanzanita.org
SUMMARY:American Red Cross Blood Drive
DESCRIPTION:From the American Red Cross Newsletter: \n“The American Red Cross declared a national blood emergency on Monday\, August 5\, noting a shortfall of 19\,000 blood donations in the last month causing the blood supply to plummet by 25% since July 1. Now\, remnants of Hurricane Debby are complicating efforts to rebuild the supply. We need your help!” \nYour local Tillamook Elks Lodge #1437\, located at 1907 3rd St. will be hosting the next American Red Cross Blood Drive on Wednesday\, September 11 from noon until 6 PM. This is a community service event and all individuals who can donate or wish to donate blood can participate. We encourage you to go online with americanredcross.org\, select your time slot\, complete the questionnaire and obtain your donor card your rapids rewards pass. Walk-ins are allowed\, however\, you may have an extremely long wait.
URL:https://visitmanzanita.org/event/american-red-cross-blood-drive/
LOCATION:Tillamook Elks Lodge #1437\, 1907 3rd St.
CATEGORIES:Community
ATTACH;FMTTYPE=image/jpeg:https://visitmanzanita.org/wp-content/uploads/2024/08/IMG_2183-5iCVMX.tmp_.jpg
END:VEVENT
END:VCALENDAR