BEGIN:VCALENDAR
VERSION:2.0
PRODID:-//Manzanita Oregon Visitor Center - ECPv6.15.20//NONSGML v1.0//EN
CALSCALE:GREGORIAN
METHOD:PUBLISH
X-ORIGINAL-URL:https://visitmanzanita.org
X-WR-CALDESC:Events for Manzanita Oregon Visitor Center
REFRESH-INTERVAL;VALUE=DURATION:PT1H
X-Robots-Tag:noindex
X-PUBLISHED-TTL:PT1H
BEGIN:VTIMEZONE
TZID:America/Los_Angeles
BEGIN:DAYLIGHT
TZOFFSETFROM:-0800
TZOFFSETTO:-0700
TZNAME:PDT
DTSTART:20230312T100000
END:DAYLIGHT
BEGIN:STANDARD
TZOFFSETFROM:-0700
TZOFFSETTO:-0800
TZNAME:PST
DTSTART:20231105T090000
END:STANDARD
BEGIN:DAYLIGHT
TZOFFSETFROM:-0800
TZOFFSETTO:-0700
TZNAME:PDT
DTSTART:20240310T100000
END:DAYLIGHT
BEGIN:STANDARD
TZOFFSETFROM:-0700
TZOFFSETTO:-0800
TZNAME:PST
DTSTART:20241103T090000
END:STANDARD
BEGIN:DAYLIGHT
TZOFFSETFROM:-0800
TZOFFSETTO:-0700
TZNAME:PDT
DTSTART:20250309T100000
END:DAYLIGHT
BEGIN:STANDARD
TZOFFSETFROM:-0700
TZOFFSETTO:-0800
TZNAME:PST
DTSTART:20251102T090000
END:STANDARD
END:VTIMEZONE
BEGIN:VEVENT
DTSTART;TZID=America/Los_Angeles:20241209T190000
DTEND;TZID=America/Los_Angeles:20241209T203000
DTSTAMP:20260424T140349
CREATED:20241203T160557Z
LAST-MODIFIED:20241203T160613Z
UID:10002325-1733770800-1733776200@visitmanzanita.org
SUMMARY:Monday Musical Club of Tillamook October Program ” The Greatest Gift”
DESCRIPTION:The Monday Musical Club of Tillamook will hold Its December \nProgram “The greatest Gift” at the Tillamook Seventh Day  \nAdventist Church on Monday\, December 9th at 7pm. \nIrene Sayler and Jeanna Stephens will host an evening program \nof sacred Christmas music and carols. \nCome and bring a friend and enjoy an evening of beautiful live music \nas local musicians share songs of Christmas. \nThere is no admission charge\, and the public is invited.
URL:https://visitmanzanita.org/event/monday-musical-club-of-tillamook-october-program-the-greatest-gift/
LOCATION:Tillamook Seventh Day Adventist Church\, 2610 1st Street\, Tillamook 97141\, OR\, United States
CATEGORIES:Community,Live Music
ATTACH;FMTTYPE=image/jpeg:https://visitmanzanita.org/wp-content/uploads/2024/12/Dec-flyer-2024-200dpi-1swQEa.tmp_.jpg
END:VEVENT
END:VCALENDAR