BEGIN:VCALENDAR
VERSION:2.0
PRODID:-//Manzanita Oregon Visitor Center - ECPv6.15.20//NONSGML v1.0//EN
CALSCALE:GREGORIAN
METHOD:PUBLISH
X-ORIGINAL-URL:https://visitmanzanita.org
X-WR-CALDESC:Events for Manzanita Oregon Visitor Center
REFRESH-INTERVAL;VALUE=DURATION:PT1H
X-Robots-Tag:noindex
X-PUBLISHED-TTL:PT1H
BEGIN:VTIMEZONE
TZID:America/Los_Angeles
BEGIN:DAYLIGHT
TZOFFSETFROM:-0800
TZOFFSETTO:-0700
TZNAME:PDT
DTSTART:20220313T100000
END:DAYLIGHT
BEGIN:STANDARD
TZOFFSETFROM:-0700
TZOFFSETTO:-0800
TZNAME:PST
DTSTART:20221106T090000
END:STANDARD
BEGIN:DAYLIGHT
TZOFFSETFROM:-0800
TZOFFSETTO:-0700
TZNAME:PDT
DTSTART:20230312T100000
END:DAYLIGHT
BEGIN:STANDARD
TZOFFSETFROM:-0700
TZOFFSETTO:-0800
TZNAME:PST
DTSTART:20231105T090000
END:STANDARD
BEGIN:DAYLIGHT
TZOFFSETFROM:-0800
TZOFFSETTO:-0700
TZNAME:PDT
DTSTART:20240310T100000
END:DAYLIGHT
BEGIN:STANDARD
TZOFFSETFROM:-0700
TZOFFSETTO:-0800
TZNAME:PST
DTSTART:20241103T090000
END:STANDARD
BEGIN:DAYLIGHT
TZOFFSETFROM:-0800
TZOFFSETTO:-0700
TZNAME:PDT
DTSTART:20250309T100000
END:DAYLIGHT
BEGIN:STANDARD
TZOFFSETFROM:-0700
TZOFFSETTO:-0800
TZNAME:PST
DTSTART:20251102T090000
END:STANDARD
END:VTIMEZONE
BEGIN:VEVENT
DTSTART;TZID=America/Los_Angeles:20241123T090000
DTEND;TZID=America/Los_Angeles:20241123T150000
DTSTAMP:20260421T020823
CREATED:20241115T100829Z
LAST-MODIFIED:20241123T155110Z
UID:10002162-1732352400-1732374000@visitmanzanita.org
SUMMARY:Tillamook Swiss Society Holiday Rummage Sale
DESCRIPTION: Join us at the Tillamook Swiss Society’s Holiday Rummage Sale on Nov 23rd\, 9am-3pm!\nReserve your table for $20 and sell your stuff!  Contact Dave at 503-842-6954.\nSee you there!
URL:https://visitmanzanita.org/event/tillamook-swiss-society-holiday-rummage-sale/
LOCATION:Tillamook Swiss Hall\, 4605 Brookfield Ave\, Tillamook\, OR\, OR\, 97141\, United States
CATEGORIES:Community,Shopping and Sales
ATTACH;FMTTYPE=image/png:https://visitmanzanita.org/wp-content/uploads/2024/11/Holiday-Rummage-Sale-7RsQA8.tmp_.png
END:VEVENT
BEGIN:VEVENT
DTSTART;TZID=America/Los_Angeles:20230520T090000
DTEND;TZID=America/Los_Angeles:20230520T150000
DTSTAMP:20260421T020823
CREATED:20230502T054657Z
LAST-MODIFIED:20230520T233132Z
UID:10000183-1684573200-1684594800@visitmanzanita.org
SUMMARY:Spring Rummage Sale at the Tillamook Swiss Hall
DESCRIPTION:Do a little Spring cleaning and buy a table to sell your stuff! \nTables are $20 each. \nContact Dave Leuthold to secure your spot! 503-842-6954
URL:https://visitmanzanita.org/event/spring-rummage-sale-at-the-tillamook-swiss-hall/
LOCATION:Tillamook Swiss Hall\, 4605 Brookfield Ave\, Tillamook\, OR\, OR\, 97141\, United States
CATEGORIES:Community,Shopping and Sales
ATTACH;FMTTYPE=image/jpeg:https://visitmanzanita.org/wp-content/uploads/2023/05/Spring-Rummage-Sale-Pic-5esvlr.tmp_.jpg
END:VEVENT
END:VCALENDAR